{"text_format":"1","workbook":"xlsx","n_sheets":5,"sheets":["Uitleg","Nummer","Blad1","Blad2","Blad3"],"not_rendered":{"charts":0,"images":0,"macros":1,"external_links":0,"defined_names":0,"comments":0,"pivot_tables":0},"unopened":[],"bounds":{"document_bytes":16777216,"sheet_cells":100000,"rows_first":2000,"rows_last":500,"rows_between":2000,"halvings":0,"cell_chars":16384,"cell_head_chars":4096},"cells_cut":0,"cells_raw":0,"read":"whole","date_system":"1900"}

{"sheet":"Uitleg","index":0,"n_rows":11,"n_cols":1,"rows_kept":11,"cut":false,"hidden":false,"merged":[]}
[]
["Indien Juist staat het woord Juist in kolom K."]
["U kan best het woord laten staan (dan weet U wat gedaan is)."]
[]
[]
["Het te zoeken woord staat op Blad2."]
[]
["Met de gegeven letters kan men ook andere woorden vormen,"]
["aan U de keuze.(vanaf kolom AC staan de te zoeken woorden)"]
["Te beginnen vanaf Opgave 214"]
["Veel plezier ermee."]

{"sheet":"Nummer","index":1,"n_rows":31,"n_cols":54,"rows_kept":31,"cut":false,"hidden":false,"merged":[]}
["Nr/","Nr/",null,"Nr","Nr","Nr","Nr","Nr","Nr","Nr","Nr","Nr","Nr","Nr","Nr","Nr","Nr","Nr","Nr","Nr","Nr","Nr","Nr","Nr","Nr","Nr","Nr","Nr","Nr","Nr","Nr","Nr","Nr","Nr","Nr","Nr","Nr","Nr","Nr","Nr","Nr","Nr","Nr","Nr","Nr","Nr","Nr","Nr","Nr","Nr","Nr","Nr","Nr","Nr"]
[1,{"$f":"A2+30","v":31},61,91,121,151,181,{"$f":"G2+30","v":211},{"$f":"H2+30","v":241},{"$f":"I2+30","v":271},{"$f":"J2+30","v":301},{"$f":"K2+30","v":331},{"$f":"L2+30","v":361},{"$f":"M2+30","v":391},{"$f":"N2+30","v":421},{"$f":"O2+30","v":451},{"$f":"P2+30","v":481},{"$f":"Q2+30","v":511},{"$f":"R2+30","v":541},{"$f":"S2+30","v":571},{"$f":"T2+30","v":601},{"$f":"U2+30","v":631},{"$f":"V2+30","v":661},{"$f":"W2+30","v":691},{"$f":"X2+30","v":721},{"$f":"Y2+30","v":751},{"$f":"Z2+30","v":781},{"$f":"AA2+30","v":811},{"$f":"AB2+30","v":841},{"$f":"AC2+30","v":871},{"$f":"AD2+30","v":901},{"$f":"AE2+30","v":931},{"$f":"AF2+30","v":961},{"$f":"AG2+30","v":991},{"$f":"AH2+30","v":1021},{"$f":"AI2+30","v":1051},{"$f":"AJ2+30","v":1081},{"$f":"AK2+30","v":1111},{"$f":"AL2+30","v":1141},{"$f":"AM2+30","v":1171},{"$f":"AN2+30","v":1201},{"$f":"AO2+30","v":1231},{"$f":"AP2+30","v":1261},{"$f":"AQ2+30","v":1291},{"$f":"AR2+30","v":1321},{"$f":"AS2+30","v":1351},{"$f":"AT2+30","v":1381},{"$f":"AU2+30","v":1411},{"$f":"AV2+30","v":1441},{"$f":"AW2+30","v":1471},{"$f":"AX2+30","v":1501},{"$f":"AY2+30","v":1531},{"$f":"AZ2+30","v":1561},1591]
[2,{"$f":"A3+30","v":32},62,92,122,152,182,212]
[3,33,63,93,123,153,183,213]
[4,34,64,94,124,154,184,214]
[5,35,65,95,125,155,185,215]
[6,36,66,96,126,156,186,216]
[7,37,67,97,127,157,187,217]
[8,38,68,98,128,158,188,218]
[9,39,69,99,129,159,189,219]
[10,40,70,100,130,160,190,220]
[11,41,71,101,131,161,191,221]
[12,42,72,102,132,162,192,222]
[13,43,73,103,133,163,193,223]
[14,44,74,104,134,164,194,224]
[15,45,75,105,135,165,195,225]
[16,46,76,106,136,166,196,226]
[17,47,77,107,137,167,197,227]
[18,48,78,108,138,168,198,228]
[19,49,79,109,139,169,199,229]
[20,50,80,110,140,170,200,230]
[21,51,81,111,141,171,201,231]
[22,52,82,112,142,172,202,232]
[23,53,83,113,143,173,203,233]
[24,54,84,114,144,174,204,234]
[25,55,85,115,145,175,205,235]
[26,56,86,116,146,176,206,236]
[27,57,87,117,147,177,207,237]
[28,58,88,118,148,178,208,238]
[29,59,89,119,149,179,209,239]
[30,60,90,120,150,180,210,240]

{"sheet":"Blad1","index":2,"n_rows":304,"n_cols":69,"rows_kept":304,"cut":false,"hidden":false,"merged":[]}
[null,null,1,2,3,4,5,6,7,"Woord"]
["Opgave:",1,"T","U","L","F","E","R","I",null,{"$f":"IF( J2 = \"\", \"\", IF(J2 = Blad2!B2, \"Juist\", \"Niet juist\" ))","v":""}]
["Opgave:",2,"K","M","L","P","E","A","R",null,{"$f":"IF( J3 = \"\", \"\", IF(J3 = Blad2!B3, \"Juist\", \"Niet juist\" ))","v":""}]
["Opgave:",3,"E","M","S","N","R","O","G",null,{"$f":"IF( J4 = \"\", \"\", IF(J4 = Blad2!B4, \"Juist\", \"Niet juist\" ))","v":""}]
["Opgave:",4,"R","D","N","K","E","J","A",null,{"$f":"IF( J5 = \"\", \"\", IF(J5 = Blad2!B5, \"Juist\", \"Niet juist\" ))","v":""}]
["Opgave:",5,"A","S","G","E","V","R","N",null,{"$f":"IF( J6 = \"\", \"\", IF(J6 = Blad2!B6, \"Juist\", \"Niet juist\" ))","v":""}]
["Opgave:",6,"A","K","S","N","D","E","T",null,{"$f":"IF( J7 = \"\", \"\", IF(J7 = Blad2!B7, \"Juist\", \"Niet juist\" ))","v":""}]
["Opgave:",7,"R","S","D","O","L","E","P",null,{"$f":"IF( J8 = \"\", \"\", IF(J8 = Blad2!B8, \"Juist\", \"Niet juist\" ))","v":""}]
["Opgave:",8,"A","L","R","F","T","S","E",null,{"$f":"IF( J9 = \"\", \"\", IF(J9 = Blad2!B9, \"Juist\", \"Niet juist\" ))","v":""}]
["Opgave:",9,"E","P","U","N","I","R","D",null,{"$f":"IF( J10 = \"\", \"\", IF(J10 = Blad2!B10, \"Juist\", \"Niet juist\" ))","v":""}]
["Opgave:",10,"L","S","I","U","P","E","R",null,{"$f":"IF( J11 = \"\", \"\", IF(J11 = Blad2!B11, \"Juist\", \"Niet juist\" ))","v":""}]
["Opgave:",11,"T","I","A","L","R","S","E",null,{"$f":"IF( J12 = \"\", \"\", IF(J12 = Blad2!B12, \"Juist\", \"Niet juist\" ))","v":""}]
["Opgave:",12,"T","A","O","N","R","I","S",null,{"$f":"IF( J13 = \"\", \"\", IF(J13 = Blad2!B13, \"Juist\", \"Niet juist\" ))","v":""}]
["Opgave:",13,"E","L","I","D","A","R","T",null,{"$f":"IF( J14 = \"\", \"\", IF(J14 = Blad2!B14, \"Juist\", \"Niet juist\" ))","v":""}]
["Opgave:",14,"T","A","P","R","H","I","S",null,{"$f":"IF( J15 = \"\", \"\", IF(J15 = Blad2!B15, \"Juist\", \"Niet juist\" ))","v":""}]
["Opgave:",15,"L","T","B","U","E","I","S",null,{"$f":"IF( J16 = \"\", \"\", IF(J16 = Blad2!B16, \"Juist\", \"Niet juist\" ))","v":""}]
["Opgave:",16,"I","O","T","E","N","R","U",null,{"$f":"IF( J17 = \"\", \"\", IF(J17 = Blad2!B17, \"Juist\", \"Niet juist\" ))","v":""}]
["Opgave:",17,"O","N","L","G","V","E","D",null,{"$f":"IF( J18 = \"\", \"\", IF(J18 = Blad2!B18, \"Juist\", \"Niet juist\" ))","v":""}]
["Opgave:",18,"E","O","G","I","N","V","L",null,{"$f":"IF( J19 = \"\", \"\", IF(J19 = Blad2!B19, \"Juist\", \"Niet juist\" ))","v":""}]
["Opgave:",19,"E","A","R","M","T","O","N",null,{"$f":"IF( J20 = \"\", \"\", IF(J20 = Blad2!B20, \"Juist\", \"Niet juist\" ))","v":""}]
["Opgave:",20,"K","S","T","O","G","R","E",null,{"$f":"IF( J21 = \"\", \"\", IF(J21 = Blad2!B21, \"Juist\", \"Niet juist\" ))","v":""}]
["Opgave:",21,"S","K","I","T","E","J","R",null,{"$f":"IF( J22 = \"\", \"\", IF(J22 = Blad2!B22, \"Juist\", \"Niet juist\" ))","v":""}]
["Opgave:",22,"E","K","N","O","R","I","P",null,{"$f":"IF( J23 = \"\", \"\", IF(J23 = Blad2!B23, \"Juist\", \"Niet juist\" ))","v":""}]
["Opgave:",23,"T","P","A","I","E","R","B",null,{"$f":"IF( J24 = \"\", \"\", IF(J24 = Blad2!B24, \"Juist\", \"Niet juist\" ))","v":""}]
["Opgave:",24,"N","T","S","E","R","O","K",null,{"$f":"IF( J25 = \"\", \"\", IF(J25 = Blad2!B25, \"Juist\", \"Niet juist\" ))","v":""}]
["Opgave:",25,"A","T","K","G","L","E","S",null,{"$f":"IF( J26 = \"\", \"\", IF(J26 = Blad2!B26, \"Juist\", \"Niet juist\" ))","v":""}]
["Opgave:",26,"S","M","I","T","E","P","A",null,{"$f":"IF( J27 = \"\", \"\", IF(J27 = Blad2!B27, \"Juist\", \"Niet juist\" ))","v":""}]
["Opgave:",27,"E","O","I","G","V","D","R",null,{"$f":"IF( J28 = \"\", \"\", IF(J28 = Blad2!B28, \"Juist\", \"Niet juist\" ))","v":""}]
["Opgave:",28,"R","N","K","D","B","A","E",null,{"$f":"IF( J29 = \"\", \"\", IF(J29 = Blad2!B29, \"Juist\", \"Niet juist\" ))","v":""}]
["Opgave:",29,"T","E","P","O","S","K","M",null,{"$f":"IF( J30 = \"\", \"\", IF(J30 = Blad2!B30, \"Juist\", \"Niet juist\" ))","v":""}]
["Opgave:",30,"R","N","E","S","T","O","D",null,{"$f":"IF( J31 = \"\", \"\", IF(J31 = Blad2!B31, \"Juist\", \"Niet juist\" ))","v":""}]
["Opgave:",31,"A","N","E","R","W","F","D",null,{"$f":"IF( J32 = \"\", \"\", IF(J32 = Blad2!B32, \"Juist\", \"Niet juist\" ))","v":""}]
["Opgave:",32,"R","K","T","M","S","Z","A",null,{"$f":"IF( J33 = \"\", \"\", IF(J33 = Blad2!B33, \"Juist\", \"Niet juist\" ))","v":""}]
["Opgave:",33,"R","S","I","P","M","U","E",null,{"$f":"IF( J34 = \"\", \"\", IF(J34 = Blad2!B34, \"Juist\", \"Niet juist\" ))","v":""}]
["Opgave:",34,"T","N","U","R","I","D","E",null,{"$f":"IF( J35 = \"\", \"\", IF(J35 = Blad2!B35, \"Juist\", \"Niet juist\" ))","v":""}]
["Opgave:",35,"S","P","I","T","H","R","E",null,{"$f":"IF( J36 = \"\", \"\", IF(J36 = Blad2!B36, \"Juist\", \"Niet juist\" ))","v":""}]
["Opgave:",36,"S","T","L","K","N","E","U",null,{"$f":"IF( J37 = \"\", \"\", IF(J37 = Blad2!B37, \"Juist\", \"Niet juist\" ))","v":""}]
["Opgave:",37,"E","K","W","G","R","I","N",null,{"$f":"IF( J38 = \"\", \"\", IF(J38 = Blad2!B38, \"Juist\", \"Niet juist\" ))","v":""}]
["Opgave:",38,"S","R","A","T","I","L","K",null,{"$f":"IF( J39 = \"\", \"\", IF(J39 = Blad2!B39, \"Juist\", \"Niet juist\" ))","v":""}]
["Opgave:",39,"E","U","I","N","R","V","S",null,{"$f":"IF( J40 = \"\", \"\", IF(J40 = Blad2!B40, \"Juist\", \"Niet juist\" ))","v":""}]
["Opgave:",40,"A","N","E","T","S","G","P",null,{"$f":"IF( J41 = \"\", \"\", IF(J41 = Blad2!B41, \"Juist\", \"Niet juist\" ))","v":""}]
["Opgave:",41,"R","L","I","T","A","K","E",null,{"$f":"IF( J42 = \"\", \"\", IF(J42 = Blad2!B42, \"Juist\", \"Niet juist\" ))","v":""}]
["Opgave:",42,"I","S","G","N","R","L","E",null,{"$f":"IF( J43 = \"\", \"\", IF(J43 = Blad2!B43, \"Juist\", \"Niet juist\" ))","v":""}]
["Opgave:",43,"A","D","E","W","N","L","G",null,{"$f":"IF( J44 = \"\", \"\", IF(J44 = Blad2!B44, \"Juist\", \"Niet juist\" ))","v":""}]
["Opgave:",44,"S","R","B","A","N","T","E",null,{"$f":"IF( J45 = \"\", \"\", IF(J45 = Blad2!B45, \"Juist\", \"Niet juist\" ))","v":""}]
["Opgave:",45,"E","G","I","R","O","P","N",null,{"$f":"IF( J46 = \"\", \"\", IF(J46 = Blad2!B46, \"Juist\", \"Niet juist\" ))","v":""}]
["Opgave:",46,"R","S","E","O","N","A","T",null,{"$f":"IF( J47 = \"\", \"\", IF(J47 = Blad2!B47, \"Juist\", \"Niet juist\" ))","v":""}]
["Opgave:",47,"E","S","O","B","L","R","T",null,{"$f":"IF( J48 = \"\", \"\", IF(J48 = Blad2!B48, \"Juist\", \"Niet juist\" ))","v":""}]
["Opgave:",48,"E","O","I","R","M","S","N",null,{"$f":"IF( J49 = \"\", \"\", IF(J49 = Blad2!B49, \"Juist\", \"Niet juist\" ))","v":""}]
["Opgave:",49,"I","G","D","N","R","B","E",null,{"$f":"IF( J50 = \"\", \"\", IF(J50 = Blad2!B50, \"Juist\", \"Niet juist\" ))","v":""}]
["Opgave:",50,"E","L","O","M","B","R","K",null,{"$f":"IF( J51 = \"\", \"\", IF(J51 = Blad2!B51, \"Juist\", \"Niet juist\" ))","v":""}]
["Opgave:",51,"S","L","E","R","B","P","O",null,{"$f":"IF( J52 = \"\", \"\", IF(J52 = Blad2!B52, \"Juist\", \"Niet juist\" ))","v":""}]
["Opgave:",52,"A","N","D","E","L","K","B",null,{"$f":"IF( J53 = \"\", \"\", IF(J53 = Blad2!B53, \"Juist\", \"Niet juist\" ))","v":""}]
["Opgave:",53,"S","I","R","T","E","M","V",null,{"$f":"IF( J54 = \"\", \"\", IF(J54 = Blad2!B54, \"Juist\", \"Niet juist\" ))","v":""}]
["Opgave:",54,"I","U","R","K","B","S","T",null,{"$f":"IF( J55 = \"\", \"\", IF(J55 = Blad2!B55, \"Juist\", \"Niet juist\" ))","v":""}]
["Opgave:",55,"N","R","D","E","T","A","O",null,{"$f":"IF( J56 = \"\", \"\", IF(J56 = Blad2!B56, \"Juist\", \"Niet juist\" ))","v":""}]
["Opgave:",56,"N","E","I","K","S","U","R",null,{"$f":"IF( J57 = \"\", \"\", IF(J57 = Blad2!B57, \"Juist\", \"Niet juist\" ))","v":""}]
["Opgave:",57,"T","S","I","M","K","A","E",null,{"$f":"IF( J58 = \"\", \"\", IF(J58 = Blad2!B58, \"Juist\", \"Niet juist\" ))","v":""}]
["Opgave:",58,"O","D","T","R","E","S","K",null,{"$f":"IF( J59 = \"\", \"\", IF(J59 = Blad2!B59, \"Juist\", \"Niet juist\" ))","v":""}]
["Opgave:",59,"E","P","T","R","I","O","K",null,{"$f":"IF( J60 = \"\", \"\", IF(J60 = Blad2!B60, \"Juist\", \"Niet juist\" ))","v":""}]
["Opgave:",60,"R","O","V","K","B","E","A",null,{"$f":"IF( J61 = \"\", \"\", IF(J61 = Blad2!B61, \"Juist\", \"Niet juist\" ))","v":""}]
["Opgave:",61,"S","P","O","A","L","T","E",null,{"$f":"IF( J62 = \"\", \"\", IF(J62 = Blad2!B62, \"Juist\", \"Niet juist\" ))","v":""}]
["Opgave:",62,"T","F","L","E","I","U","S",null,{"$f":"IF( J63 = \"\", \"\", IF(J63 = Blad2!B63, \"Juist\", \"Niet juist\" ))","v":""}]
["Opgave:",63,"A","E","L","N","S","P","G",null,{"$f":"IF( J64 = \"\", \"\", IF(J64 = Blad2!B64, \"Juist\", \"Niet juist\" ))","v":""}]
["Opgave:",64,"R","I","S","L","U","T","E",null,{"$f":"IF( J65 = \"\", \"\", IF(J65 = Blad2!B65, \"Juist\", \"Niet juist\" ))","v":""}]
["Opgave:",65,"K","N","A","L","P","E","I",null,{"$f":"IF( J66 = \"\", \"\", IF(J66 = Blad2!B66, \"Juist\", \"Niet juist\" ))","v":""}]
["Opgave:",66,"T","I","F","N","U","L","E",null,{"$f":"IF( J67 = \"\", \"\", IF(J67 = Blad2!B67, \"Juist\", \"Niet juist\" ))","v":""}]
["Opgave:",67,"I","B","E","N","R","U","S",null,{"$f":"IF( J68 = \"\", \"\", IF(J68 = Blad2!B68, \"Juist\", \"Niet juist\" ))","v":""}]
["Opgave:",68,"E","O","P","I","R","D","K",null,{"$f":"IF( J69 = \"\", \"\", IF(J69 = Blad2!B69, \"Juist\", \"Niet juist\" ))","v":""}]
["Opgave:",69,"E","T","I","L","N","F","S",null,{"$f":"IF( J70 = \"\", \"\", IF(J70 = Blad2!B70, \"Juist\", \"Niet juist\" ))","v":""}]
["Opgave:",70,"R","K","A","I","E","B","N",null,{"$f":"IF( J71 = \"\", \"\", IF(J71 = Blad2!B71, \"Juist\", \"Niet juist\" ))","v":""}]
["Opgave:",71,"A","T","N","P","E","L","R",null,{"$f":"IF( J72 = \"\", \"\", IF(J72 = Blad2!B72, \"Juist\", \"Niet juist\" ))","v":""}]
["Opgave:",72,"N","E","R","T","I","S","G",null,{"$f":"IF( J73 = \"\", \"\", IF(J73 = Blad2!B73, \"Juist\", \"Niet juist\" ))","v":""}]
["Opgave:",73,"E","K","M","U","I","L","R",null,{"$f":"IF( J74 = \"\", \"\", IF(J74 = Blad2!B74, \"Juist\", \"Niet juist\" ))","v":""}]
["Opgave:",74,"O","T","L","E","R","H","S",null,{"$f":"IF( J75 = \"\", \"\", IF(J75 = Blad2!B75, \"Juist\", \"Niet juist\" ))","v":""}]
["Opgave:",75,"R","I","K","B","A","E","O",null,{"$f":"IF( J76 = \"\", \"\", IF(J76 = Blad2!B76, \"Juist\", \"Niet juist\" ))","v":""}]
["Opgave:",76,"R","S","V","O","K","T","E",null,{"$f":"IF( J77 = \"\", \"\", IF(J77 = Blad2!B77, \"Juist\", \"Niet juist\" ))","v":""}]
["Opgave:",77,"E","N","L","O","R","D","G",null,{"$f":"IF( J78 = \"\", \"\", IF(J78 = Blad2!B78, \"Juist\", \"Niet juist\" ))","v":""}]
["Opgave:",78,"N","T","R","I","E","S","U",null,{"$f":"IF( J79 = \"\", \"\", IF(J79 = Blad2!B79, \"Juist\", \"Niet juist\" ))","v":""}]
["Opgave:",79,"L","P","S","N","O","K","E",null,{"$f":"IF( J80 = \"\", \"\", IF(J80 = Blad2!B80, \"Juist\", \"Niet juist\" ))","v":""}]
["Opgave:",80,"R","E","A","I","T","G","S",null,{"$f":"IF( J81 = \"\", \"\", IF(J81 = Blad2!B81, \"Juist\", \"Niet juist\" ))","v":""}]
["Opgave:",81,"A","T","E","S","G","L","D",null,{"$f":"IF( J82 = \"\", \"\", IF(J82 = Blad2!B82, \"Juist\", \"Niet juist\" ))","v":""}]
["Opgave:",82,"P","I","S","R","O","E","L",null,{"$f":"IF( J83 = \"\", \"\", IF(J83 = Blad2!B83, \"Juist\", \"Niet juist\" ))","v":""}]
["Opgave:",83,"A","K","T","O","S","L","R",null,{"$f":"IF( J84 = \"\", \"\", IF(J84 = Blad2!B84, \"Juist\", \"Niet juist\" ))","v":""}]
["Opgave:",84,"O","R","T","S","A","M","E",null,{"$f":"IF( J85 = \"\", \"\", IF(J85 = Blad2!B85, \"Juist\", \"Niet juist\" ))","v":""}]
["Opgave:",85,"S","O","E","K","U","T","N",null,{"$f":"IF( J86 = \"\", \"\", IF(J86 = Blad2!B86, \"Juist\", \"Niet juist\" ))","v":""}]
["Opgave:",86,"E","V","I","O","S","B","R",null,{"$f":"IF( J87 = \"\", \"\", IF(J87 = Blad2!B87, \"Juist\", \"Niet juist\" ))","v":""}]
["Opgave:",87,"O","N","G","L","I","D","E",null,{"$f":"IF( J88 = \"\", \"\", IF(J88 = Blad2!B88, \"Juist\", \"Niet juist\" ))","v":""}]
["Opgave:",88,"I","N","E","K","D","L","G",null,{"$f":"IF( J89 = \"\", \"\", IF(J89 = Blad2!B89, \"Juist\", \"Niet juist\" ))","v":""}]
["Opgave:",89,"I","P","S","R","U","T","E",null,{"$f":"IF( J90 = \"\", \"\", IF(J90 = Blad2!B90, \"Juist\", \"Niet juist\" ))","v":""}]
["Opgave:",90,"K","E","N","A","M","O","R",null,{"$f":"IF( J91 = \"\", \"\", IF(J91 = Blad2!B91, \"Juist\", \"Niet juist\" ))","v":""}]
["Opgave:",91,"E","N","O","L","D","V","I",null,{"$f":"IF( J92 = \"\", \"\", IF(J92 = Blad2!B92, \"Juist\", \"Niet juist\" ))","v":""}]
["Opgave:",92,"A","E","S","D","N","M","L",null,{"$f":"IF( J93 = \"\", \"\", IF(J93 = Blad2!B93, \"Juist\", \"Niet juist\" ))","v":""}]
["Opgave:",93,"L","S","I","E","B","O","K",null,{"$f":"IF( J94 = \"\", \"\", IF(J94 = Blad2!B94, \"Juist\", \"Niet juist\" ))","v":""}]
["Opgave:",94,"E","T","A","R","I","P","K",null,{"$f":"IF( J95 = \"\", \"\", IF(J95 = Blad2!B95, \"Juist\", \"Niet juist\" ))","v":""}]
["Opgave:",95,"S","L","G","E","T","O","P",null,{"$f":"IF( J96 = \"\", \"\", IF(J96 = Blad2!B96, \"Juist\", \"Niet juist\" ))","v":""}]
["Opgave:",96,"T","A","E","B","S","R","K",null,{"$f":"IF( J97 = \"\", \"\", IF(J97 = Blad2!B97, \"Juist\", \"Niet juist\" ))","v":""}]
["Opgave:",97,"K","T","O","A","N","R","E",null,{"$f":"IF( J98 = \"\", \"\", IF(J98 = Blad2!B98, \"Juist\", \"Niet juist\" ))","v":""}]
["Opgave:",98,"L","E","I","O","T","U","S",null,{"$f":"IF( J99 = \"\", \"\", IF(J99 = Blad2!B99, \"Juist\", \"Niet juist\" ))","v":""}]
["Opgave:",99,"R","M","A","K","B","G","E",null,{"$f":"IF( J100 = \"\", \"\", IF(J100 = Blad2!B100, \"Juist\", \"Niet juist\" ))","v":""}]
["Opgave:",100,"N","E","S","R","I","T","W",null,{"$f":"IF( J101 = \"\", \"\", IF(J101 = Blad2!B101, \"Juist\", \"Niet juist\" ))","v":""}]
["Opgave:",101,"A","L","E","D","G","N","K",null,{"$f":"IF( J102 = \"\", \"\", IF(J102 = Blad2!B102, \"Juist\", \"Niet juist\" ))","v":""}]
["Opgave:",102,"I","P","E","G","O","T","R",null,{"$f":"IF( J103 = \"\", \"\", IF(J103 = Blad2!B103, \"Juist\", \"Niet juist\" ))","v":""}]
["Opgave:",103,"E","D","T","S","U","I","R",null,{"$f":"IF( J104 = \"\", \"\", IF(J104 = Blad2!B104, \"Juist\", \"Niet juist\" ))","v":""}]
["Opgave:",104,"E","S","I","P","K","L","N",null,{"$f":"IF( J105 = \"\", \"\", IF(J105 = Blad2!B105, \"Juist\", \"Niet juist\" ))","v":""}]
["Opgave:",105,"E","F","R","B","I","S","O",null,{"$f":"IF( J106 = \"\", \"\", IF(J106 = Blad2!B106, \"Juist\", \"Niet juist\" ))","v":""}]
["Opgave:",106,"E","M","L","T","I","S","F",null,{"$f":"IF( J107 = \"\", \"\", IF(J107 = Blad2!B107, \"Juist\", \"Niet juist\" ))","v":""}]
["Opgave:",107,"A","N","T","L","S","E","R",null,{"$f":"IF( J108 = \"\", \"\", IF(J108 = Blad2!B108, \"Juist\", \"Niet juist\" ))","v":""}]
["Opgave:",108,"R","S","T","E","A","P","N",null,{"$f":"IF( J109 = \"\", \"\", IF(J109 = Blad2!B109, \"Juist\", \"Niet juist\" ))","v":""}]
["Opgave:",109,"T","L","U","E","R","I","S",null,{"$f":"IF( J110 = \"\", \"\", IF(J110 = Blad2!B110, \"Juist\", \"Niet juist\" ))","v":""}]
["Opgave:",110,"K","R","N","O","L","A","E",null,{"$f":"IF( J111 = \"\", \"\", IF(J111 = Blad2!B111, \"Juist\", \"Niet juist\" ))","v":""}]
["Opgave:",111,"R","N","I","U","F","T","E",null,{"$f":"IF( J112 = \"\", \"\", IF(J112 = Blad2!B112, \"Juist\", \"Niet juist\" ))","v":""}]
["Opgave:",112,"E","T","S","O","N","P","M",null,{"$f":"IF( J113 = \"\", \"\", IF(J113 = Blad2!B113, \"Juist\", \"Niet juist\" ))","v":""}]
["Opgave:",113,"R","A","E","F","I","B","K",null,{"$f":"IF( J114 = \"\", \"\", IF(J114 = Blad2!B114, \"Juist\", \"Niet juist\" ))","v":""}]
["Opgave:",114,"R","E","N","A","M","I","T",null,{"$f":"IF( J115 = \"\", \"\", IF(J115 = Blad2!B115, \"Juist\", \"Niet juist\" ))","v":""}]
["Opgave:",115,"K","A","S","I","E","R","M",null,{"$f":"IF( J116 = \"\", \"\", IF(J116 = Blad2!B116, \"Juist\", \"Niet juist\" ))","v":""}]
["Opgave:",116,"A","E","I","L","D","N","G",null,{"$f":"IF( J117 = \"\", \"\", IF(J117 = Blad2!B117, \"Juist\", \"Niet juist\" ))","v":""}]
["Opgave:",117,"R","I","N","G","E","U","Z",null,{"$f":"IF( J118 = \"\", \"\", IF(J118 = Blad2!B118, \"Juist\", \"Niet juist\" ))","v":""}]
["Opgave:",118,"R","K","I","N","E","U","Z",null,{"$f":"IF( J119 = \"\", \"\", IF(J119 = Blad2!B119, \"Juist\", \"Niet juist\" ))","v":""}]
["Opgave:",119,"E","G","I","R","P","S","N",null,{"$f":"IF( J120 = \"\", \"\", IF(J120 = Blad2!B120, \"Juist\", \"Niet juist\" ))","v":""}]
["Opgave:",120,"M","E","R","A","S","T","P",null,{"$f":"IF( J121 = \"\", \"\", IF(J121 = Blad2!B121, \"Juist\", \"Niet juist\" ))","v":""}]
["Opgave:",121,"E","U","R","B","I","N","K",null,{"$f":"IF( J122 = \"\", \"\", IF(J122 = Blad2!B122, \"Juist\", \"Niet juist\" ))","v":""}]
["Opgave:",122,"R","N","D","G","S","E","O",null,{"$f":"IF( J123 = \"\", \"\", IF(J123 = Blad2!B123, \"Juist\", \"Niet juist\" ))","v":""}]
["Opgave:",123,"S","M","T","A","I","L","R",null,{"$f":"IF( J124 = \"\", \"\", IF(J124 = Blad2!B124, \"Juist\", \"Niet juist\" ))","v":""}]
["Opgave:",124,"I","U","R","P","N","L","E",null,{"$f":"IF( J125 = \"\", \"\", IF(J125 = Blad2!B125, \"Juist\", \"Niet juist\" ))","v":""}]
["Opgave:",125,"S","R","A","N","M","O","T",null,{"$f":"IF( J126 = \"\", \"\", IF(J126 = Blad2!B126, \"Juist\", \"Niet juist\" ))","v":""}]
["Opgave:",126,"E","T","D","O","P","S","K",null,{"$f":"IF( J127 = \"\", \"\", IF(J127 = Blad2!B127, \"Juist\", \"Niet juist\" ))","v":""}]
["Opgave:",127,"E","A","S","T","R","L","K",null,{"$f":"IF( J128 = \"\", \"\", IF(J128 = Blad2!B128, \"Juist\", \"Niet juist\" ))","v":""}]
["Opgave:",128,"E","I","N","K","R","U","P",null,{"$f":"IF( J129 = \"\", \"\", IF(J129 = Blad2!B129, \"Juist\", \"Niet juist\" ))","v":""}]
["Opgave:",129,"S","N","L","U","E","I","P",null,{"$f":"IF( J130 = \"\", \"\", IF(J130 = Blad2!B130, \"Juist\", \"Niet juist\" ))","v":""}]
["Opgave:",130,"L","N","A","E","V","G","O",null,{"$f":"IF( J131 = \"\", \"\", IF(J131 = Blad2!B131, \"Juist\", \"Niet juist\" ))","v":""}]
["Opgave:",131,"E","R","D","I","T","A","K",null,{"$f":"IF( J132 = \"\", \"\", IF(J132 = Blad2!B132, \"Juist\", \"Niet juist\" ))","v":""}]
["Opgave:",132,"T","A","U","G","E","N","S",null,{"$f":"IF( J133 = \"\", \"\", IF(J133 = Blad2!B133, \"Juist\", \"Niet juist\" ))","v":""}]
["Opgave:",133,"A","O","L","G","E","S","T",null,{"$f":"IF( J134 = \"\", \"\", IF(J134 = Blad2!B134, \"Juist\", \"Niet juist\" ))","v":""}]
["Opgave:",134,"B","T","E","A","K","O","R",null,{"$f":"IF( J135 = \"\", \"\", IF(J135 = Blad2!B135, \"Juist\", \"Niet juist\" ))","v":""}]
["Opgave:",135,"T","R","S","N","M","O","E",null,{"$f":"IF( J136 = \"\", \"\", IF(J136 = Blad2!B136, \"Juist\", \"Niet juist\" ))","v":""}]
["Opgave:",136,"E","R","O","N","T","M","U",null,{"$f":"IF( J137 = \"\", \"\", IF(J137 = Blad2!B137, \"Juist\", \"Niet juist\" ))","v":""}]
["Opgave:",137,"P","L","N","O","T","S","I",null,{"$f":"IF( J138 = \"\", \"\", IF(J138 = Blad2!B138, \"Juist\", \"Niet juist\" ))","v":""}]
["Opgave:",138,"R","K","G","I","U","E","N",null,{"$f":"IF( J139 = \"\", \"\", IF(J139 = Blad2!B139, \"Juist\", \"Niet juist\" ))","v":""}]
["Opgave:",139,"R","N","S","I","E","A","D",null,{"$f":"IF( J140 = \"\", \"\", IF(J140 = Blad2!B140, \"Juist\", \"Niet juist\" ))","v":""}]
["Opgave:",140,"S","N","T","P","E","U","R",null,{"$f":"IF( J141 = \"\", \"\", IF(J141 = Blad2!B141, \"Juist\", \"Niet juist\" ))","v":""}]
["Opgave:",141,"R","M","A","V","O","E","N",null,{"$f":"IF( J142 = \"\", \"\", IF(J142 = Blad2!B142, \"Juist\", \"Niet juist\" ))","v":""}]
["Opgave:",142,"S","O","D","R","T","E","B",null,{"$f":"IF( J143 = \"\", \"\", IF(J143 = Blad2!B143, \"Juist\", \"Niet juist\" ))","v":""}]
["Opgave:",143,"E","M","O","K","D","R","G",null,{"$f":"IF( J144 = \"\", \"\", IF(J144 = Blad2!B144, \"Juist\", \"Niet juist\" ))","v":""}]
["Opgave:",144,"T","E","N","A","P","U","I",null,{"$f":"IF( J145 = \"\", \"\", IF(J145 = Blad2!B145, \"Juist\", \"Niet juist\" ))","v":""}]
["Opgave:",145,"R","A","W","E","N","K","D",null,{"$f":"IF( J146 = \"\", \"\", IF(J146 = Blad2!B146, \"Juist\", \"Niet juist\" ))","v":""}]
["Opgave:",146,"E","T","M","N","A","G","I",null,{"$f":"IF( J147 = \"\", \"\", IF(J147 = Blad2!B147, \"Juist\", \"Niet juist\" ))","v":""}]
["Opgave:",147,"S","U","N","E","K","L","T",null,{"$f":"IF( J148 = \"\", \"\", IF(J148 = Blad2!B148, \"Juist\", \"Niet juist\" ))","v":""}]
["Opgave:",148,"A","G","T","K","L","E","S",null,{"$f":"IF( J149 = \"\", \"\", IF(J149 = Blad2!B149, \"Juist\", \"Niet juist\" ))","v":""}]
["Opgave:",149,"E","U","I","T","S","L","B",null,{"$f":"IF( J150 = \"\", \"\", IF(J150 = Blad2!B150, \"Juist\", \"Niet juist\" ))","v":""}]
["Opgave:",150,"E","K","S","I","T","R","C",null,{"$f":"IF( J151 = \"\", \"\", IF(J151 = Blad2!B151, \"Juist\", \"Niet juist\" ))","v":""}]
["Opgave:",151,"T","V","E","N","S","U","I",null,{"$f":"IF( J152 = \"\", \"\", IF(J152 = Blad2!B152, \"Juist\", \"Niet juist\" ))","v":""}]
["Opgave:",152,"E","V","O","G","I","N","R",null,{"$f":"IF( J153 = \"\", \"\", IF(J153 = Blad2!B153, \"Juist\", \"Niet juist\" ))","v":""}]
["Opgave:",153,"S","D","O","T","R","A","K",null,{"$f":"IF( J154 = \"\", \"\", IF(J154 = Blad2!B154, \"Juist\", \"Niet juist\" ))","v":""}]
["Opgave:",154,"E","S","N","K","A","P","L",null,{"$f":"IF( J155 = \"\", \"\", IF(J155 = Blad2!B155, \"Juist\", \"Niet juist\" ))","v":""}]
["Opgave:",155,"A","E","S","L","P","M","D",null,{"$f":"IF( J156 = \"\", \"\", IF(J156 = Blad2!B156, \"Juist\", \"Niet juist\" ))","v":""}]
["Opgave:",156,"R","P","K","T","E","A","H",null,{"$f":"IF( J157 = \"\", \"\", IF(J157 = Blad2!B157, \"Juist\", \"Niet juist\" ))","v":""}]
["Opgave:",157,"E","I","V","O","R","G","D",null,{"$f":"IF( J158 = \"\", \"\", IF(J158 = Blad2!B158, \"Juist\", \"Niet juist\" ))","v":""}]
["Opgave:",158,"S","O","R","E","N","D","T",null,{"$f":"IF( J159 = \"\", \"\", IF(J159 = Blad2!B159, \"Juist\", \"Niet juist\" ))","v":""}]
["Opgave:",159,"S","B","N","I","E","R","O",null,{"$f":"IF( J160 = \"\", \"\", IF(J160 = Blad2!B160, \"Juist\", \"Niet juist\" ))","v":""}]
["Opgave:",160,"G","R","E","S","L","N","A",null,{"$f":"IF( J161 = \"\", \"\", IF(J161 = Blad2!B161, \"Juist\", \"Niet juist\" ))","v":""}]
["Opgave:",161,"E","V","D","G","I","R","N",null,{"$f":"IF( J162 = \"\", \"\", IF(J162 = Blad2!B162, \"Juist\", \"Niet juist\" ))","v":""}]
["Opgave:",162,"D","E","A","N","M","O","L",null,{"$f":"IF( J163 = \"\", \"\", IF(J163 = Blad2!B163, \"Juist\", \"Niet juist\" ))","v":""}]
["Opgave:",163,"E","G","T","I","R","N","A",null,{"$f":"IF( J164 = \"\", \"\", IF(J164 = Blad2!B164, \"Juist\", \"Niet juist\" ))","v":""}]
["Opgave:",164,"U","R","I","T","E","B","N",null,{"$f":"IF( J165 = \"\", \"\", IF(J165 = Blad2!B165, \"Juist\", \"Niet juist\" ))","v":""}]
["Opgave:",165,"E","L","T","S","R","I","A",null,{"$f":"IF( J166 = \"\", \"\", IF(J166 = Blad2!B166, \"Juist\", \"Niet juist\" ))","v":""}]
["Opgave:",166,"R","G","E","U","T","I","P",null,{"$f":"IF( J167 = \"\", \"\", IF(J167 = Blad2!B167, \"Juist\", \"Niet juist\" ))","v":""}]
["Opgave:",167,"L","A","B","E","P","K","S",null,{"$f":"IF( J168 = \"\", \"\", IF(J168 = Blad2!B168, \"Juist\", \"Niet juist\" ))","v":""}]
["Opgave:",168,"P","T","O","N","E","R","S",null,{"$f":"IF( J169 = \"\", \"\", IF(J169 = Blad2!B169, \"Juist\", \"Niet juist\" ))","v":""}]
["Opgave:",169,"A","G","E","L","N","W","D",null,{"$f":"IF( J170 = \"\", \"\", IF(J170 = Blad2!B170, \"Juist\", \"Niet juist\" ))","v":""}]
["Opgave:",170,"S","T","L","F","R","E","I",null,{"$f":"IF( J171 = \"\", \"\", IF(J171 = Blad2!B171, \"Juist\", \"Niet juist\" ))","v":""}]
["Opgave:",171,"S","G","R","E","O","T","I",null,{"$f":"IF( J172 = \"\", \"\", IF(J172 = Blad2!B172, \"Juist\", \"Niet juist\" ))","v":""}]
["Opgave:",172,"R","S","N","B","K","O","A",null,{"$f":"IF( J173 = \"\", \"\", IF(J173 = Blad2!B173, \"Juist\", \"Niet juist\" ))","v":""}]
["Opgave:",173,"T","P","A","N","G","S","E",null,{"$f":"IF( J174 = \"\", \"\", IF(J174 = Blad2!B174, \"Juist\", \"Niet juist\" ))","v":""}]
["Opgave:",174,"E","O","G","R","P","N","I",null,{"$f":"IF( J175 = \"\", \"\", IF(J175 = Blad2!B175, \"Juist\", \"Niet juist\" ))","v":""}]
["Opgave:",175,"T","I","M","P","S","E","A",null,{"$f":"IF( J176 = \"\", \"\", IF(J176 = Blad2!B176, \"Juist\", \"Niet juist\" ))","v":""}]
["Opgave:",176,"T","I","B","S","R","O","N",null,{"$f":"IF( J177 = \"\", \"\", IF(J177 = Blad2!B177, \"Juist\", \"Niet juist\" ))","v":""}]
["Opgave:",177,"E","O","L","F","P","R","I",null,{"$f":"IF( J178 = \"\", \"\", IF(J178 = Blad2!B178, \"Juist\", \"Niet juist\" ))","v":""}]
["Opgave:",178,"T","I","P","R","O","U","E",null,{"$f":"IF( J179 = \"\", \"\", IF(J179 = Blad2!B179, \"Juist\", \"Niet juist\" ))","v":""}]
["Opgave:",179,"E","R","L","T","D","A","I",null,{"$f":"IF( J180 = \"\", \"\", IF(J180 = Blad2!B180, \"Juist\", \"Niet juist\" ))","v":""}]
["Opgave:",180,"K","U","L","T","E","R","S",null,{"$f":"IF( J181 = \"\", \"\", IF(J181 = Blad2!B181, \"Juist\", \"Niet juist\" ))","v":""}]
["Opgave:",181,"A","T","S","R","O","L","K",null,{"$f":"IF( J182 = \"\", \"\", IF(J182 = Blad2!B182, \"Juist\", \"Niet juist\" ))","v":""}]
["Opgave:",182,"T","A","R","H","P","S","I",null,{"$f":"IF( J183 = \"\", \"\", IF(J183 = Blad2!B183, \"Juist\", \"Niet juist\" ))","v":""}]
["Opgave:",183,"T","N","U","G","S","R","I",null,{"$f":"IF( J184 = \"\", \"\", IF(J184 = Blad2!B184, \"Juist\", \"Niet juist\" ))","v":""}]
["Opgave:",184,"T","N","F","S","E","I","L",null,{"$f":"IF( J185 = \"\", \"\", IF(J185 = Blad2!B185, \"Juist\", \"Niet juist\" ))","v":""}]
["Opgave:",185,"S","N","A","G","P","L","E",null,{"$f":"IF( J186 = \"\", \"\", IF(J186 = Blad2!B186, \"Juist\", \"Niet juist\" ))","v":""}]
["Opgave:",186,"E","A","B","M","O","R","G",null,{"$f":"IF( J187 = \"\", \"\", IF(J187 = Blad2!B187, \"Juist\", \"Niet juist\" ))","v":""}]
["Opgave:",187,"I","S","V","R","U","E","N",null,{"$f":"IF( J188 = \"\", \"\", IF(J188 = Blad2!B188, \"Juist\", \"Niet juist\" ))","v":""}]
["Opgave:",188,"E","L","I","O","N","G","B",null,{"$f":"IF( J189 = \"\", \"\", IF(J189 = Blad2!B189, \"Juist\", \"Niet juist\" ))","v":""}]
["Opgave:",189,"E","R","S","T","U","J","I",null,{"$f":"IF( J190 = \"\", \"\", IF(J190 = Blad2!B190, \"Juist\", \"Niet juist\" ))","v":""}]
["Opgave:",190,"E","D","A","N","B","R","K",null,{"$f":"IF( J191 = \"\", \"\", IF(J191 = Blad2!B191, \"Juist\", \"Niet juist\" ))","v":""}]
["Opgave:",191,"S","I","T","E","R","V","M",null,{"$f":"IF( J192 = \"\", \"\", IF(J192 = Blad2!B192, \"Juist\", \"Niet juist\" ))","v":""}]
["Opgave:",192,"S","N","O","G","T","L","A",null,{"$f":"IF( J193 = \"\", \"\", IF(J193 = Blad2!B193, \"Juist\", \"Niet juist\" ))","v":""}]
["Opgave:",193,"E","R","A","K","M","I","L",null,{"$f":"IF( J194 = \"\", \"\", IF(J194 = Blad2!B194, \"Juist\", \"Niet juist\" ))","v":""}]
["Opgave:",194,"S","I","E","T","R","P","H",null,{"$f":"IF( J195 = \"\", \"\", IF(J195 = Blad2!B195, \"Juist\", \"Niet juist\" ))","v":""}]
["Opgave:",195,"I","R","K","S","A","T","N",null,{"$f":"IF( J196 = \"\", \"\", IF(J196 = Blad2!B196, \"Juist\", \"Niet juist\" ))","v":""}]
["Opgave:",196,"R","G","E","A","T","I","F",null,{"$f":"IF( J197 = \"\", \"\", IF(J197 = Blad2!B197, \"Juist\", \"Niet juist\" ))","v":""}]
["Opgave:",197,"E","O","L","S","R","B","P",null,{"$f":"IF( J198 = \"\", \"\", IF(J198 = Blad2!B198, \"Juist\", \"Niet juist\" ))","v":""}]
["Opgave:",198,"A","D","R","G","N","W","E",null,{"$f":"IF( J199 = \"\", \"\", IF(J199 = Blad2!B199, \"Juist\", \"Niet juist\" ))","v":""}]
["Opgave:",199,"E","S","N","L","I","G","R",null,{"$f":"IF( J200 = \"\", \"\", IF(J200 = Blad2!B200, \"Juist\", \"Niet juist\" ))","v":""}]
["Opgave:",200,"E","R","N","M","W","K","A",null,{"$f":"IF( J201 = \"\", \"\", IF(J201 = Blad2!B201, \"Juist\", \"Niet juist\" ))","v":""}]
["Opgave:",201,"R","I","U","D","E","P","N",null,{"$f":"IF( J202 = \"\", \"\", IF(J202 = Blad2!B202, \"Juist\", \"Niet juist\" ))","v":""}]
["Opgave:",202,"O","K","I","P","R","E","T",null,{"$f":"IF( J203 = \"\", \"\", IF(J203 = Blad2!B203, \"Juist\", \"Niet juist\" ))","v":""}]
["Opgave:",203,"T","E","N","L","O","S","K",null,{"$f":"IF( J204 = \"\", \"\", IF(J204 = Blad2!B204, \"Juist\", \"Niet juist\" ))","v":""}]
["Opgave:",204,"E","V","O","D","N","G","L",null,{"$f":"IF( J205 = \"\", \"\", IF(J205 = Blad2!B205, \"Juist\", \"Niet juist\" ))","v":""}]
["Opgave:",205,"S","L","O","R","E","T","B",null,{"$f":"IF( J206 = \"\", \"\", IF(J206 = Blad2!B206, \"Juist\", \"Niet juist\" ))","v":""}]
["Opgave:",206,"I","E","N","M","K","P","R",null,{"$f":"IF( J207 = \"\", \"\", IF(J207 = Blad2!B207, \"Juist\", \"Niet juist\" ))","v":""}]
["Opgave:",207,"T","A","S","N","E","B","R",null,{"$f":"IF( J208 = \"\", \"\", IF(J208 = Blad2!B208, \"Juist\", \"Niet juist\" ))","v":""}]
["Opgave:",208,"R","A","F","O","E","M","N",null,{"$f":"IF( J209 = \"\", \"\", IF(J209 = Blad2!B209, \"Juist\", \"Niet juist\" ))","v":""}]
["Opgave:",209,"A","S","C","T","R","E","H",null,{"$f":"IF( J210 = \"\", \"\", IF(J210 = Blad2!B210, \"Juist\", \"Niet juist\" ))","v":""}]
["Opgave:",210,"K","O","R","S","E","T","G",null,{"$f":"IF( J211 = \"\", \"\", IF(J211 = Blad2!B211, \"Juist\", \"Niet juist\" ))","v":""}]
["Opgave:",211,"N","A","I","E","K","P","L",null,{"$f":"IF( J212 = \"\", \"\", IF(J212 = Blad2!B212, \"Juist\", \"Niet juist\" ))","v":""}]
["Opgave:",212,"R","B","G","A","M","E","K",null,{"$f":"IF( J213 = \"\", \"\", IF(J213 = Blad2!B213, \"Juist\", \"Niet juist\" ))","v":""}]
["Opgave:",213,"O","K","M","R","L","B","E",null,{"$f":"IF( J214 = \"\", \"\", IF(J214 = Blad2!B214, \"Juist\", \"Niet juist\" ))","v":""}]
["Opgave:",214,"E","I","N","S","R","G","T",null,{"$f":"IF( J215 = \"\", \"\", IF(J215 = Blad2!B215, \"Juist\", \"Niet juist\" ))","v":""},{"$f":"IF(K215=\"Juist\",1,\"\")","v":""},"van de",41,"gevonden",null,null,null,null,null,null,null,null,null,null,null,null,null,"enig","erin","ernst","ernstig","erts","geit","gerst","gier","gierst","gisten","grein","grens","griet","iers","iets","nerts","nest","nier","nies","niet","niets","rein","reis","rest","riet","rite","ritsen","sein","sering","sier","sire","site","snert","ster","stern","stier","streng","tien","tier","trein","tres"]
["Opgave:",215,"A","E","L","T","D","S","G",null,{"$f":"IF( J216 = \"\", \"\", IF(J216 = Blad2!B216, \"Juist\", \"Niet juist\" ))","v":""},{"$f":"IF(K216=\"Juist\",1,\"\")","v":""},"van de",23,"gevonden",null,null,null,null,null,null,null,null,null,null,null,null,null,"adel","alge","date","deal","delta","gade","gast","gaste","gate","getal","glad","glas","lade","last","lesdag","sage","slag","stad","stag","stage","stageld","stal","talg"]
["Opgave:",216,"A","O","R","M","S","T","E",null,{"$f":"IF( J217 = \"\", \"\", IF(J217 = Blad2!B217, \"Juist\", \"Niet juist\" ))","v":""},"","van de",25,"gevonden",null,null,null,null,null,null,null,null,null,null,null,null,null,"arme","armoe","arts","asem","aster","maestro","mare","mars","mast","master","mate","matse","moeras","oase","rats","sater","smart","soera","stam","star","stoa","stram","team","tram","trema"]
["Opgave:",217,null,null,null,null,null,null,null,null,{"$f":"IF( J218 = \"\", \"\", IF(J218 = Blad2!B218, \"Juist\", \"Niet juist\" ))","v":""},"","van de",null,"gevonden"]
["Opgave:",218,null,null,null,null,null,null,null,null,{"$f":"IF( J219 = \"\", \"\", IF(J219 = Blad2!B219, \"Juist\", \"Niet juist\" ))","v":""},"","van de",null,"gevonden"]
["Opgave:",219,null,null,null,null,null,null,null,null,{"$f":"IF( J220 = \"\", \"\", IF(J220 = Blad2!B220, \"Juist\", \"Niet juist\" ))","v":""},"","van de",null,"gevonden"]
["Opgave:",220,null,null,null,null,null,null,null,null,{"$f":"IF( J221 = \"\", \"\", IF(J221 = Blad2!B221, \"Juist\", \"Niet juist\" ))","v":""},"","van de",null,"gevonden"]
["Opgave:",221,null,null,null,null,null,null,null,null,{"$f":"IF( J222 = \"\", \"\", IF(J222 = Blad2!B222, \"Juist\", \"Niet juist\" ))","v":""},"","van de",null,"gevonden"]
["Opgave:",222,null,null,null,null,null,null,null,null,{"$f":"IF( J223 = \"\", \"\", IF(J223 = Blad2!B223, \"Juist\", \"Niet juist\" ))","v":""},"","van de",null,"gevonden"]
["Opgave:",223,null,null,null,null,null,null,null,null,{"$f":"IF( J224 = \"\", \"\", IF(J224 = Blad2!B224, \"Juist\", \"Niet juist\" ))","v":""},"","van de",null,"gevonden"]
["Opgave:",224,null,null,null,null,null,null,null,null,{"$f":"IF( J225 = \"\", \"\", IF(J225 = Blad2!B225, \"Juist\", \"Niet juist\" ))","v":""},"","van de",null,"gevonden"]
["Opgave:",225,null,null,null,null,null,null,null,null,{"$f":"IF( J226 = \"\", \"\", IF(J226 = Blad2!B226, \"Juist\", \"Niet juist\" ))","v":""},"","van de",null,"gevonden"]
["Opgave:",226,null,null,null,null,null,null,null,null,{"$f":"IF( J227 = \"\", \"\", IF(J227 = Blad2!B227, \"Juist\", \"Niet juist\" ))","v":""},"","van de",null,"gevonden"]
["Opgave:",227,null,null,null,null,null,null,null,null,{"$f":"IF( J228 = \"\", \"\", IF(J228 = Blad2!B228, \"Juist\", \"Niet juist\" ))","v":""},"","van de",null,"gevonden"]
["Opgave:",228,null,null,null,null,null,null,null,null,{"$f":"IF( J229 = \"\", \"\", IF(J229 = Blad2!B229, \"Juist\", \"Niet juist\" ))","v":""},"","van de",null,"gevonden"]
["Opgave:",229,null,null,null,null,null,null,null,null,{"$f":"IF( J230 = \"\", \"\", IF(J230 = Blad2!B230, \"Juist\", \"Niet juist\" ))","v":""},"","van de",null,"gevonden"]
["Opgave:",230,null,null,null,null,null,null,null,null,{"$f":"IF( J231 = \"\", \"\", IF(J231 = Blad2!B231, \"Juist\", \"Niet juist\" ))","v":""},"","van de",null,"gevonden"]
["Opgave:",231,null,null,null,null,null,null,null,null,{"$f":"IF( J232 = \"\", \"\", IF(J232 = Blad2!B232, \"Juist\", \"Niet juist\" ))","v":""},"","van de",null,"gevonden"]
["Opgave:",232,null,null,null,null,null,null,null,null,{"$f":"IF( J233 = \"\", \"\", IF(J233 = Blad2!B233, \"Juist\", \"Niet juist\" ))","v":""},"","van de",null,"gevonden"]
["Opgave:",233,null,null,null,null,null,null,null,null,{"$f":"IF( J234 = \"\", \"\", IF(J234 = Blad2!B234, \"Juist\", \"Niet juist\" ))","v":""},"","van de",null,"gevonden"]
["Opgave:",234,null,null,null,null,null,null,null,null,{"$f":"IF( J235 = \"\", \"\", IF(J235 = Blad2!B235, \"Juist\", \"Niet juist\" ))","v":""},"","van de",null,"gevonden"]
["Opgave:",235,null,null,null,null,null,null,null,null,{"$f":"IF( J236 = \"\", \"\", IF(J236 = Blad2!B236, \"Juist\", \"Niet juist\" ))","v":""},"","van de",null,"gevonden"]
["Opgave:",236,null,null,null,null,null,null,null,null,{"$f":"IF( J237 = \"\", \"\", IF(J237 = Blad2!B237, \"Juist\", \"Niet juist\" ))","v":""},"","van de",null,"gevonden"]
["Opgave:",237,null,null,null,null,null,null,null,null,{"$f":"IF( J238 = \"\", \"\", IF(J238 = Blad2!B238, \"Juist\", \"Niet juist\" ))","v":""},"","van de",null,"gevonden"]
["Opgave:",238,null,null,null,null,null,null,null,null,{"$f":"IF( J239 = \"\", \"\", IF(J239 = Blad2!B239, \"Juist\", \"Niet juist\" ))","v":""},"","van de",null,"gevonden"]
["Opgave:",239,null,null,null,null,null,null,null,null,{"$f":"IF( J240 = \"\", \"\", IF(J240 = Blad2!B240, \"Juist\", \"Niet juist\" ))","v":""},"","van de",null,"gevonden"]
["Opgave:",240,null,null,null,null,null,null,null,null,{"$f":"IF( J241 = \"\", \"\", IF(J241 = Blad2!B241, \"Juist\", \"Niet juist\" ))","v":""},"","van de",null,"gevonden"]
["Opgave:",241,null,null,null,null,null,null,null,null,{"$f":"IF( J242 = \"\", \"\", IF(J242 = Blad2!B242, \"Juist\", \"Niet juist\" ))","v":""},"","van de",null,"gevonden"]
["Opgave:",242,null,null,null,null,null,null,null,null,{"$f":"IF( J243 = \"\", \"\", IF(J243 = Blad2!B243, \"Juist\", \"Niet juist\" ))","v":""},"","van de",null,"gevonden"]
["Opgave:",243,null,null,null,null,null,null,null,null,{"$f":"IF( J244 = \"\", \"\", IF(J244 = Blad2!B244, \"Juist\", \"Niet juist\" ))","v":""},"","van de",null,"gevonden"]
["Opgave:",244,null,null,null,null,null,null,null,null,{"$f":"IF( J245 = \"\", \"\", IF(J245 = Blad2!B245, \"Juist\", \"Niet juist\" ))","v":""},"","van de",null,"gevonden"]
["Opgave:",245,null,null,null,null,null,null,null,null,{"$f":"IF( J246 = \"\", \"\", IF(J246 = Blad2!B246, \"Juist\", \"Niet juist\" ))","v":""},"","van de",null,"gevonden"]
["Opgave:",246,null,null,null,null,null,null,null,null,{"$f":"IF( J247 = \"\", \"\", IF(J247 = Blad2!B247, \"Juist\", \"Niet juist\" ))","v":""},"","van de",null,"gevonden"]
["Opgave:",247,null,null,null,null,null,null,null,null,{"$f":"IF( J248 = \"\", \"\", IF(J248 = Blad2!B248, \"Juist\", \"Niet juist\" ))","v":""},"","van de",null,"gevonden"]
["Opgave:",248,null,null,null,null,null,null,null,null,{"$f":"IF( J249 = \"\", \"\", IF(J249 = Blad2!B249, \"Juist\", \"Niet juist\" ))","v":""},"","van de",null,"gevonden"]
["Opgave:",249,null,null,null,null,null,null,null,null,{"$f":"IF( J250 = \"\", \"\", IF(J250 = Blad2!B250, \"Juist\", \"Niet juist\" ))","v":""},"","van de",null,"gevonden"]
["Opgave:",250,null,null,null,null,null,null,null,null,{"$f":"IF( J251 = \"\", \"\", IF(J251 = Blad2!B251, \"Juist\", \"Niet juist\" ))","v":""},"","van de",null,"gevonden"]
["Opgave:",251,null,null,null,null,null,null,null,null,{"$f":"IF( J252 = \"\", \"\", IF(J252 = Blad2!B252, \"Juist\", \"Niet juist\" ))","v":""},"","van de",null,"gevonden"]
["Opgave:",252,null,null,null,null,null,null,null,null,{"$f":"IF( J253 = \"\", \"\", IF(J253 = Blad2!B253, \"Juist\", \"Niet juist\" ))","v":""},"","van de",null,"gevonden"]
["Opgave:",253,null,null,null,null,null,null,null,null,{"$f":"IF( J254 = \"\", \"\", IF(J254 = Blad2!B254, \"Juist\", \"Niet juist\" ))","v":""},"","van de",null,"gevonden"]
["Opgave:",254,null,null,null,null,null,null,null,null,{"$f":"IF( J255 = \"\", \"\", IF(J255 = Blad2!B255, \"Juist\", \"Niet juist\" ))","v":""},"","van de",null,"gevonden"]
["Opgave:",255,null,null,null,null,null,null,null,null,{"$f":"IF( J256 = \"\", \"\", IF(J256 = Blad2!B256, \"Juist\", \"Niet juist\" ))","v":""},"","van de",null,"gevonden"]
["Opgave:",256,null,null,null,null,null,null,null,null,{"$f":"IF( J257 = \"\", \"\", IF(J257 = Blad2!B257, \"Juist\", \"Niet juist\" ))","v":""},"","van de",null,"gevonden"]
["Opgave:",257,null,null,null,null,null,null,null,null,{"$f":"IF( J258 = \"\", \"\", IF(J258 = Blad2!B258, \"Juist\", \"Niet juist\" ))","v":""},"","van de",null,"gevonden"]
["Opgave:",258,null,null,null,null,null,null,null,null,{"$f":"IF( J259 = \"\", \"\", IF(J259 = Blad2!B259, \"Juist\", \"Niet juist\" ))","v":""},"","van de",null,"gevonden"]
["Opgave:",259,null,null,null,null,null,null,null,null,{"$f":"IF( J260 = \"\", \"\", IF(J260 = Blad2!B260, \"Juist\", \"Niet juist\" ))","v":""},"","van de",null,"gevonden"]
["Opgave:",260,null,null,null,null,null,null,null,null,{"$f":"IF( J261 = \"\", \"\", IF(J261 = Blad2!B261, \"Juist\", \"Niet juist\" ))","v":""},"","van de",null,"gevonden"]
["Opgave:",261,null,null,null,null,null,null,null,null,{"$f":"IF( J262 = \"\", \"\", IF(J262 = Blad2!B262, \"Juist\", \"Niet juist\" ))","v":""},"","van de",null,"gevonden"]
["Opgave:",262,null,null,null,null,null,null,null,null,{"$f":"IF( J263 = \"\", \"\", IF(J263 = Blad2!B263, \"Juist\", \"Niet juist\" ))","v":""},"","van de",null,"gevonden"]
["Opgave:",263,null,null,null,null,null,null,null,null,{"$f":"IF( J264 = \"\", \"\", IF(J264 = Blad2!B264, \"Juist\", \"Niet juist\" ))","v":""},"","van de",null,"gevonden"]
["Opgave:",264,null,null,null,null,null,null,null,null,{"$f":"IF( J265 = \"\", \"\", IF(J265 = Blad2!B265, \"Juist\", \"Niet juist\" ))","v":""},"","van de",null,"gevonden"]
["Opgave:",265,null,null,null,null,null,null,null,null,{"$f":"IF( J266 = \"\", \"\", IF(J266 = Blad2!B266, \"Juist\", \"Niet juist\" ))","v":""},"","van de",null,"gevonden"]
["Opgave:",266,null,null,null,null,null,null,null,null,{"$f":"IF( J267 = \"\", \"\", IF(J267 = Blad2!B267, \"Juist\", \"Niet juist\" ))","v":""},"","van de",null,"gevonden"]
["Opgave:",267,null,null,null,null,null,null,null,null,{"$f":"IF( J268 = \"\", \"\", IF(J268 = Blad2!B268, \"Juist\", \"Niet juist\" ))","v":""},"","van de",null,"gevonden"]
["Opgave:",268,null,null,null,null,null,null,null,null,{"$f":"IF( J269 = \"\", \"\", IF(J269 = Blad2!B269, \"Juist\", \"Niet juist\" ))","v":""},"","van de",null,"gevonden"]
["Opgave:",269,null,null,null,null,null,null,null,null,{"$f":"IF( J270 = \"\", \"\", IF(J270 = Blad2!B270, \"Juist\", \"Niet juist\" ))","v":""},"","van de",null,"gevonden"]
["Opgave:",270,null,null,null,null,null,null,null,null,{"$f":"IF( J271 = \"\", \"\", IF(J271 = Blad2!B271, \"Juist\", \"Niet juist\" ))","v":""},"","van de",null,"gevonden"]
["Opgave:",271,null,null,null,null,null,null,null,null,{"$f":"IF( J272 = \"\", \"\", IF(J272 = Blad2!B272, \"Juist\", \"Niet juist\" ))","v":""},"","van de",null,"gevonden"]
["Opgave:",272,null,null,null,null,null,null,null,null,{"$f":"IF( J273 = \"\", \"\", IF(J273 = Blad2!B273, \"Juist\", \"Niet juist\" ))","v":""},"","van de",null,"gevonden"]
["Opgave:",273,null,null,null,null,null,null,null,null,{"$f":"IF( J274 = \"\", \"\", IF(J274 = Blad2!B274, \"Juist\", \"Niet juist\" ))","v":""},"","van de",null,"gevonden"]
["Opgave:",274,null,null,null,null,null,null,null,null,{"$f":"IF( J275 = \"\", \"\", IF(J275 = Blad2!B275, \"Juist\", \"Niet juist\" ))","v":""},"","van de",null,"gevonden"]
["Opgave:",275,null,null,null,null,null,null,null,null,{"$f":"IF( J276 = \"\", \"\", IF(J276 = Blad2!B276, \"Juist\", \"Niet juist\" ))","v":""},"","van de",null,"gevonden"]
["Opgave:",276,null,null,null,null,null,null,null,null,{"$f":"IF( J277 = \"\", \"\", IF(J277 = Blad2!B277, \"Juist\", \"Niet juist\" ))","v":""},"","van de",null,"gevonden"]
["Opgave:",277,null,null,null,null,null,null,null,null,{"$f":"IF( J278 = \"\", \"\", IF(J278 = Blad2!B278, \"Juist\", \"Niet juist\" ))","v":""},"","van de",null,"gevonden"]
["Opgave:",278,null,null,null,null,null,null,null,null,{"$f":"IF( J279 = \"\", \"\", IF(J279 = Blad2!B279, \"Juist\", \"Niet juist\" ))","v":""},"","van de",null,"gevonden"]
["Opgave:",279,null,null,null,null,null,null,null,null,{"$f":"IF( J280 = \"\", \"\", IF(J280 = Blad2!B280, \"Juist\", \"Niet juist\" ))","v":""},{"$f":"IF(K280=\"Juist\",1,\"\")","v":""},"van de",null,"gevonden"]
["Opgave:",280,null,null,null,null,null,null,null,null,{"$f":"IF( J281 = \"\", \"\", IF(J281 = Blad2!B281, \"Juist\", \"Niet juist\" ))","v":""},"","van de",null,"gevonden"]
["Opgave:",281,null,null,null,null,null,null,null,null,{"$f":"IF( J282 = \"\", \"\", IF(J282 = Blad2!B282, \"Juist\", \"Niet juist\" ))","v":""},"","van de",null,"gevonden"]
["Opgave:",282,null,null,null,null,null,null,null,null,{"$f":"IF( J283 = \"\", \"\", IF(J283 = Blad2!B283, \"Juist\", \"Niet juist\" ))","v":""},"","van de",null,"gevonden"]
["Opgave:",283,null,null,null,null,null,null,null,null,{"$f":"IF( J284 = \"\", \"\", IF(J284 = Blad2!B284, \"Juist\", \"Niet juist\" ))","v":""},"","van de",null,"gevonden"]
["Opgave:",284,null,null,null,null,null,null,null,null,{"$f":"IF( J285 = \"\", \"\", IF(J285 = Blad2!B285, \"Juist\", \"Niet juist\" ))","v":""},"","van de",null,"gevonden"]
["Opgave:",285,null,null,null,null,null,null,null,null,{"$f":"IF( J286 = \"\", \"\", IF(J286 = Blad2!B286, \"Juist\", \"Niet juist\" ))","v":""},"","van de",null,"gevonden"]
["Opgave:",286,null,null,null,null,null,null,null,null,{"$f":"IF( J287 = \"\", \"\", IF(J287 = Blad2!B287, \"Juist\", \"Niet juist\" ))","v":""},"","van de",null,"gevonden"]
["Opgave:",287,null,null,null,null,null,null,null,null,{"$f":"IF( J288 = \"\", \"\", IF(J288 = Blad2!B288, \"Juist\", \"Niet juist\" ))","v":""},{"$f":"IF(K288=\"Juist\",1,\"\")","v":""},"van de",null,"gevonden"]
["Opgave:",288,null,null,null,null,null,null,null,null,{"$f":"IF( J289 = \"\", \"\", IF(J289 = Blad2!B289, \"Juist\", \"Niet juist\" ))","v":""},"","van de",null,"gevonden"]
["Opgave:",289,null,null,null,null,null,null,null,null,{"$f":"IF( J290 = \"\", \"\", IF(J290 = Blad2!B290, \"Juist\", \"Niet juist\" ))","v":""},"","van de",null,"gevonden"]
["Opgave:",290,null,null,null,null,null,null,null,null,{"$f":"IF( J291 = \"\", \"\", IF(J291 = Blad2!B291, \"Juist\", \"Niet juist\" ))","v":""},"","van de",null,"gevonden"]
["Opgave:",291,null,null,null,null,null,null,null,null,{"$f":"IF( J292 = \"\", \"\", IF(J292 = Blad2!B292, \"Juist\", \"Niet juist\" ))","v":""},"","van de",null,"gevonden"]
["Opgave:",292,null,null,null,null,null,null,null,null,{"$f":"IF( J293 = \"\", \"\", IF(J293 = Blad2!B293, \"Juist\", \"Niet juist\" ))","v":""},"","van de",null,"gevonden"]
["Opgave:",293,null,null,null,null,null,null,null,null,{"$f":"IF( J294 = \"\", \"\", IF(J294 = Blad2!B294, \"Juist\", \"Niet juist\" ))","v":""},"","van de",null,"gevonden"]
["Opgave:",294,null,null,null,null,null,null,null,null,{"$f":"IF( J295 = \"\", \"\", IF(J295 = Blad2!B295, \"Juist\", \"Niet juist\" ))","v":""},"","van de",null,"gevonden"]
["Opgave:",295,null,null,null,null,null,null,null,null,{"$f":"IF( J296 = \"\", \"\", IF(J296 = Blad2!B296, \"Juist\", \"Niet juist\" ))","v":""},"","van de",null,"gevonden"]
["Opgave:",296,null,null,null,null,null,null,null,null,{"$f":"IF( J297 = \"\", \"\", IF(J297 = Blad2!B297, \"Juist\", \"Niet juist\" ))","v":""},"","van de",null,"gevonden"]
["Opgave:",297,null,null,null,null,null,null,null,null,{"$f":"IF( J298 = \"\", \"\", IF(J298 = Blad2!B298, \"Juist\", \"Niet juist\" ))","v":""},"","van de",null,"gevonden"]
["Opgave:",298,null,null,null,null,null,null,null,null,{"$f":"IF( J299 = \"\", \"\", IF(J299 = Blad2!B299, \"Juist\", \"Niet juist\" ))","v":""},"","van de",null,"gevonden"]
["Opgave:",299,null,null,null,null,null,null,null,null,{"$f":"IF( J300 = \"\", \"\", IF(J300 = Blad2!B300, \"Juist\", \"Niet juist\" ))","v":""},"","van de",null,"gevonden"]
["Opgave:",300,null,null,null,null,null,null,null,null,{"$f":"IF( J301 = \"\", \"\", IF(J301 = Blad2!B301, \"Juist\", \"Niet juist\" ))","v":""},"","van de",null,"gevonden"]
["Opgave:",301,null,null,null,null,null,null,null,null,{"$f":"IF( J302 = \"\", \"\", IF(J302 = Blad2!B302, \"Juist\", \"Niet juist\" ))","v":""},"","van de",null,"gevonden"]
["Opgave:",302,null,null,null,null,null,null,null,null,{"$f":"IF( J303 = \"\", \"\", IF(J303 = Blad2!B303, \"Juist\", \"Niet juist\" ))","v":""},"","van de",null,"gevonden"]
["Opgave:",303,null,null,null,null,null,null,null,null,{"$f":"IF( J304 = \"\", \"\", IF(J304 = Blad2!B304, \"Juist\", \"Niet juist\" ))","v":""},"","van de",null,"gevonden"]

{"sheet":"Blad2","index":3,"n_rows":597,"n_cols":2,"rows_kept":597,"cut":false,"hidden":false,"merged":[]}
["Opgave:","Oplossing"]
[1,"Fluiter"]
[2,"Merklap"]
[3,"Morgens"]
[4,"Drankje"]
[5,"Vangers"]
[6,"Stakend"]
[7,"Polders"]
[8,"Flaters"]
[9,"Druipen"]
[10,"Sluiper"]
[11,"Realist"]
[12,"Notaris"]
[13,"Drietal"]
[14,"Harpist"]
[15,"Besluit"]
[16,"Routine"]
[17,"Volgend"]
[18,"Voeling"]
[19,"Matrone"]
[20,"Grotesk"]
[21,"Strikje"]
[22,"Inkoper"]
[23,"Biertap"]
[24,"Stroken"]
[25,"Legkast"]
[26,"Sitemap"]
[27,"Droevig"]
[28,"Rekband"]
[29,"Kopstem"]
[30,"Dorsten"]
[31,"Wegrand"]
[32,"Mestkar"]
[33,"Purisme"]
[34,"Tuinder"]
[35,"Hipster"]
[36,"Klutsen"]
[37,"Werking"]
[38,"Kristal"]
[39,"Snuiver"]
[40,"Gesnapt"]
[41,"Artikel"]
[42,"Slinger"]
[43,"Landweg"]
[44,"Barsten"]
[45,"Roeping"]
[46,"Senator"]
[47,"Borstel"]
[48,"Romeins"]
[49,"Bridgen"]
[50,"Remblok"]
[51,"Pelsrob"]
[52,"Blakend"]
[53,"Vermits"]
[54,"Ribsruk"]
[55,"Toendra"]
[56,"Kruisen"]
[57,"Mastiek"]
[58,"Strodek"]
[59,"Portiek"]
[60,"Voerbak"]
[61,"Apostel"]
[62,"Sulfiet"]
[63,"Slagpen"]
[64,"Luister"]
[65,"Knielap"]
[66,"Fluiten"]
[67,"Bruisen"]
[68,"Pikorde"]
[69,"Flitsen"]
[70,"Bankier"]
[71,"Planter"]
[72,"Ernstig"]
[73,"Kruimel"]
[74,"Holster"]
[75,"Kariboe"]
[76,"Rokvest"]
[77,"Grondel"]
[78,"Snuiter"]
[79,"Spelonk"]
[80,"Sigaret"]
[81,"Stageld"]
[82,"Spoiler"]
[83,"Kraslot"]
[84,"Maestro"]
[85,"Netkous"]
[86,"Visboer"]
[87,"Onledig"]
[88,"Kleding"]
[89,"Spuiter"]
[90,"Nakomer"]
[91,"Invloed"]
[92,"Smalend"]
[93,"Obelisk"]
[94,"Parkiet"]
[95,"Gepolst"]
[96,"Bakster"]
[97,"Torenka"]
[98,"Solutie"]
[99,"Bergkam"]
[100,"Winters"]
[101,"Klagend"]
[102,"Egotrip"]
[103,"Duister"]
[104,"Knipsel"]
[105,"Rosbief"]
[106,"Filmset"]
[107,"Renstal"]
[108,"Pantser"]
[109,"Sluiter"]
[110,"Koralen"]
[111,"Fruiten"]
[112,"Stompen"]
[113,"Fabriek"]
[114,"Minaret"]
[115,"Markies"]
[116,"Nadelig"]
[117,"Geurzin"]
[118,"Reukzin"]
[119,"Persing"]
[120,"Stamper"]
[121,"Inbreuk"]
[122,"Esgrond"]
[123,"Mistral"]
[124,"Pruilen"]
[125,"Stroman"]
[126,"Desktop"]
[127,"Stalker"]
[128,"Kruipen"]
[129,"Sluipen"]
[130,"Ongeval"]
[131,"Dakriet"]
[132,"Neusgat"]
[133,"Toeslag"]
[134,"Roetbak"]
[135,"Monster"]
[136,"Monteur"]
[137,"Spintol"]
[138,"Keuring"]
[139,"Sardine"]
[140,"Prutsen"]
[141,"Voerman"]
[142,"Strobed"]
[143,"Gekromd"]
[144,"Petunia"]
[145,"Wandrek"]
[146,"Matigen"]
[147,"Klutsen"]
[148,"Legkast"]
[149,"Besluit"]
[150,"Sticker"]
[151,"Stuiven"]
[152,"Voering"]
[153,"Strodak"]
[154,"Spalken"]
[155,"Damspel"]
[156,"Traphek"]
[157,"Droevig"]
[158,"Storend"]
[159,"Bosnier"]
[160,"Erlangs"]
[161,"Derving"]
[162,"Doelman"]
[163,"Graniet"]
[164,"Turbine"]
[165,"Realist"]
[166,"Gierput"]
[167,"Klapbes"]
[168,"Stropen"]
[169,"Landweg"]
[170,"Flitser"]
[171,"Roestig"]
[172,"Bosrank"]
[173,"Gesnapt"]
[174,"Roeping"]
[175,"Sitemap"]
[176,"Inborst"]
[177,"Profiel"]
[178,"Uitroep"]
[179,"Drietal"]
[180,"Krulset"]
[181,"Kastrol"]
[182,"Harpist"]
[183,"Sturing"]
[184,"Flitsen"]
[185,"Slagpen"]
[186,"Embargo"]
[187,"Snuiver"]
[188,"Gobelin"]
[189,"Juriste"]
[190,"Rekband"]
[191,"Vermits"]
[192,"Ontslag"]
[193,"Mirakel"]
[194,"Hipster"]
[195,"Riskant"]
[196,"Grafiet"]
[197,"Pelsrob"]
[198,"Wegrand"]
[199,"Slinger"]
[200,"Werkman"]
[201,"Druipen"]
[202,"Portiek"]
[203,"Klotsen"]
[204,"Volgend"]
[205,"Bolster"]
[206,"Krimpen"]
[207,"Barsten"]
[208,"Afromen"]
[209,"Rasecht"]
[210,"Grotesk"]
[211,"Knielap"]
[212,"Bergkam"]
[213,"Blokrem"]
[214,"Ernstig"]
[215,"Stageld"]
[216,"Maestro"]
[217]
[218]
[219]
[220]
[221]
[222]
[223]
[224]
[225]
[226]
[227]
[228]
[229]
[230]
[231]
[232]
[233]
[234]
[235]
[236]
[237]
[238]
[239]
[240]
[241]
[242]
[243]
[244]
[245]
[246]
[247]
[248]
[249]
[250]
[251]
[252]
[253]
[254]
[255]
[256]
[257]
[258]
[259]
[260]
[261]
[262]
[263]
[264]
[265]
[266]
[267]
[268]
[269]
[270]
[271]
[272]
[273]
[274]
[275]
[276]
[277]
[278]
[279]
[280]
[281]
[282]
[283]
[284]
[285]
[286]
[287]
[288]
[289]
[290]
[291]
[292]
[293]
[294]
[295]
[296]
[297]
[298]
[299]
[300]
[301]
[302]
[303]
[304]
[305]
[306]
[307]
[308]
[309]
[310]
[311]
[312]
[313]
[314]
[315]
[316]
[317]
[318]
[319]
[320]
[321]
[322]
[323]
[324]
[325]
[326]
[327]
[328]
[329]
[330]
[331]
[332]
[333]
[334]
[335]
[336]
[337]
[338]
[339]
[340]
[341]
[342]
[343]
[344]
[345]
[346]
[347]
[348]
[349]
[350]
[351]
[352]
[353]
[354]
[355]
[356]
[357]
[358]
[359]
[360]
[361]
[362]
[363]
[364]
[365]
[366]
[367]
[368]
[369]
[370]
[371]
[372]
[373]
[374]
[375]
[376]
[377]
[378]
[379]
[380]
[381]
[382]
[383]
[384]
[385]
[386]
[387]
[388]
[389]
[390]
[391]
[392]
[393]
[394]
[395]
[396]
[397]
[398]
[399]
[400]
[401]
[402]
[403]
[404]
[405]
[406]
[407]
[408]
[409]
[410]
[411]
[412]
[413]
[414]
[415]
[416]
[417]
[418]
[419]
[420]
[421]
[422]
[423]
[424]
[425]
[426]
[427]
[428]
[429]
[430]
[431]
[432]
[433]
[434]
[435]
[436]
[437]
[438]
[439]
[440]
[441]
[442]
[443]
[444]
[445]
[446]
[447]
[448]
[449]
[450]
[451]
[452]
[453]
[454]
[455]
[456]
[457]
[458]
[459]
[460]
[461]
[462]
[463]
[464]
[465]
[466]
[467]
[468]
[469]
[470]
[471]
[472]
[473]
[474]
[475]
[476]
[477]
[478]
[479]
[480]
[481]
[482]
[483]
[484]
[485]
[486]
[487]
[488]
[489]
[490]
[491]
[492]
[493]
[494]
[495]
[496]
[497]
[498]
[499]
[500]
[501]
[502]
[503]
[504]
[505]
[506]
[507]
[508]
[509]
[510]
[511]
[512]
[513]
[514]
[515]
[516]
[517]
[518]
[519]
[520]
[521]
[522]
[523]
[524]
[525]
[526]
[527]
[528]
[529]
[530]
[531]
[532]
[533]
[534]
[535]
[536]
[537]
[538]
[539]
[540]
[541]
[542]
[543]
[544]
[545]
[546]
[547]
[548]
[549]
[550]
[551]
[552]
[553]
[554]
[555]
[556]
[557]
[558]
[559]
[560]
[561]
[562]
[563]
[564]
[565]
[566]
[567]
[568]
[569]
[570]
[571]
[572]
[573]
[574]
[575]
[576]
[577]
[578]
[579]
[580]
[581]
[582]
[583]
[584]
[585]
[586]
[587]
[588]
[589]
[590]
[591]
[592]
[593]
[594]
[595]
[596]

{"sheet":"Blad3","index":4,"n_rows":0,"n_cols":0,"rows_kept":0,"cut":false,"hidden":false,"merged":[]}