{"text_format":"1","workbook":"xlsx","n_sheets":2,"sheets":["Toog en kassa","Help"],"not_rendered":{"charts":0,"images":2,"macros":1,"external_links":1,"defined_names":29,"comments":0,"pivot_tables":0},"unopened":[],"bounds":{"document_bytes":16777216,"sheet_cells":100000,"rows_first":2000,"rows_last":500,"rows_between":2000,"halvings":0,"cell_chars":16384,"cell_head_chars":4096},"cells_cut":0,"cells_raw":0,"read":"whole","date_system":"1900"}

{"sheet":"Toog en kassa","index":0,"n_rows":35,"n_cols":63,"rows_kept":35,"cut":false,"hidden":false,"merged":[[4,57,5,58],[4,61,5,62],[1,35,1,40],[7,43,7,48],[1,2,1,7],[1,10,1,15],[7,18,7,23],[1,27,1,32],[26,2,30,6],[26,27,30,31],[3,45,3,48],[4,45,4,48],[3,20,3,23],[4,20,4,23],[22,10,23,15],[22,35,23,40]]}
[]
[null,"Lucyvo","Op de poef",null,null,null,null,null,null,null,"Poef: OFWEL afgerekende consumpties",null,null,null,null,null,null,null,null,null,null,null,null,null,null,null,"Tegenstander",{"$f":"C2","v":"Op de poef"},null,null,null,null,null,null,null,{"$f":"K2","v":"Poef: OFWEL afgerekende consumpties"}]
[]
[null,1.8,{"$f":"LOOKUP( Help!C24 - N($I$4), Help!$J$24:$J$30, Help!$K$24:$K$30 )","v":0},{"$f":"LOOKUP( Help!D24 - N($I$4), Help!$J$24:$J$30, Help!$K$24:$K$30 )","v":0},{"$f":"LOOKUP( Help!E24 - N($I$4), Help!$J$24:$J$30, Help!$K$24:$K$30 )","v":0},{"$f":"LOOKUP( Help!F24 - N($I$4), Help!$J$24:$J$30, Help!$K$24:$K$30 )","v":0},{"$f":"LOOKUP( Help!G24 - N($I$4), Help!$J$24:$J$30, Help!$K$24:$K$30 )","v":0},{"$f":"LOOKUP( Help!H24 - N($I$4), Help!$J$24:$J$30, Help!$K$24:$K$30 )","v":0},{"$f":"INPUT_Stuks","v":"   st"},null,{"$f":"LOOKUP( Help!C24 - N($Q$4), Help!$J$24:$J$30, Help!$K$24:$K$30 )","v":0},{"$f":"LOOKUP( Help!D24 - N($Q$4), Help!$J$24:$J$30, Help!$K$24:$K$30 )","v":0},{"$f":"LOOKUP( Help!E24 - N($Q$4), Help!$J$24:$J$30, Help!$K$24:$K$30 )","v":0},{"$f":"LOOKUP( Help!F24 - N($Q$4), Help!$J$24:$J$30, Help!$K$24:$K$30 )","v":0},{"$f":"LOOKUP( Help!G24 - N($Q$4), Help!$J$24:$J$30, Help!$K$24:$K$30 )","v":0},{"$f":"LOOKUP( Help!H24 - N($Q$4), Help!$J$24:$J$30, Help!$K$24:$K$30 )","v":0},{"$f":"INPUT_Stuks","v":"   st"},null,{"$f":"AZ6","v":"Datum"},null,{"$f":"BB6","v":"         /         / 2019"},null,null,null,null,null,{"$f":"B4","v":1.8},{"$f":"LOOKUP( Help!C24 - N($AH$4), Help!$J$24:$J$30, Help!$K$24:$K$30 )","v":0},{"$f":"LOOKUP( Help!D24 - N($AH$4), Help!$J$24:$J$30, Help!$K$24:$K$30 )","v":0},{"$f":"LOOKUP( Help!E24 - N($AH$4), Help!$J$24:$J$30, Help!$K$24:$K$30 )","v":0},{"$f":"LOOKUP( Help!F24 - N($AH$4), Help!$J$24:$J$30, Help!$K$24:$K$30 )","v":0},{"$f":"LOOKUP( Help!G24 - N($AH$4), Help!$J$24:$J$30, Help!$K$24:$K$30 )","v":0},{"$f":"LOOKUP( Help!H24 - N($AH$4), Help!$J$24:$J$30, Help!$K$24:$K$30 )","v":0},{"$f":"INPUT_Stuks","v":"   st"},null,{"$f":"LOOKUP( Help!C24 - N($AP$4), Help!$J$24:$J$30, Help!$K$24:$K$30 )","v":0},{"$f":"LOOKUP( Help!D24 - N($AP$4), Help!$J$24:$J$30, Help!$K$24:$K$30 )","v":0},{"$f":"LOOKUP( Help!E24 - N($AP$4), Help!$J$24:$J$30, Help!$K$24:$K$30 )","v":0},{"$f":"LOOKUP( Help!F24 - N($AP$4), Help!$J$24:$J$30, Help!$K$24:$K$30 )","v":0},{"$f":"LOOKUP( Help!G24 - N($AP$4), Help!$J$24:$J$30, Help!$K$24:$K$30 )","v":0},{"$f":"LOOKUP( Help!H24 - N($AP$4), Help!$J$24:$J$30, Help!$K$24:$K$30 )","v":0},{"$f":"INPUT_Stuks","v":"   st"},null,{"$f":"AZ6","v":"Datum"},null,{"$f":"BB6","v":"         /         / 2019"},null,null,null,null,null,"Afrekening"]
[null,"Pils, Cola",{"$f":"LOOKUP( Help!C25 - N($I$4), Help!$J$24:$J$30, Help!$K$24:$K$30 )","v":0},{"$f":"LOOKUP( Help!D25 - N($I$4), Help!$J$24:$J$30, Help!$K$24:$K$30 )","v":0},{"$f":"LOOKUP( Help!E25 - N($I$4), Help!$J$24:$J$30, Help!$K$24:$K$30 )","v":0},{"$f":"LOOKUP( Help!F25 - N($I$4), Help!$J$24:$J$30, Help!$K$24:$K$30 )","v":0},{"$f":"LOOKUP( Help!G25 - N($I$4), Help!$J$24:$J$30, Help!$K$24:$K$30 )","v":0},{"$f":"LOOKUP( Help!H25 - N($I$4), Help!$J$24:$J$30, Help!$K$24:$K$30 )","v":0},null,null,{"$f":"LOOKUP( Help!C25 - N($Q$4), Help!$J$24:$J$30, Help!$K$24:$K$30 )","v":0},{"$f":"LOOKUP( Help!D25 - N($Q$4), Help!$J$24:$J$30, Help!$K$24:$K$30 )","v":0},{"$f":"LOOKUP( Help!E25 - N($Q$4), Help!$J$24:$J$30, Help!$K$24:$K$30 )","v":0},{"$f":"LOOKUP( Help!F25 - N($Q$4), Help!$J$24:$J$30, Help!$K$24:$K$30 )","v":0},{"$f":"LOOKUP( Help!G25 - N($Q$4), Help!$J$24:$J$30, Help!$K$24:$K$30 )","v":0},{"$f":"LOOKUP( Help!H25 - N($Q$4), Help!$J$24:$J$30, Help!$K$24:$K$30 )","v":0},null,null,"Match",null,{"$f":"BB7","v":"…....................................."},null,null,null,null,null,{"$f":"IF( B5 <> \"\", B5, \"\" )","v":"Pils, Cola"},{"$f":"LOOKUP( Help!C25 - N($AH$4), Help!$J$24:$J$30, Help!$K$24:$K$30 )","v":0},{"$f":"LOOKUP( Help!D25 - N($AH$4), Help!$J$24:$J$30, Help!$K$24:$K$30 )","v":0},{"$f":"LOOKUP( Help!E25 - N($AH$4), Help!$J$24:$J$30, Help!$K$24:$K$30 )","v":0},{"$f":"LOOKUP( Help!F25 - N($AH$4), Help!$J$24:$J$30, Help!$K$24:$K$30 )","v":0},{"$f":"LOOKUP( Help!G25 - N($AH$4), Help!$J$24:$J$30, Help!$K$24:$K$30 )","v":0},{"$f":"LOOKUP( Help!H25 - N($AH$4), Help!$J$24:$J$30, Help!$K$24:$K$30 )","v":0},null,null,{"$f":"LOOKUP( Help!C25 - N($AP$4), Help!$J$24:$J$30, Help!$K$24:$K$30 )","v":0},{"$f":"LOOKUP( Help!D25 - N($AP$4), Help!$J$24:$J$30, Help!$K$24:$K$30 )","v":0},{"$f":"LOOKUP( Help!E25 - N($AP$4), Help!$J$24:$J$30, Help!$K$24:$K$30 )","v":0},{"$f":"LOOKUP( Help!F25 - N($AP$4), Help!$J$24:$J$30, Help!$K$24:$K$30 )","v":0},{"$f":"LOOKUP( Help!G25 - N($AP$4), Help!$J$24:$J$30, Help!$K$24:$K$30 )","v":0},{"$f":"LOOKUP( Help!H25 - N($AP$4), Help!$J$24:$J$30, Help!$K$24:$K$30 )","v":0},null,null,"Match",null,{"$f":"BB7","v":"…....................................."},null,null,null,null,null,null,null,null,null,null,null,{"$f":"AZ9","v":"Kassa beginstand"},null,null,null,{"$f":"AZ10","v":"Kassa eindstand"}]
[null,"Sprite, Fanta",{"$f":"LOOKUP( Help!C26 - N($I$4), Help!$J$24:$J$30, Help!$K$24:$K$30 )","v":0},{"$f":"LOOKUP( Help!D26 - N($I$4), Help!$J$24:$J$30, Help!$K$24:$K$30 )","v":0},{"$f":"LOOKUP( Help!E26 - N($I$4), Help!$J$24:$J$30, Help!$K$24:$K$30 )","v":0},{"$f":"LOOKUP( Help!F26 - N($I$4), Help!$J$24:$J$30, Help!$K$24:$K$30 )","v":0},{"$f":"LOOKUP( Help!G26 - N($I$4), Help!$J$24:$J$30, Help!$K$24:$K$30 )","v":0},{"$f":"LOOKUP( Help!H26 - N($I$4), Help!$J$24:$J$30, Help!$K$24:$K$30 )","v":0},null,null,{"$f":"LOOKUP( Help!C26 - N($Q$4), Help!$J$24:$J$30, Help!$K$24:$K$30 )","v":0},{"$f":"LOOKUP( Help!D26 - N($Q$4), Help!$J$24:$J$30, Help!$K$24:$K$30 )","v":0},{"$f":"LOOKUP( Help!E26 - N($Q$4), Help!$J$24:$J$30, Help!$K$24:$K$30 )","v":0},{"$f":"LOOKUP( Help!F26 - N($Q$4), Help!$J$24:$J$30, Help!$K$24:$K$30 )","v":0},{"$f":"LOOKUP( Help!G26 - N($Q$4), Help!$J$24:$J$30, Help!$K$24:$K$30 )","v":0},{"$f":"LOOKUP( Help!H26 - N($Q$4), Help!$J$24:$J$30, Help!$K$24:$K$30 )","v":0},null,null,null,null,null,null,null,null,null,null,"Sprite, Fanta",{"$f":"LOOKUP( Help!C26 - N($AH$4), Help!$J$24:$J$30, Help!$K$24:$K$30 )","v":0},{"$f":"LOOKUP( Help!D26 - N($AH$4), Help!$J$24:$J$30, Help!$K$24:$K$30 )","v":0},{"$f":"LOOKUP( Help!E26 - N($AH$4), Help!$J$24:$J$30, Help!$K$24:$K$30 )","v":0},{"$f":"LOOKUP( Help!F26 - N($AH$4), Help!$J$24:$J$30, Help!$K$24:$K$30 )","v":0},{"$f":"LOOKUP( Help!G26 - N($AH$4), Help!$J$24:$J$30, Help!$K$24:$K$30 )","v":0},{"$f":"LOOKUP( Help!H26 - N($AH$4), Help!$J$24:$J$30, Help!$K$24:$K$30 )","v":0},null,null,{"$f":"LOOKUP( Help!C26 - N($AP$4), Help!$J$24:$J$30, Help!$K$24:$K$30 )","v":0},{"$f":"LOOKUP( Help!D26 - N($AP$4), Help!$J$24:$J$30, Help!$K$24:$K$30 )","v":0},{"$f":"LOOKUP( Help!E26 - N($AP$4), Help!$J$24:$J$30, Help!$K$24:$K$30 )","v":0},{"$f":"LOOKUP( Help!F26 - N($AP$4), Help!$J$24:$J$30, Help!$K$24:$K$30 )","v":0},{"$f":"LOOKUP( Help!G26 - N($AP$4), Help!$J$24:$J$30, Help!$K$24:$K$30 )","v":0},{"$f":"LOOKUP( Help!H26 - N($AP$4), Help!$J$24:$J$30, Help!$K$24:$K$30 )","v":0},null,null,null,null,null,null,null,null,null,null,"Datum",null,{"$f":"INPUT_Datum","v":"         /         / 2019"}]
[null,"Water, Gini",{"$f":"LOOKUP( Help!C27 - N($I$4), Help!$J$24:$J$30, Help!$K$24:$K$30 )","v":0},{"$f":"LOOKUP( Help!D27 - N($I$4), Help!$J$24:$J$30, Help!$K$24:$K$30 )","v":0},{"$f":"LOOKUP( Help!E27 - N($I$4), Help!$J$24:$J$30, Help!$K$24:$K$30 )","v":0},{"$f":"LOOKUP( Help!F27 - N($I$4), Help!$J$24:$J$30, Help!$K$24:$K$30 )","v":0},{"$f":"LOOKUP( Help!G27 - N($I$4), Help!$J$24:$J$30, Help!$K$24:$K$30 )","v":0},{"$f":"LOOKUP( Help!H27 - N($I$4), Help!$J$24:$J$30, Help!$K$24:$K$30 )","v":0},null,null,{"$f":"LOOKUP( Help!C27 - N($Q$4), Help!$J$24:$J$30, Help!$K$24:$K$30 )","v":0},{"$f":"LOOKUP( Help!D27 - N($Q$4), Help!$J$24:$J$30, Help!$K$24:$K$30 )","v":0},{"$f":"LOOKUP( Help!E27 - N($Q$4), Help!$J$24:$J$30, Help!$K$24:$K$30 )","v":0},{"$f":"LOOKUP( Help!F27 - N($Q$4), Help!$J$24:$J$30, Help!$K$24:$K$30 )","v":0},{"$f":"LOOKUP( Help!G27 - N($Q$4), Help!$J$24:$J$30, Help!$K$24:$K$30 )","v":0},{"$f":"LOOKUP( Help!H27 - N($Q$4), Help!$J$24:$J$30, Help!$K$24:$K$30 )","v":0},null,null,null,null,null,null,null,null,null,null,"Water, Gini",{"$f":"LOOKUP( Help!C27 - N($AH$4), Help!$J$24:$J$30, Help!$K$24:$K$30 )","v":0},{"$f":"LOOKUP( Help!D27 - N($AH$4), Help!$J$24:$J$30, Help!$K$24:$K$30 )","v":0},{"$f":"LOOKUP( Help!E27 - N($AH$4), Help!$J$24:$J$30, Help!$K$24:$K$30 )","v":0},{"$f":"LOOKUP( Help!F27 - N($AH$4), Help!$J$24:$J$30, Help!$K$24:$K$30 )","v":0},{"$f":"LOOKUP( Help!G27 - N($AH$4), Help!$J$24:$J$30, Help!$K$24:$K$30 )","v":0},{"$f":"LOOKUP( Help!H27 - N($AH$4), Help!$J$24:$J$30, Help!$K$24:$K$30 )","v":0},null,null,{"$f":"LOOKUP( Help!C27 - N($AP$4), Help!$J$24:$J$30, Help!$K$24:$K$30 )","v":0},{"$f":"LOOKUP( Help!D27 - N($AP$4), Help!$J$24:$J$30, Help!$K$24:$K$30 )","v":0},{"$f":"LOOKUP( Help!E27 - N($AP$4), Help!$J$24:$J$30, Help!$K$24:$K$30 )","v":0},{"$f":"LOOKUP( Help!F27 - N($AP$4), Help!$J$24:$J$30, Help!$K$24:$K$30 )","v":0},{"$f":"LOOKUP( Help!G27 - N($AP$4), Help!$J$24:$J$30, Help!$K$24:$K$30 )","v":0},{"$f":"LOOKUP( Help!H27 - N($AP$4), Help!$J$24:$J$30, Help!$K$24:$K$30 )","v":0},null,null,null,null,null,null,null,null,null,null,"Match",null,{"$f":"INPUT_Lange_Tekst","v":"…....................................."},null,null,null,"Aantal","Waarde",null,null,"Aantal","Waarde"]
[null,"Koffie, T, Soep",{"$f":"LOOKUP( Help!C28 - N($I$4), Help!$J$24:$J$30, Help!$K$24:$K$30 )","v":0},{"$f":"LOOKUP( Help!D28 - N($I$4), Help!$J$24:$J$30, Help!$K$24:$K$30 )","v":0},{"$f":"LOOKUP( Help!E28 - N($I$4), Help!$J$24:$J$30, Help!$K$24:$K$30 )","v":0},{"$f":"LOOKUP( Help!F28 - N($I$4), Help!$J$24:$J$30, Help!$K$24:$K$30 )","v":0},{"$f":"LOOKUP( Help!G28 - N($I$4), Help!$J$24:$J$30, Help!$K$24:$K$30 )","v":0},{"$f":"LOOKUP( Help!H28 - N($I$4), Help!$J$24:$J$30, Help!$K$24:$K$30 )","v":0},{"$f":"IF( COUNTIF( C4:H9, \">0\" ) > 0, SUM( C4:H9 ), INPUT_Stuks )","v":"   st"},null,{"$f":"LOOKUP( Help!C28 - N($Q$4), Help!$J$24:$J$30, Help!$K$24:$K$30 )","v":0},{"$f":"LOOKUP( Help!D28 - N($Q$4), Help!$J$24:$J$30, Help!$K$24:$K$30 )","v":0},{"$f":"LOOKUP( Help!E28 - N($Q$4), Help!$J$24:$J$30, Help!$K$24:$K$30 )","v":0},{"$f":"LOOKUP( Help!F28 - N($Q$4), Help!$J$24:$J$30, Help!$K$24:$K$30 )","v":0},{"$f":"LOOKUP( Help!G28 - N($Q$4), Help!$J$24:$J$30, Help!$K$24:$K$30 )","v":0},{"$f":"LOOKUP( Help!H28 - N($Q$4), Help!$J$24:$J$30, Help!$K$24:$K$30 )","v":0},{"$f":"IF( COUNTIF( K4:P9, \">0\" ) > 0, SUM( K4:P9 ), INPUT_Stuks )","v":"   st"},null,"Direct betaald",null,null,null,null,null,null,null,"Koffie, T, Soep",{"$f":"LOOKUP( Help!C28 - N($AH$4), Help!$J$24:$J$30, Help!$K$24:$K$30 )","v":0},{"$f":"LOOKUP( Help!D28 - N($AH$4), Help!$J$24:$J$30, Help!$K$24:$K$30 )","v":0},{"$f":"LOOKUP( Help!E28 - N($AH$4), Help!$J$24:$J$30, Help!$K$24:$K$30 )","v":0},{"$f":"LOOKUP( Help!F28 - N($AH$4), Help!$J$24:$J$30, Help!$K$24:$K$30 )","v":0},{"$f":"LOOKUP( Help!G28 - N($AH$4), Help!$J$24:$J$30, Help!$K$24:$K$30 )","v":0},{"$f":"LOOKUP( Help!H28 - N($AH$4), Help!$J$24:$J$30, Help!$K$24:$K$30 )","v":0},{"$f":"IF( COUNTIF( AB4:AG9, \">0\" ) > 0, SUM( AB4:AG9 ), INPUT_Stuks )","v":"   st"},null,{"$f":"LOOKUP( Help!C28 - N($AP$4), Help!$J$24:$J$30, Help!$K$24:$K$30 )","v":0},{"$f":"LOOKUP( Help!D28 - N($AP$4), Help!$J$24:$J$30, Help!$K$24:$K$30 )","v":0},{"$f":"LOOKUP( Help!E28 - N($AP$4), Help!$J$24:$J$30, Help!$K$24:$K$30 )","v":0},{"$f":"LOOKUP( Help!F28 - N($AP$4), Help!$J$24:$J$30, Help!$K$24:$K$30 )","v":0},{"$f":"LOOKUP( Help!G28 - N($AP$4), Help!$J$24:$J$30, Help!$K$24:$K$30 )","v":0},{"$f":"LOOKUP( Help!H28 - N($AP$4), Help!$J$24:$J$30, Help!$K$24:$K$30 )","v":0},{"$f":"IF( COUNTIF( AJ4:AO9, \">0\" ) > 0, SUM( AJ4:AO9 ), INPUT_Stuks )","v":"   st"},null,{"$f":"S8","v":"Direct betaald"},null,null,null,null,null,null,null,null,null,null,null,null,100,{"$f":"INPUT_Stuks","v":"   st"},{"$f":"IF( ISNUMBER( BF8 ), BE8 * BF8, INPUT_Kort_Bedrag )","v":"   €"},null,100,{"$f":"INPUT_Stuks","v":"   st"},{"$f":"IF( ISNUMBER( BJ8 ), BI8 * BJ8, INPUT_Kort_Bedrag )","v":"   €"}]
[null,"Choco, Chips",{"$f":"LOOKUP( Help!C29 - N($I$4), Help!$J$24:$J$30, Help!$K$24:$K$30 )","v":0},{"$f":"LOOKUP( Help!D29 - N($I$4), Help!$J$24:$J$30, Help!$K$24:$K$30 )","v":0},{"$f":"LOOKUP( Help!E29 - N($I$4), Help!$J$24:$J$30, Help!$K$24:$K$30 )","v":0},{"$f":"LOOKUP( Help!F29 - N($I$4), Help!$J$24:$J$30, Help!$K$24:$K$30 )","v":0},{"$f":"LOOKUP( Help!G29 - N($I$4), Help!$J$24:$J$30, Help!$K$24:$K$30 )","v":0},{"$f":"LOOKUP( Help!H29 - N($I$4), Help!$J$24:$J$30, Help!$K$24:$K$30 )","v":0},{"$f":"IF( COUNTIF( C4:H9, \">0\" ) > 0, $B4 * I8, INPUT_Kort_Bedrag )","v":"   €"},null,{"$f":"LOOKUP( Help!C29 - N($Q$4), Help!$J$24:$J$30, Help!$K$24:$K$30 )","v":0},{"$f":"LOOKUP( Help!D29 - N($Q$4), Help!$J$24:$J$30, Help!$K$24:$K$30 )","v":0},{"$f":"LOOKUP( Help!E29 - N($Q$4), Help!$J$24:$J$30, Help!$K$24:$K$30 )","v":0},{"$f":"LOOKUP( Help!F29 - N($Q$4), Help!$J$24:$J$30, Help!$K$24:$K$30 )","v":0},{"$f":"LOOKUP( Help!G29 - N($Q$4), Help!$J$24:$J$30, Help!$K$24:$K$30 )","v":0},{"$f":"LOOKUP( Help!H29 - N($Q$4), Help!$J$24:$J$30, Help!$K$24:$K$30 )","v":0},{"$f":"IF( COUNTIF( K4:P9, \">0\" ) > 0, $B4 * Q8, INPUT_Kort_Bedrag )","v":"   €"},null,null,null,null,null,null,null,null,null,"Choco, Chips",{"$f":"LOOKUP( Help!C29 - N($AH$4), Help!$J$24:$J$30, Help!$K$24:$K$30 )","v":0},{"$f":"LOOKUP( Help!D29 - N($AH$4), Help!$J$24:$J$30, Help!$K$24:$K$30 )","v":0},{"$f":"LOOKUP( Help!E29 - N($AH$4), Help!$J$24:$J$30, Help!$K$24:$K$30 )","v":0},{"$f":"LOOKUP( Help!F29 - N($AH$4), Help!$J$24:$J$30, Help!$K$24:$K$30 )","v":0},{"$f":"LOOKUP( Help!G29 - N($AH$4), Help!$J$24:$J$30, Help!$K$24:$K$30 )","v":0},{"$f":"LOOKUP( Help!H29 - N($AH$4), Help!$J$24:$J$30, Help!$K$24:$K$30 )","v":0},{"$f":"IF( COUNTIF( AB4:AG9, \">0\" ) > 0, $B4 * AH8, INPUT_Kort_Bedrag )","v":"   €"},null,{"$f":"LOOKUP( Help!C29 - N($AP$4), Help!$J$24:$J$30, Help!$K$24:$K$30 )","v":0},{"$f":"LOOKUP( Help!D29 - N($AP$4), Help!$J$24:$J$30, Help!$K$24:$K$30 )","v":0},{"$f":"LOOKUP( Help!E29 - N($AP$4), Help!$J$24:$J$30, Help!$K$24:$K$30 )","v":0},{"$f":"LOOKUP( Help!F29 - N($AP$4), Help!$J$24:$J$30, Help!$K$24:$K$30 )","v":0},{"$f":"LOOKUP( Help!G29 - N($AP$4), Help!$J$24:$J$30, Help!$K$24:$K$30 )","v":0},{"$f":"LOOKUP( Help!H29 - N($AP$4), Help!$J$24:$J$30, Help!$K$24:$K$30 )","v":0},{"$f":"IF( COUNTIF( AJ4:AO9, \">0\" ) > 0, $B4 * AP8, INPUT_Kort_Bedrag )","v":"   €"},null,null,null,null,null,null,null,null,null,"Kassa beginstand",null,{"$f":"IF( COUNT( BF8:BF21 ) > 0, BG23, INPUT_Lang_Bedrag )","v":"….................. €"},"-",null,50,{"$f":"INPUT_Stuks","v":"   st"},{"$f":"IF( ISNUMBER( BF9 ), BE9 * BF9, INPUT_Kort_Bedrag )","v":"   €"},null,50,{"$f":"INPUT_Stuks","v":"   st"},"   €"]
[null,null,null,null,null,null,null,null,null,null,null,null,null,null,null,null,null,null,null,null,null,null,null,null,null,null,null,null,null,null,null,null,null,null,null,null,null,null,null,null,null,null,null,null,null,null,null,null,null,null,null,"Kassa eindstand",null,{"$f":"IF( COUNT( BJ8:BJ21 ) > 0, BK23, INPUT_Lang_Bedrag )","v":"….................. €"},"+",null,20,{"$f":"INPUT_Stuks","v":"   st"},"   €",null,20,{"$f":"INPUT_Stuks","v":"   st"},"   €"]
[null,2,{"$f":"LOOKUP( Help!C24 - N($I$11), Help!$J$24:$J$30, Help!$K$24:$K$30 )","v":0},{"$f":"LOOKUP( Help!D24 - N($I$11), Help!$J$24:$J$30, Help!$K$24:$K$30 )","v":0},{"$f":"LOOKUP( Help!E24 - N($I$11), Help!$J$24:$J$30, Help!$K$24:$K$30 )","v":0},{"$f":"LOOKUP( Help!F24 - N($I$11), Help!$J$24:$J$30, Help!$K$24:$K$30 )","v":0},{"$f":"LOOKUP( Help!G24 - N($I$11), Help!$J$24:$J$30, Help!$K$24:$K$30 )","v":0},{"$f":"LOOKUP( Help!H24 - N($I$11), Help!$J$24:$J$30, Help!$K$24:$K$30 )","v":0},{"$f":"INPUT_Stuks","v":"   st"},null,{"$f":"LOOKUP( Help!C24 - N($Q$11), Help!$J$24:$J$30, Help!$K$24:$K$30 )","v":0},{"$f":"LOOKUP( Help!D24 - N($Q$11), Help!$J$24:$J$30, Help!$K$24:$K$30 )","v":0},{"$f":"LOOKUP( Help!E24 - N($Q$11), Help!$J$24:$J$30, Help!$K$24:$K$30 )","v":0},{"$f":"LOOKUP( Help!F24 - N($Q$11), Help!$J$24:$J$30, Help!$K$24:$K$30 )","v":0},{"$f":"LOOKUP( Help!G24 - N($Q$11), Help!$J$24:$J$30, Help!$K$24:$K$30 )","v":0},{"$f":"LOOKUP( Help!H24 - N($Q$11), Help!$J$24:$J$30, Help!$K$24:$K$30 )","v":0},{"$f":"INPUT_Stuks","v":"   st"},null,null,null,null,null,null,null,null,null,{"$f":"B11","v":2},{"$f":"LOOKUP( Help!C24 - N($AH$11), Help!$J$24:$J$30, Help!$K$24:$K$30 )","v":0},{"$f":"LOOKUP( Help!D24 - N($AH$11), Help!$J$24:$J$30, Help!$K$24:$K$30 )","v":0},{"$f":"LOOKUP( Help!E24 - N($AH$11), Help!$J$24:$J$30, Help!$K$24:$K$30 )","v":0},{"$f":"LOOKUP( Help!F24 - N($AH$11), Help!$J$24:$J$30, Help!$K$24:$K$30 )","v":0},{"$f":"LOOKUP( Help!G24 - N($AH$11), Help!$J$24:$J$30, Help!$K$24:$K$30 )","v":0},{"$f":"LOOKUP( Help!H24 - N($AH$11), Help!$J$24:$J$30, Help!$K$24:$K$30 )","v":0},{"$f":"INPUT_Stuks","v":"   st"},null,{"$f":"LOOKUP( Help!C24 - N($AP$11), Help!$J$24:$J$30, Help!$K$24:$K$30 )","v":0},{"$f":"LOOKUP( Help!D24 - N($AP$11), Help!$J$24:$J$30, Help!$K$24:$K$30 )","v":0},{"$f":"LOOKUP( Help!E24 - N($AP$11), Help!$J$24:$J$30, Help!$K$24:$K$30 )","v":0},{"$f":"LOOKUP( Help!F24 - N($AP$11), Help!$J$24:$J$30, Help!$K$24:$K$30 )","v":0},{"$f":"LOOKUP( Help!G24 - N($AP$11), Help!$J$24:$J$30, Help!$K$24:$K$30 )","v":0},{"$f":"LOOKUP( Help!H24 - N($AP$11), Help!$J$24:$J$30, Help!$K$24:$K$30 )","v":0},{"$f":"INPUT_Stuks","v":"   st"},null,null,null,null,null,null,null,null,null,{"$f":"AZ25","v":"Rekening De Weerdt"},null,{"$f":"IF( COUNT( BB25 ) > 0, BB25 * (BJ35 = \"Neen\"), INPUT_Lang_Bedrag )","v":"….................. €"},"-",null,10,{"$f":"INPUT_Stuks","v":"   st"},"   €",null,10,{"$f":"INPUT_Stuks","v":"   st"},"   €"]
[null,"Ice Tea",{"$f":"LOOKUP( Help!C25 - N($I$11), Help!$J$24:$J$30, Help!$K$24:$K$30 )","v":0},{"$f":"LOOKUP( Help!D25 - N($I$11), Help!$J$24:$J$30, Help!$K$24:$K$30 )","v":0},{"$f":"LOOKUP( Help!E25 - N($I$11), Help!$J$24:$J$30, Help!$K$24:$K$30 )","v":0},{"$f":"LOOKUP( Help!F25 - N($I$11), Help!$J$24:$J$30, Help!$K$24:$K$30 )","v":0},{"$f":"LOOKUP( Help!G25 - N($I$11), Help!$J$24:$J$30, Help!$K$24:$K$30 )","v":0},{"$f":"LOOKUP( Help!H25 - N($I$11), Help!$J$24:$J$30, Help!$K$24:$K$30 )","v":0},null,null,{"$f":"LOOKUP( Help!C25 - N($Q$11), Help!$J$24:$J$30, Help!$K$24:$K$30 )","v":0},{"$f":"LOOKUP( Help!D25 - N($Q$11), Help!$J$24:$J$30, Help!$K$24:$K$30 )","v":0},{"$f":"LOOKUP( Help!E25 - N($Q$11), Help!$J$24:$J$30, Help!$K$24:$K$30 )","v":0},{"$f":"LOOKUP( Help!F25 - N($Q$11), Help!$J$24:$J$30, Help!$K$24:$K$30 )","v":0},{"$f":"LOOKUP( Help!G25 - N($Q$11), Help!$J$24:$J$30, Help!$K$24:$K$30 )","v":0},{"$f":"LOOKUP( Help!H25 - N($Q$11), Help!$J$24:$J$30, Help!$K$24:$K$30 )","v":0},null,null,null,null,null,null,null,null,null,null,{"$f":"IF( B12 <> \"\", B12, \"\" )","v":"Ice Tea"},{"$f":"LOOKUP( Help!C25 - N($AH$11), Help!$J$24:$J$30, Help!$K$24:$K$30 )","v":0},{"$f":"LOOKUP( Help!D25 - N($AH$11), Help!$J$24:$J$30, Help!$K$24:$K$30 )","v":0},{"$f":"LOOKUP( Help!E25 - N($AH$11), Help!$J$24:$J$30, Help!$K$24:$K$30 )","v":0},{"$f":"LOOKUP( Help!F25 - N($AH$11), Help!$J$24:$J$30, Help!$K$24:$K$30 )","v":0},{"$f":"LOOKUP( Help!G25 - N($AH$11), Help!$J$24:$J$30, Help!$K$24:$K$30 )","v":0},{"$f":"LOOKUP( Help!H25 - N($AH$11), Help!$J$24:$J$30, Help!$K$24:$K$30 )","v":0},null,null,{"$f":"LOOKUP( Help!C25 - N($AP$11), Help!$J$24:$J$30, Help!$K$24:$K$30 )","v":0},{"$f":"LOOKUP( Help!D25 - N($AP$11), Help!$J$24:$J$30, Help!$K$24:$K$30 )","v":0},{"$f":"LOOKUP( Help!E25 - N($AP$11), Help!$J$24:$J$30, Help!$K$24:$K$30 )","v":0},{"$f":"LOOKUP( Help!F25 - N($AP$11), Help!$J$24:$J$30, Help!$K$24:$K$30 )","v":0},{"$f":"LOOKUP( Help!G25 - N($AP$11), Help!$J$24:$J$30, Help!$K$24:$K$30 )","v":0},{"$f":"LOOKUP( Help!H25 - N($AP$11), Help!$J$24:$J$30, Help!$K$24:$K$30 )","v":0},null,null,null,null,null,null,null,null,null,null,"Delta kassa",null,{"$f":"IF( AND( COUNT( BB9:BB11 ) > 0, COUNT( BF8:BF21 ) > 0, COUNT( BJ8:BJ21 ) > 0 ), SUM( BB10 ) - SUM( BB9 ) - SUM( BB11 ), INPUT_Lang_Bedrag )","v":"….................. €"},null,null,5,{"$f":"INPUT_Stuks","v":"   st"},"   €",null,5,{"$f":"INPUT_Stuks","v":"   st"},"   €"]
[null,"Aquarius, AA",{"$f":"LOOKUP( Help!C26 - N($I$11), Help!$J$24:$J$30, Help!$K$24:$K$30 )","v":0},{"$f":"LOOKUP( Help!D26 - N($I$11), Help!$J$24:$J$30, Help!$K$24:$K$30 )","v":0},{"$f":"LOOKUP( Help!E26 - N($I$11), Help!$J$24:$J$30, Help!$K$24:$K$30 )","v":0},{"$f":"LOOKUP( Help!F26 - N($I$11), Help!$J$24:$J$30, Help!$K$24:$K$30 )","v":0},{"$f":"LOOKUP( Help!G26 - N($I$11), Help!$J$24:$J$30, Help!$K$24:$K$30 )","v":0},{"$f":"LOOKUP( Help!H26 - N($I$11), Help!$J$24:$J$30, Help!$K$24:$K$30 )","v":0},{"$f":"IF( COUNTIF( C11:H14, \">0\" ) > 0, SUM( C11:H14 ), INPUT_Stuks )","v":"   st"},null,{"$f":"LOOKUP( Help!C26 - N($Q$11), Help!$J$24:$J$30, Help!$K$24:$K$30 )","v":0},{"$f":"LOOKUP( Help!D26 - N($Q$11), Help!$J$24:$J$30, Help!$K$24:$K$30 )","v":0},{"$f":"LOOKUP( Help!E26 - N($Q$11), Help!$J$24:$J$30, Help!$K$24:$K$30 )","v":0},{"$f":"LOOKUP( Help!F26 - N($Q$11), Help!$J$24:$J$30, Help!$K$24:$K$30 )","v":0},{"$f":"LOOKUP( Help!G26 - N($Q$11), Help!$J$24:$J$30, Help!$K$24:$K$30 )","v":0},{"$f":"LOOKUP( Help!H26 - N($Q$11), Help!$J$24:$J$30, Help!$K$24:$K$30 )","v":0},{"$f":"IF( COUNTIF( K11:P14, \">0\" ) > 0, SUM( K11:P14 ), INPUT_Stuks )","v":"   st"},null,null,null,null,null,null,null,null,null,{"$f":"IF( B13 <> \"\", B13, \"\" )","v":"Aquarius, AA"},{"$f":"LOOKUP( Help!C26 - N($AH$11), Help!$J$24:$J$30, Help!$K$24:$K$30 )","v":0},{"$f":"LOOKUP( Help!D26 - N($AH$11), Help!$J$24:$J$30, Help!$K$24:$K$30 )","v":0},{"$f":"LOOKUP( Help!E26 - N($AH$11), Help!$J$24:$J$30, Help!$K$24:$K$30 )","v":0},{"$f":"LOOKUP( Help!F26 - N($AH$11), Help!$J$24:$J$30, Help!$K$24:$K$30 )","v":0},{"$f":"LOOKUP( Help!G26 - N($AH$11), Help!$J$24:$J$30, Help!$K$24:$K$30 )","v":0},{"$f":"LOOKUP( Help!H26 - N($AH$11), Help!$J$24:$J$30, Help!$K$24:$K$30 )","v":0},{"$f":"IF( COUNTIF( AB11:AG14, \">0\" ) > 0, SUM( AB11:AG14 ), INPUT_Stuks )","v":"   st"},null,{"$f":"LOOKUP( Help!C26 - N($AP$11), Help!$J$24:$J$30, Help!$K$24:$K$30 )","v":0},{"$f":"LOOKUP( Help!D26 - N($AP$11), Help!$J$24:$J$30, Help!$K$24:$K$30 )","v":0},{"$f":"LOOKUP( Help!E26 - N($AP$11), Help!$J$24:$J$30, Help!$K$24:$K$30 )","v":0},{"$f":"LOOKUP( Help!F26 - N($AP$11), Help!$J$24:$J$30, Help!$K$24:$K$30 )","v":0},{"$f":"LOOKUP( Help!G26 - N($AP$11), Help!$J$24:$J$30, Help!$K$24:$K$30 )","v":0},{"$f":"LOOKUP( Help!H26 - N($AP$11), Help!$J$24:$J$30, Help!$K$24:$K$30 )","v":0},{"$f":"IF( COUNTIF( AJ11:AO14, \">0\" ) > 0, SUM( AJ11:AO14 ), INPUT_Stuks )","v":"   st"}]
[null,"Palm, Kriek",{"$f":"LOOKUP( Help!C27 - N($I$11), Help!$J$24:$J$30, Help!$K$24:$K$30 )","v":0},{"$f":"LOOKUP( Help!D27 - N($I$11), Help!$J$24:$J$30, Help!$K$24:$K$30 )","v":0},{"$f":"LOOKUP( Help!E27 - N($I$11), Help!$J$24:$J$30, Help!$K$24:$K$30 )","v":0},{"$f":"LOOKUP( Help!F27 - N($I$11), Help!$J$24:$J$30, Help!$K$24:$K$30 )","v":0},{"$f":"LOOKUP( Help!G27 - N($I$11), Help!$J$24:$J$30, Help!$K$24:$K$30 )","v":0},{"$f":"LOOKUP( Help!H27 - N($I$11), Help!$J$24:$J$30, Help!$K$24:$K$30 )","v":0},{"$f":"IF( COUNTIF( C11:H14, \">0\" ) > 0, $B11 * I13, INPUT_Kort_Bedrag )","v":"   €"},null,{"$f":"LOOKUP( Help!C27 - N($Q$11), Help!$J$24:$J$30, Help!$K$24:$K$30 )","v":0},{"$f":"LOOKUP( Help!D27 - N($Q$11), Help!$J$24:$J$30, Help!$K$24:$K$30 )","v":0},{"$f":"LOOKUP( Help!E27 - N($Q$11), Help!$J$24:$J$30, Help!$K$24:$K$30 )","v":0},{"$f":"LOOKUP( Help!F27 - N($Q$11), Help!$J$24:$J$30, Help!$K$24:$K$30 )","v":0},{"$f":"LOOKUP( Help!G27 - N($Q$11), Help!$J$24:$J$30, Help!$K$24:$K$30 )","v":0},{"$f":"LOOKUP( Help!H27 - N($Q$11), Help!$J$24:$J$30, Help!$K$24:$K$30 )","v":0},{"$f":"IF( COUNTIF( K11:P14, \">0\" ) > 0, $B11 * Q13, INPUT_Kort_Bedrag )","v":"   €"},null,null,null,null,null,null,null,null,null,{"$f":"IF( B14 <> \"\", B14, \"\" )","v":"Palm, Kriek"},{"$f":"LOOKUP( Help!C27 - N($AH$11), Help!$J$24:$J$30, Help!$K$24:$K$30 )","v":0},{"$f":"LOOKUP( Help!D27 - N($AH$11), Help!$J$24:$J$30, Help!$K$24:$K$30 )","v":0},{"$f":"LOOKUP( Help!E27 - N($AH$11), Help!$J$24:$J$30, Help!$K$24:$K$30 )","v":0},{"$f":"LOOKUP( Help!F27 - N($AH$11), Help!$J$24:$J$30, Help!$K$24:$K$30 )","v":0},{"$f":"LOOKUP( Help!G27 - N($AH$11), Help!$J$24:$J$30, Help!$K$24:$K$30 )","v":0},{"$f":"LOOKUP( Help!H27 - N($AH$11), Help!$J$24:$J$30, Help!$K$24:$K$30 )","v":0},{"$f":"IF( COUNTIF( AB11:AG14, \">0\" ) > 0, $B11 * AH13, INPUT_Kort_Bedrag )","v":"   €"},null,{"$f":"LOOKUP( Help!C27 - N($AP$11), Help!$J$24:$J$30, Help!$K$24:$K$30 )","v":0},{"$f":"LOOKUP( Help!D27 - N($AP$11), Help!$J$24:$J$30, Help!$K$24:$K$30 )","v":0},{"$f":"LOOKUP( Help!E27 - N($AP$11), Help!$J$24:$J$30, Help!$K$24:$K$30 )","v":0},{"$f":"LOOKUP( Help!F27 - N($AP$11), Help!$J$24:$J$30, Help!$K$24:$K$30 )","v":0},{"$f":"LOOKUP( Help!G27 - N($AP$11), Help!$J$24:$J$30, Help!$K$24:$K$30 )","v":0},{"$f":"LOOKUP( Help!H27 - N($AP$11), Help!$J$24:$J$30, Help!$K$24:$K$30 )","v":0},{"$f":"IF( COUNTIF( AJ11:AO14, \">0\" ) > 0, $B11 * AP13, INPUT_Kort_Bedrag )","v":"   €"},null,null,null,null,null,null,null,null,null,"Veld",null,{"$f":"INPUT_Lang_Bedrag","v":"….................. €"},"+",null,2,{"$f":"INPUT_Stuks","v":"   st"},{"$f":"IF( ISNUMBER( BF14 ), BE14 * BF14, INPUT_Kort_Bedrag )","v":"   €"},null,2,{"$f":"INPUT_Stuks","v":"   st"},{"$f":"IF( ISNUMBER( BJ14 ), BI14 * BJ14, INPUT_Kort_Bedrag )","v":"   €"}]
[null,null,null,null,null,null,null,null,null,null,null,null,null,null,null,null,null,null,null,null,null,null,null,null,null,null,null,null,null,null,null,null,null,null,null,null,null,null,null,null,null,null,null,null,null,null,null,null,null,null,null,"Dagomzet",null,{"$f":"IF( ISNUMBER( BB31 ), SUM( BB31 ), INPUT_Lang_Bedrag )","v":"….................. €"},"+",null,1,"   st","   €",null,1,"   st","   €"]
[null,2.5,{"$f":"LOOKUP( Help!C24 - N($I$16), Help!$J$24:$J$30, Help!$K$24:$K$30 )","v":0},{"$f":"LOOKUP( Help!D24 - N($I$16), Help!$J$24:$J$30, Help!$K$24:$K$30 )","v":0},{"$f":"LOOKUP( Help!E24 - N($I$16), Help!$J$24:$J$30, Help!$K$24:$K$30 )","v":0},{"$f":"LOOKUP( Help!F24 - N($I$16), Help!$J$24:$J$30, Help!$K$24:$K$30 )","v":0},{"$f":"LOOKUP( Help!G24 - N($I$16), Help!$J$24:$J$30, Help!$K$24:$K$30 )","v":0},{"$f":"LOOKUP( Help!H24 - N($I$16), Help!$J$24:$J$30, Help!$K$24:$K$30 )","v":0},{"$f":"INPUT_Stuks","v":"   st"},null,{"$f":"LOOKUP( Help!C24 - N($Q$16), Help!$J$24:$J$30, Help!$K$24:$K$30 )","v":0},{"$f":"LOOKUP( Help!D24 - N($Q$16), Help!$J$24:$J$30, Help!$K$24:$K$30 )","v":0},{"$f":"LOOKUP( Help!E24 - N($Q$16), Help!$J$24:$J$30, Help!$K$24:$K$30 )","v":0},{"$f":"LOOKUP( Help!F24 - N($Q$16), Help!$J$24:$J$30, Help!$K$24:$K$30 )","v":0},{"$f":"LOOKUP( Help!G24 - N($Q$16), Help!$J$24:$J$30, Help!$K$24:$K$30 )","v":0},{"$f":"LOOKUP( Help!H24 - N($Q$16), Help!$J$24:$J$30, Help!$K$24:$K$30 )","v":0},{"$f":"INPUT_Stuks","v":"   st"},null,null,null,null,null,null,null,null,null,{"$f":"B16","v":2.5},{"$f":"LOOKUP( Help!C24 - N($AH$16), Help!$J$24:$J$30, Help!$K$24:$K$30 )","v":0},{"$f":"LOOKUP( Help!D24 - N($AH$16), Help!$J$24:$J$30, Help!$K$24:$K$30 )","v":0},{"$f":"LOOKUP( Help!E24 - N($AH$16), Help!$J$24:$J$30, Help!$K$24:$K$30 )","v":0},{"$f":"LOOKUP( Help!F24 - N($AH$16), Help!$J$24:$J$30, Help!$K$24:$K$30 )","v":0},{"$f":"LOOKUP( Help!G24 - N($AH$16), Help!$J$24:$J$30, Help!$K$24:$K$30 )","v":0},{"$f":"LOOKUP( Help!H24 - N($AH$16), Help!$J$24:$J$30, Help!$K$24:$K$30 )","v":0},{"$f":"INPUT_Stuks","v":"   st"},null,{"$f":"LOOKUP( Help!C24 - N($AP$16), Help!$J$24:$J$30, Help!$K$24:$K$30 )","v":0},{"$f":"LOOKUP( Help!D24 - N($AP$16), Help!$J$24:$J$30, Help!$K$24:$K$30 )","v":0},{"$f":"LOOKUP( Help!E24 - N($AP$16), Help!$J$24:$J$30, Help!$K$24:$K$30 )","v":0},{"$f":"LOOKUP( Help!F24 - N($AP$16), Help!$J$24:$J$30, Help!$K$24:$K$30 )","v":0},{"$f":"LOOKUP( Help!G24 - N($AP$16), Help!$J$24:$J$30, Help!$K$24:$K$30 )","v":0},{"$f":"LOOKUP( Help!H24 - N($AP$16), Help!$J$24:$J$30, Help!$K$24:$K$30 )","v":0},{"$f":"INPUT_Stuks","v":"   st"},null,null,null,null,null,null,null,null,null,"25% dagomzet",null,{"$f":"IF( ISNUMBER( BB15 ), 0.25 * BB15, INPUT_Lang_Bedrag )","v":"….................. €"},"-",null,0.5,"   st","   €",null,0.5,"   st","   €"]
[null,"Leffe",{"$f":"LOOKUP( Help!C25 - N($I$16), Help!$J$24:$J$30, Help!$K$24:$K$30 )","v":0},{"$f":"LOOKUP( Help!D25 - N($I$16), Help!$J$24:$J$30, Help!$K$24:$K$30 )","v":0},{"$f":"LOOKUP( Help!E25 - N($I$16), Help!$J$24:$J$30, Help!$K$24:$K$30 )","v":0},{"$f":"LOOKUP( Help!F25 - N($I$16), Help!$J$24:$J$30, Help!$K$24:$K$30 )","v":0},{"$f":"LOOKUP( Help!G25 - N($I$16), Help!$J$24:$J$30, Help!$K$24:$K$30 )","v":0},{"$f":"LOOKUP( Help!H25 - N($I$16), Help!$J$24:$J$30, Help!$K$24:$K$30 )","v":0},{"$f":"IF( COUNTIF( C16:H18, \">0\" ) > 0, SUM( C16:H18 ), INPUT_Stuks )","v":"   st"},null,{"$f":"LOOKUP( Help!C25 - N($Q$16), Help!$J$24:$J$30, Help!$K$24:$K$30 )","v":0},{"$f":"LOOKUP( Help!D25 - N($Q$16), Help!$J$24:$J$30, Help!$K$24:$K$30 )","v":0},{"$f":"LOOKUP( Help!E25 - N($Q$16), Help!$J$24:$J$30, Help!$K$24:$K$30 )","v":0},{"$f":"LOOKUP( Help!F25 - N($Q$16), Help!$J$24:$J$30, Help!$K$24:$K$30 )","v":0},{"$f":"LOOKUP( Help!G25 - N($Q$16), Help!$J$24:$J$30, Help!$K$24:$K$30 )","v":0},{"$f":"LOOKUP( Help!H25 - N($Q$16), Help!$J$24:$J$30, Help!$K$24:$K$30 )","v":0},{"$f":"IF( COUNTIF( K16:P18, \">0\" ) > 0, SUM( K16:P18 ), INPUT_Stuks )","v":"   st"},null,null,null,null,null,null,null,null,null,{"$f":"IF( B17 <> \"\", B17, \"\" )","v":"Leffe"},{"$f":"LOOKUP( Help!C25 - N($AH$16), Help!$J$24:$J$30, Help!$K$24:$K$30 )","v":0},{"$f":"LOOKUP( Help!D25 - N($AH$16), Help!$J$24:$J$30, Help!$K$24:$K$30 )","v":0},{"$f":"LOOKUP( Help!E25 - N($AH$16), Help!$J$24:$J$30, Help!$K$24:$K$30 )","v":0},{"$f":"LOOKUP( Help!F25 - N($AH$16), Help!$J$24:$J$30, Help!$K$24:$K$30 )","v":0},{"$f":"LOOKUP( Help!G25 - N($AH$16), Help!$J$24:$J$30, Help!$K$24:$K$30 )","v":0},{"$f":"LOOKUP( Help!H25 - N($AH$16), Help!$J$24:$J$30, Help!$K$24:$K$30 )","v":0},{"$f":"IF( COUNTIF( AB16:AG18, \">0\" ) > 0, SUM( AB16:AG18 ), INPUT_Stuks )","v":"   st"},null,{"$f":"LOOKUP( Help!C25 - N($AP$16), Help!$J$24:$J$30, Help!$K$24:$K$30 )","v":0},{"$f":"LOOKUP( Help!D25 - N($AP$16), Help!$J$24:$J$30, Help!$K$24:$K$30 )","v":0},{"$f":"LOOKUP( Help!E25 - N($AP$16), Help!$J$24:$J$30, Help!$K$24:$K$30 )","v":0},{"$f":"LOOKUP( Help!F25 - N($AP$16), Help!$J$24:$J$30, Help!$K$24:$K$30 )","v":0},{"$f":"LOOKUP( Help!G25 - N($AP$16), Help!$J$24:$J$30, Help!$K$24:$K$30 )","v":0},{"$f":"LOOKUP( Help!H25 - N($AP$16), Help!$J$24:$J$30, Help!$K$24:$K$30 )","v":0},{"$f":"IF( COUNTIF( AJ16:AO18, \">0\" ) > 0, SUM( AJ16:AO18 ), INPUT_Stuks )","v":"   st"},null,null,null,null,null,null,null,null,null,"Water",null,{"$f":"INPUT_Lang_Bedrag","v":"….................. €"},"+",null,0.2,"   st","   €",null,0.2,"   st","   €"]
[null,"Duvel",{"$f":"LOOKUP( Help!C26 - N($I$16), Help!$J$24:$J$30, Help!$K$24:$K$30 )","v":0},{"$f":"LOOKUP( Help!D26 - N($I$16), Help!$J$24:$J$30, Help!$K$24:$K$30 )","v":0},{"$f":"LOOKUP( Help!E26 - N($I$16), Help!$J$24:$J$30, Help!$K$24:$K$30 )","v":0},{"$f":"LOOKUP( Help!F26 - N($I$16), Help!$J$24:$J$30, Help!$K$24:$K$30 )","v":0},{"$f":"LOOKUP( Help!G26 - N($I$16), Help!$J$24:$J$30, Help!$K$24:$K$30 )","v":0},{"$f":"LOOKUP( Help!H26 - N($I$16), Help!$J$24:$J$30, Help!$K$24:$K$30 )","v":0},{"$f":"IF( COUNTIF( C16:H18, \">0\" ) > 0, $B16 * I17, INPUT_Kort_Bedrag )","v":"   €"},null,{"$f":"LOOKUP( Help!C26 - N($Q$16), Help!$J$24:$J$30, Help!$K$24:$K$30 )","v":0},{"$f":"LOOKUP( Help!D26 - N($Q$16), Help!$J$24:$J$30, Help!$K$24:$K$30 )","v":0},{"$f":"LOOKUP( Help!E26 - N($Q$16), Help!$J$24:$J$30, Help!$K$24:$K$30 )","v":0},{"$f":"LOOKUP( Help!F26 - N($Q$16), Help!$J$24:$J$30, Help!$K$24:$K$30 )","v":0},{"$f":"LOOKUP( Help!G26 - N($Q$16), Help!$J$24:$J$30, Help!$K$24:$K$30 )","v":0},{"$f":"LOOKUP( Help!H26 - N($Q$16), Help!$J$24:$J$30, Help!$K$24:$K$30 )","v":0},{"$f":"IF( COUNTIF( K16:P18, \">0\" ) > 0, $B16 * Q17, INPUT_Kort_Bedrag )","v":"   €"},null,null,null,null,null,null,null,null,null,{"$f":"IF( B18 <> \"\", B18, \"\" )","v":"Duvel"},{"$f":"LOOKUP( Help!C26 - N($AH$16), Help!$J$24:$J$30, Help!$K$24:$K$30 )","v":0},{"$f":"LOOKUP( Help!D26 - N($AH$16), Help!$J$24:$J$30, Help!$K$24:$K$30 )","v":0},{"$f":"LOOKUP( Help!E26 - N($AH$16), Help!$J$24:$J$30, Help!$K$24:$K$30 )","v":0},{"$f":"LOOKUP( Help!F26 - N($AH$16), Help!$J$24:$J$30, Help!$K$24:$K$30 )","v":0},{"$f":"LOOKUP( Help!G26 - N($AH$16), Help!$J$24:$J$30, Help!$K$24:$K$30 )","v":0},{"$f":"LOOKUP( Help!H26 - N($AH$16), Help!$J$24:$J$30, Help!$K$24:$K$30 )","v":0},{"$f":"IF( COUNTIF( AB16:AG18, \">0\" ) > 0, $B16 * AH17, INPUT_Kort_Bedrag )","v":"   €"},null,{"$f":"LOOKUP( Help!C26 - N($AP$16), Help!$J$24:$J$30, Help!$K$24:$K$30 )","v":0},{"$f":"LOOKUP( Help!D26 - N($AP$16), Help!$J$24:$J$30, Help!$K$24:$K$30 )","v":0},{"$f":"LOOKUP( Help!E26 - N($AP$16), Help!$J$24:$J$30, Help!$K$24:$K$30 )","v":0},{"$f":"LOOKUP( Help!F26 - N($AP$16), Help!$J$24:$J$30, Help!$K$24:$K$30 )","v":0},{"$f":"LOOKUP( Help!G26 - N($AP$16), Help!$J$24:$J$30, Help!$K$24:$K$30 )","v":0},{"$f":"LOOKUP( Help!H26 - N($AP$16), Help!$J$24:$J$30, Help!$K$24:$K$30 )","v":0},{"$f":"IF( COUNTIF( AJ16:AO18, \">0\" ) > 0, $B16 * AP17, INPUT_Kort_Bedrag )","v":"   €"},null,null,null,null,null,null,null,null,null,"Afronding rekening",null,{"$f":"INPUT_Lang_Bedrag","v":"….................. €"},"+",null,0.1,"   st","   €",null,0.1,"   st","   €"]
[null,null,null,null,null,null,null,null,null,null,null,null,null,null,null,null,null,null,null,null,null,null,null,null,null,null,null,null,null,null,null,null,null,null,null,null,null,null,null,null,null,null,null,null,null,null,null,null,null,null,null,{"$f":"\"Aan \" & INPUT_Eigenaar & \" betalen\"","v":"Aan De Weerdt betalen"},null,{"$f":"IF( COUNT( BB15:BB18 ) > 0, SUM( BB14 ) + SUM( BB15 ) - SUM( BB16 ) + SUM( BB17 ) + SUM( BB18 ), INPUT_Lang_Bedrag )","v":"….................. €"},null,null,0.05,"   st","   €",null,0.05,"   st","   €"]
[null,1.5,{"$f":"LOOKUP( Help!C24 - N($I$20), Help!$J$24:$J$30, Help!$K$24:$K$30 )","v":0},{"$f":"LOOKUP( Help!D24 - N($I$20), Help!$J$24:$J$30, Help!$K$24:$K$30 )","v":0},{"$f":"LOOKUP( Help!E24 - N($I$20), Help!$J$24:$J$30, Help!$K$24:$K$30 )","v":0},{"$f":"LOOKUP( Help!F24 - N($I$20), Help!$J$24:$J$30, Help!$K$24:$K$30 )","v":0},{"$f":"LOOKUP( Help!G24 - N($I$20), Help!$J$24:$J$30, Help!$K$24:$K$30 )","v":0},{"$f":"LOOKUP( Help!H24 - N($I$20), Help!$J$24:$J$30, Help!$K$24:$K$30 )","v":0},{"$f":"INPUT_Stuks","v":"   st"},null,{"$f":"LOOKUP( Help!C24 - N($Q$20), Help!$J$24:$J$30, Help!$K$24:$K$30 )","v":0},{"$f":"LOOKUP( Help!D24 - N($Q$20), Help!$J$24:$J$30, Help!$K$24:$K$30 )","v":0},{"$f":"LOOKUP( Help!E24 - N($Q$20), Help!$J$24:$J$30, Help!$K$24:$K$30 )","v":0},{"$f":"LOOKUP( Help!F24 - N($Q$20), Help!$J$24:$J$30, Help!$K$24:$K$30 )","v":0},{"$f":"LOOKUP( Help!G24 - N($Q$20), Help!$J$24:$J$30, Help!$K$24:$K$30 )","v":0},{"$f":"LOOKUP( Help!H24 - N($Q$20), Help!$J$24:$J$30, Help!$K$24:$K$30 )","v":0},{"$f":"INPUT_Stuks","v":"   st"},null,null,null,null,null,null,null,null,null,{"$f":"B20","v":1.5},{"$f":"LOOKUP( Help!C24 - N($AH$20), Help!$J$24:$J$30, Help!$K$24:$K$30 )","v":0},{"$f":"LOOKUP( Help!D24 - N($AH$20), Help!$J$24:$J$30, Help!$K$24:$K$30 )","v":0},{"$f":"LOOKUP( Help!E24 - N($AH$20), Help!$J$24:$J$30, Help!$K$24:$K$30 )","v":0},{"$f":"LOOKUP( Help!F24 - N($AH$20), Help!$J$24:$J$30, Help!$K$24:$K$30 )","v":0},{"$f":"LOOKUP( Help!G24 - N($AH$20), Help!$J$24:$J$30, Help!$K$24:$K$30 )","v":0},{"$f":"LOOKUP( Help!H24 - N($AH$20), Help!$J$24:$J$30, Help!$K$24:$K$30 )","v":0},{"$f":"INPUT_Stuks","v":"   st"},null,{"$f":"LOOKUP( Help!C24 - N($AP$20), Help!$J$24:$J$30, Help!$K$24:$K$30 )","v":0},{"$f":"LOOKUP( Help!D24 - N($AP$20), Help!$J$24:$J$30, Help!$K$24:$K$30 )","v":0},{"$f":"LOOKUP( Help!E24 - N($AP$20), Help!$J$24:$J$30, Help!$K$24:$K$30 )","v":0},{"$f":"LOOKUP( Help!F24 - N($AP$20), Help!$J$24:$J$30, Help!$K$24:$K$30 )","v":0},{"$f":"LOOKUP( Help!G24 - N($AP$20), Help!$J$24:$J$30, Help!$K$24:$K$30 )","v":0},{"$f":"LOOKUP( Help!H24 - N($AP$20), Help!$J$24:$J$30, Help!$K$24:$K$30 )","v":0},{"$f":"INPUT_Stuks","v":"   st"},null,null,null,null,null,null,null,null,null,null,null,null,null,null,0.02,"   st","   €",null,0.02,"   st","   €"]
[null,"Jenever",{"$f":"LOOKUP( Help!C25 - N($I$20), Help!$J$24:$J$30, Help!$K$24:$K$30 )","v":0},{"$f":"LOOKUP( Help!D25 - N($I$20), Help!$J$24:$J$30, Help!$K$24:$K$30 )","v":0},{"$f":"LOOKUP( Help!E25 - N($I$20), Help!$J$24:$J$30, Help!$K$24:$K$30 )","v":0},{"$f":"LOOKUP( Help!F25 - N($I$20), Help!$J$24:$J$30, Help!$K$24:$K$30 )","v":0},{"$f":"LOOKUP( Help!G25 - N($I$20), Help!$J$24:$J$30, Help!$K$24:$K$30 )","v":0},{"$f":"LOOKUP( Help!H25 - N($I$20), Help!$J$24:$J$30, Help!$K$24:$K$30 )","v":0},{"$f":"IF( COUNTIF( C20:H22, \">0\" ) > 0, SUM( C20:H22 ), INPUT_Stuks )","v":"   st"},null,{"$f":"LOOKUP( Help!C25 - N($Q$20), Help!$J$24:$J$30, Help!$K$24:$K$30 )","v":0},{"$f":"LOOKUP( Help!D25 - N($Q$20), Help!$J$24:$J$30, Help!$K$24:$K$30 )","v":0},{"$f":"LOOKUP( Help!E25 - N($Q$20), Help!$J$24:$J$30, Help!$K$24:$K$30 )","v":0},{"$f":"LOOKUP( Help!F25 - N($Q$20), Help!$J$24:$J$30, Help!$K$24:$K$30 )","v":0},{"$f":"LOOKUP( Help!G25 - N($Q$20), Help!$J$24:$J$30, Help!$K$24:$K$30 )","v":0},{"$f":"LOOKUP( Help!H25 - N($Q$20), Help!$J$24:$J$30, Help!$K$24:$K$30 )","v":0},{"$f":"IF( COUNTIF( K20:P22, \">0\" ) > 0, SUM( K20:P22 ), INPUT_Stuks )","v":"   st"},null,null,null,null,null,null,null,null,null,{"$f":"IF( B21 <> \"\", B21, \"\" )","v":"Jenever"},{"$f":"LOOKUP( Help!C25 - N($AH$20), Help!$J$24:$J$30, Help!$K$24:$K$30 )","v":0},{"$f":"LOOKUP( Help!D25 - N($AH$20), Help!$J$24:$J$30, Help!$K$24:$K$30 )","v":0},{"$f":"LOOKUP( Help!E25 - N($AH$20), Help!$J$24:$J$30, Help!$K$24:$K$30 )","v":0},{"$f":"LOOKUP( Help!F25 - N($AH$20), Help!$J$24:$J$30, Help!$K$24:$K$30 )","v":0},{"$f":"LOOKUP( Help!G25 - N($AH$20), Help!$J$24:$J$30, Help!$K$24:$K$30 )","v":0},{"$f":"LOOKUP( Help!H25 - N($AH$20), Help!$J$24:$J$30, Help!$K$24:$K$30 )","v":0},{"$f":"IF( COUNTIF( AB20:AG22, \">0\" ) > 0, SUM( AB20:AG22 ), INPUT_Stuks )","v":"   st"},null,{"$f":"LOOKUP( Help!C25 - N($AP$20), Help!$J$24:$J$30, Help!$K$24:$K$30 )","v":0},{"$f":"LOOKUP( Help!D25 - N($AP$20), Help!$J$24:$J$30, Help!$K$24:$K$30 )","v":0},{"$f":"LOOKUP( Help!E25 - N($AP$20), Help!$J$24:$J$30, Help!$K$24:$K$30 )","v":0},{"$f":"LOOKUP( Help!F25 - N($AP$20), Help!$J$24:$J$30, Help!$K$24:$K$30 )","v":0},{"$f":"LOOKUP( Help!G25 - N($AP$20), Help!$J$24:$J$30, Help!$K$24:$K$30 )","v":0},{"$f":"LOOKUP( Help!H25 - N($AP$20), Help!$J$24:$J$30, Help!$K$24:$K$30 )","v":0},{"$f":"IF( COUNTIF( AJ20:AO22, \">0\" ) > 0, SUM( AJ20:AO22 ), INPUT_Stuks )","v":"   st"},null,null,null,null,null,null,null,null,null,"Manier van betalen:",null,{"$f":"INPUT_Lange_Tekst","v":"…....................................."},null,null,0.01,"   st","   €",null,0.01,"   st","   €"]
[null,"Cava, Wijn:  I I",{"$f":"LOOKUP( Help!C26 - N($I$20), Help!$J$24:$J$30, Help!$K$24:$K$30 )","v":0},{"$f":"LOOKUP( Help!D26 - N($I$20), Help!$J$24:$J$30, Help!$K$24:$K$30 )","v":0},{"$f":"LOOKUP( Help!E26 - N($I$20), Help!$J$24:$J$30, Help!$K$24:$K$30 )","v":0},{"$f":"LOOKUP( Help!F26 - N($I$20), Help!$J$24:$J$30, Help!$K$24:$K$30 )","v":0},{"$f":"LOOKUP( Help!G26 - N($I$20), Help!$J$24:$J$30, Help!$K$24:$K$30 )","v":0},{"$f":"LOOKUP( Help!H26 - N($I$20), Help!$J$24:$J$30, Help!$K$24:$K$30 )","v":0},{"$f":"IF( COUNTIF( C20:H22, \">0\" ) > 0, $B20 * I21, INPUT_Kort_Bedrag )","v":"   €"},null,{"$f":"LOOKUP( Help!C26 - N($Q$20), Help!$J$24:$J$30, Help!$K$24:$K$30 )","v":0},{"$f":"LOOKUP( Help!D26 - N($Q$20), Help!$J$24:$J$30, Help!$K$24:$K$30 )","v":0},{"$f":"LOOKUP( Help!E26 - N($Q$20), Help!$J$24:$J$30, Help!$K$24:$K$30 )","v":0},{"$f":"LOOKUP( Help!F26 - N($Q$20), Help!$J$24:$J$30, Help!$K$24:$K$30 )","v":0},{"$f":"LOOKUP( Help!G26 - N($Q$20), Help!$J$24:$J$30, Help!$K$24:$K$30 )","v":0},{"$f":"LOOKUP( Help!H26 - N($Q$20), Help!$J$24:$J$30, Help!$K$24:$K$30 )","v":0},{"$f":"IF( COUNTIF( K20:P22, \">0\" ) > 0, $B20 * Q21, INPUT_Kort_Bedrag )","v":"   €"},null,null,null,null,null,null,null,null,null,{"$f":"IF( B22 <> \"\", B22, \"\" )","v":"Cava, Wijn:  I I"},{"$f":"LOOKUP( Help!C26 - N($AH$20), Help!$J$24:$J$30, Help!$K$24:$K$30 )","v":0},{"$f":"LOOKUP( Help!D26 - N($AH$20), Help!$J$24:$J$30, Help!$K$24:$K$30 )","v":0},{"$f":"LOOKUP( Help!E26 - N($AH$20), Help!$J$24:$J$30, Help!$K$24:$K$30 )","v":0},{"$f":"LOOKUP( Help!F26 - N($AH$20), Help!$J$24:$J$30, Help!$K$24:$K$30 )","v":0},{"$f":"LOOKUP( Help!G26 - N($AH$20), Help!$J$24:$J$30, Help!$K$24:$K$30 )","v":0},{"$f":"LOOKUP( Help!H26 - N($AH$20), Help!$J$24:$J$30, Help!$K$24:$K$30 )","v":0},{"$f":"IF( COUNTIF( AB20:AG22, \">0\" ) > 0, $B20 * AH21, INPUT_Kort_Bedrag )","v":"   €"},null,{"$f":"LOOKUP( Help!C26 - N($AP$20), Help!$J$24:$J$30, Help!$K$24:$K$30 )","v":0},{"$f":"LOOKUP( Help!D26 - N($AP$20), Help!$J$24:$J$30, Help!$K$24:$K$30 )","v":0},{"$f":"LOOKUP( Help!E26 - N($AP$20), Help!$J$24:$J$30, Help!$K$24:$K$30 )","v":0},{"$f":"LOOKUP( Help!F26 - N($AP$20), Help!$J$24:$J$30, Help!$K$24:$K$30 )","v":0},{"$f":"LOOKUP( Help!G26 - N($AP$20), Help!$J$24:$J$30, Help!$K$24:$K$30 )","v":0},{"$f":"LOOKUP( Help!H26 - N($AP$20), Help!$J$24:$J$30, Help!$K$24:$K$30 )","v":0},{"$f":"IF( COUNTIF( AJ20:AO22, \">0\" ) > 0, $B20 * AP21, INPUT_Kort_Bedrag )","v":"   €"},null,null,null,null,null,null,null,null,null,"Rekeningnummer:       BE42 7330 0834 4454"]
[null,null,null,null,null,null,null,null,null,null,"Poef: OFWEL afgerekende betalingen",null,null,null,null,null,null,null,null,null,null,null,null,null,null,null,null,null,null,null,null,null,null,null,null,{"$f":"K23","v":"Poef: OFWEL afgerekende betalingen"},null,null,null,null,null,null,null,null,null,null,null,null,null,null,null,null,null,null,null,null,null,"Totaal",{"$f":"IF( COUNT( BF8:BF21 ) > 0, SUMPRODUCT( BE8:BE21, BF8:BF21 ), INPUT_Kort_Bedrag )","v":"   €"},null,null,"Totaal",{"$f":"IF( COUNT( BJ8:BJ21 ) > 0, SUMPRODUCT( BI8:BI21, BJ8:BJ21 ), INPUT_Kort_Bedrag )","v":"   €"}]
[null,null,null,null,null,null,null,null,null,null,null,null,null,null,null,null,null,null,null,null,null,null,null,null,null,null,null,null,null,null,null,null,null,null,null,null,null,null,null,null,null,null,null,null,null,null,null,null,null,null,null,"Dagomzet",null,{"$f":"BB31","v":"….................. €"},"+"]
[null,null,null,null,null,null,null,null,null,null,null,null,null,null,null,null,null,null,null,null,null,null,null,null,null,null,null,null,null,null,null,null,null,null,null,null,null,null,null,null,null,null,null,null,null,null,null,null,null,null,null,{"$f":"\"Rekening \" & INPUT_Eigenaar","v":"Rekening De Weerdt"},null,{"$f":"BB19","v":"….................. €"},"-"]
[null,null,null,null,null,null,null,null,null,null,null,null,null,null,null,null,null,null,null,null,null,null,null,null,null,null,null,null,null,null,null,null,null,null,null,null,null,null,null,null,null,null,null,null,null,null,null,null,null,null,null,"Scheidsrechter",null,{"$f":"INPUT_Lang_Bedrag","v":"….................. €"},"-"]
[null,null,{"$f":"UPPER( B2 )","v":"LUCYVO"},null,null,null,null,null,null,null,null,null,null,null,null,null,null,null,null,null,null,null,null,null,null,null,null,{"$f":"UPPER( IF( BB7 = INPUT_Lange_Tekst, AA2, BB7 ) )","v":"TEGENSTANDER"},null,null,null,null,null,null,null,null,null,null,null,null,null,null,null,null,null,null,null,null,null,null,null,{"$f":"\"Kasresultaat \" & INPUT_Ploegnaam","v":"Kasresultaat Lucyvo"},null,{"$f":"IF( COUNT( BB24:BB26 ) > 0, SUM( BB24 ) - SUM( BB25 ) - SUM( BB26 ), INPUT_Lang_Bedrag )","v":"….................. €"},null,null,null,{"$f":"\"Paraaf \" & INPUT_Ploegnaam","v":"Paraaf Lucyvo"}]
[]
[null,null,null,null,null,null,null,null,null,null,null,null,null,null,null,null,null,null,null,null,null,null,null,null,null,null,null,null,null,null,null,null,null,null,null,null,null,null,null,null,null,null,null,null,null,null,null,null,null,null,null,{"$f":"PROPER( C27 )","v":"Lucyvo"},null,{"$f":"IF( COUNT( I34, Y34 ) > 0, SUM( I34 ) + SUM( Y34 ), INPUT_Lang_Bedrag )","v":"….................. €"},"+"]
[null,null,null,null,null,null,null,null,null,null,null,null,null,null,null,null,null,null,null,null,null,null,null,null,null,null,null,null,null,null,null,null,null,null,null,null,null,null,null,null,null,null,null,null,null,null,null,null,null,null,null,{"$f":"PROPER( AB27 )","v":"Tegenstander"},null,{"$f":"IF( COUNT( AH34, AX34 ) > 0, SUM( AH34 ) + SUM( AX34 ), INPUT_Lang_Bedrag )","v":"….................. €"},"+"]
[null,null,null,null,null,null,null,null,null,null,null,null,null,null,null,null,null,null,null,null,null,null,null,null,null,null,null,null,null,null,null,null,null,null,null,null,null,null,null,null,null,null,null,null,null,null,null,null,null,null,null,"Dagomzet",null,{"$f":"IF( COUNT( BB29:BB30 ) > 0, SUM( BB29 ) + SUM( BB30 ), INPUT_Lang_Bedrag )","v":"….................. €"},null,null,null,{"$f":"\"Paraaf \" & INPUT_Eigenaar","v":"Paraaf De Weerdt"}]
[null,null,null,null,null,null,null,null,null,null,null,null,null,null,null,null,{"$f":"IF( COUNT( K25:P32 ) > 0, SUM( K25:P32 ), INPUT_Kort_Bedrag )","v":"   €"},null,null,null,null,null,null,null,{"$f":"IF( COUNT( S10:X32 ) > 0, SUM( S10:X32 ), INPUT_Kort_Bedrag )","v":"   €"},null,null,null,null,null,null,null,null,null,null,null,null,null,null,null,null,{"$f":"IF( COUNT( AJ25:AO32 ) > 0, SUM( AJ25:AO32 ), INPUT_Kort_Bedrag )","v":"   €"},null,null,null,null,null,null,null,{"$f":"IF( COUNT( AR10:AW32 ) > 0, SUM( AR10:AW32 ), INPUT_Kort_Bedrag )","v":"   €"}]
[null,null,null,null,null,null,null,null,null,null,null,null,null,null,null,null,null,null,null,null,null,null,null,null,null,null,null,null,null,null,null,null,null,null,null,null,null,null,null,null,null,null,null,null,null,null,null,null,null,null,null,{"$f":"\"Afrekening \" & AZ29","v":"Afrekening Lucyvo"},null,{"$f":"IF( COUNT( I34, Q34 ) > 0, SUM( I34 ) - SUM( Q34 ), INPUT_Lang_Bedrag )","v":"….................. €"}]
[null,null,null,null,null,null,"Subtotalen",null,{"$f":"IF( COUNTIF( C4:H22, \">0\" ) > 0, B4 * SUM( C4:H9 ) + B11 * SUM( C11:H14 ) + B16 * SUM( C16:H18 ) + B20 * SUM( C20:H22 ), INPUT_Kort_Bedrag )","v":"   €"},null,null,null,null,null,null,null,{"$f":"IF( COUNTIF( K4:P32, \">0\" ) > 0, SUM( Q9, Q14, Q18, Q22, Q32 ), INPUT_Kort_Bedrag )","v":"   €"},null,null,null,null,null,null,null,{"$f":"IF( COUNT( S10:X32 ) > 0, Y32, INPUT_Kort_Bedrag )","v":"   €"},null,null,null,null,null,null,{"$f":"G34","v":"Subtotalen"},null,{"$f":"IF( COUNTIF( AB4:AG22, \">0\" ) > 0, AA4 * SUM( AB4:AG9 ) + AA11 * SUM( AB11:AG14 ) + AA16 * SUM( AB16:AG18 ) + AA20 * SUM( AB20:AG22 ), INPUT_Kort_Bedrag )","v":"   €"},null,null,null,null,null,null,null,{"$f":"IF( COUNTIF( AJ4:AO32, \">0\" ) > 0, SUM( AP9, AP14, AP18, AP22, AP32 ), INPUT_Kort_Bedrag )","v":"   €"},null,null,null,null,null,null,null,{"$f":"IF( COUNT( AR10:AW32 ) > 0, AX32, INPUT_Kort_Bedrag )","v":"   €"},null,{"$f":"\"Afrekening \" & AZ30","v":"Afrekening Tegenstander"},null,{"$f":"IF( COUNT( AH34, AP34 ) > 0, SUM( AH34 ) - SUM( AP34 ), INPUT_Lang_Bedrag )","v":"….................. €"}]
[null,null,null,null,null,null,null,null,null,null,null,null,null,null,null,null,null,null,null,null,null,null,null,null,null,null,null,null,null,null,null,null,null,null,null,null,null,null,null,null,null,null,null,null,null,null,null,null,null,null,null,null,null,null,null,null,null,{"$f":"\"Rekening werd betaald aan \" & INPUT_Eigenaar","v":"Rekening werd betaald aan De Weerdt"},null,null,null,"Neen"]

{"sheet":"Help","index":1,"n_rows":30,"n_cols":11,"rows_kept":30,"cut":false,"hidden":false,"merged":[]}
[]
[null,"Constanten"]
[]
[null,"INPUT_Datum",{"$f":"\"         /         / \" & YEAR( TODAY())","v":"         /         / 2019"}]
[null,"INPUT_Kort_Bedrag","   €"]
[null,"INPUT_Lang_Bedrag","….................. €"]
[null,"INPUT_Korte_Tekst","…....................."]
[null,"INPUT_Lange_Tekst","…....................................."]
[null,"INPUT_Stuks","   st"]
[]
[null,"INPUT_Ploegnaam","Lucyvo"]
[null,"INPUT_PloegNaamTegenstander","Tegenstander"]
[null,"INPUT_Eigenaar","De Weerdt"]
[]
[]
[null,"Lijsten"]
[]
[null,"INPUT_Ploegnamen",{"$f":"INPUT_Ploegnaam","v":"Lucyvo"}]
[null,null,{"$f":"INPUT_PloegNaamTegenstander","v":"Tegenstander"}]
[]
[]
[null,"Turven"]
[null,null,null,null,null,null,null,null,null,"Opzoekwaarde","Uitkomst"]
[null,null,5,10,15,20,25,30,null,-500,5]
[null,null,35,40,45,50,55,60,null,1,4]
[null,null,65,70,75,80,85,90,null,2,3]
[null,null,95,100,105,110,115,120,null,3,2]
[null,null,125,130,135,140,145,150,null,4,1]
[null,null,155,160,165,170,175,180,null,5,0]
[null,null,null,null,null,null,null,null,null,500,0]