{"text_format":"1","workbook":"xlsx","n_sheets":11,"sheets":["Uitleg","Reglement","Blad1","Kassen","Blad2","Blad3","Blad4","Blad5","Blad6","Blad7","Blad8"],"not_rendered":{"charts":0,"images":0,"macros":0,"external_links":0,"defined_names":0,"comments":0,"pivot_tables":0},"unopened":[],"bounds":{"document_bytes":16777216,"sheet_cells":100000,"rows_first":2000,"rows_last":500,"rows_between":2000,"halvings":0,"cell_chars":16384,"cell_head_chars":4096},"cells_cut":0,"cells_raw":0,"read":"whole","date_system":"1900"}

{"sheet":"Uitleg","index":0,"n_rows":52,"n_cols":3,"rows_kept":52,"cut":false,"hidden":false,"merged":[]}
["Blad Reglement:",null,"Elk(nieuw) lid ontvangt dit reglement"]
[null,null,"In te vullen volgens de plaatselijke noodwendigheden."]
[]
["Blad 1:",null,"Is bedoeld voor het handmatig noteren van de lichting;"]
[null,null,"De penningmeester vult 3x de naam van de spaarkas in(eenmalig)"]
[null,null,"Past de datum van de lichting en de namen van de tellers aan."]
[null,null,"Verwijderd de nulwaarden en print blad 1."]
[null,null,"Legt het resultaat ter beschikking van de tellers op de afgesproken plaats."]
[null,null,"Dit is mogelijkheid 1:indien de tellers niet over een stick en/of een labtop beschikken."]
[null,null,"Mogelijkheid 2:met stick en/of labtop."]
[null,null,"Op de stick staat alleen blad 1,aangezien de andere bladen alleen voor de penning- "]
[null,null,"meester voorzien zijn.(men moet niet weten wat een ander gespaard heeft)"]
[]
["Blad kassen:",null,"Vanaf hier begint het rechtstreeks ingeven van de gegevens op bladen 2,3 en 4."]
[null,null,"Indien de penningmeester aanwezig is bij de telling geeft hij hier de inhoud van elke"]
[null,null,"kas in,of geeft hij de gegevens van blad 1 in."]
[null,null,"Het enige verschil met blad 1 is,dat voor elke kas nu ook de resterende maanden"]
[null,null,"vermeld staan."]
[null,null,"Alle gegevens staan nu op blad 2."]
[]
["Blad 2:",null,"De penningmeester vult de naam van de spaarkas in(eenmalig)."]
[null,null,"Vult de namen en voornamen van de spaarders in."]
[null,null,"Kolom lege cellen:Staat in het begin van het jaar op 12,verminderd naargelang er"]
[null,null,"gegevens komen te staan in de vorige kolommen(gespaard of niet)."]
[null,null,"Kolom bedrag:Eventueel aan te passen aan het bedrag boete(spaarreglement)."]
[null,null,"Kolom lege cellen x kolom bedrag = te betalen boete."]
[null,null,"Kolom Onk: komen rechtstreeks de gegevens van blad 4(zie uitleg blad 4)."]
[null,null,"Kolom Totaal = Totaal gespaard - boete - onkosten."]
[null,null,"Dit totaal staat nu op blad 3."]
[null,null,"Op dit blad alleen de namen en voornamen en de kolom bedrag aanpassen."]
[]
["Blad 3:",null,"Op dit blad staan de kas nummers,de gegevens totaal blad 2 en ernaast het"]
[null,null,"aantal biljetten en muntstukken nodig om dit bedrag te vormen."]
[null,null,"GROEN = GEEL(aan het begin van het jaar niet,komt juist met de nodige gegevens) "]
[null,null,"BLAUW = ROOD(aantallen nodig voor uitbetaling of het vormen van de omslagen)"]
[]
["Blad 4:",null,"Overzicht sparen per kas:Overal de naam van de spaarkas invullen(eenmalig)"]
[null,null,"Kan gebruikt worden om in de omslag bijgevoegd te worden(controle voor spaarder)"]
[null,null,"Gespaard bedrag - boete - onkosten = bedrag uitbetaling."]
[null,null,"Reden onkosten: Kan zijn:Lidgeld,bijdrage feest,geschenk,bloemen enz…"]
[null,null,"De penningmeester noteert de reden en het bedrag(de bedragen worden opgeteld"]
[null,null,"(blauw) en komen rechtstreeks op blad 2 kolom Onk te staan)."]
[]
["Blad 5:",null,"Kasboek van de penningmeester."]
[]
["Blad 6:",null,"Tekenlijst voor uitbetaling."]
[]
["Blad 7:",null,"Deelname activiteit."]
[null,null,"Betaling"]
[]
["Blad 8:",null,"Deelname activiteit."]
[null,null,"Inschrijving"]

{"sheet":"Reglement","index":1,"n_rows":0,"n_cols":0,"rows_kept":0,"cut":false,"hidden":false,"merged":[]}

{"sheet":"Blad1","index":2,"n_rows":125,"n_cols":27,"rows_kept":125,"cut":false,"hidden":false,"merged":[]}
["NAAM SPAARKAS :"]
[]
["DATUM LICHTING : "]
[]
["TELLERS:"]
[]
["KAS",1,null,null,null,"KAS",2,null,null,null,"KAS",3,null,null,null,"KAS",4,null,null,null,"KAS",5]
[null,"  x",50,{"$f":"(A8*C8)","v":0},null,null,"  x",50,{"$f":"(F8*H8)","v":0},null,null,"  x",50,{"$f":"(K8*M8)","v":0},null,null,"  x",50,{"$f":"(P8*R8)","v":0},null,null,"  x",50,{"$f":"(U8*W8)","v":0}]
[null,"  x",20,{"$f":"(A9*C9)","v":0},null,null,"  x",20,{"$f":"(F9*H9)","v":0},null,null,"  x",20,{"$f":"(K9*M9)","v":0},null,null,"  x",20,{"$f":"(P9*R9)","v":0},null,null,"  x",20,{"$f":"(U9*W9)","v":0}]
[null,"  x",10,0,null,null,"  x",10,0,null,null,"  x",10,0,null,null,"  x",10,0,null,null,"  x",10,0]
[null,"  x",5,0,null,null,"  x",5,0,null,null,"  x",5,0,null,null,"  x",5,0,null,null,"  x",5,0]
[null,"  x",2,0,null,null,"  x",2,0,null,null,"  x",2,0,null,null,"  x",2,0,null,null,"  x",2,0]
[null,"  x",1,0,null,null,"  x",1,0,null,null,"  x",1,0,null,null,"  x",1,0,null,null,"  x",1,0]
[null,"  x",0.5,0,null,null,"  x",0.5,0,null,null,"  x",0.5,0,null,null,"  x",0.5,0,null,null,"  x",0.5,0]
[null,"  x",0.2,0,null,null,"  x",0.2,0,null,null,"  x",0.2,0,null,null,"  x",0.2,0,null,null,"  x",0.2,0]
[null,"  x",0.1,0,null,null,"  x",0.1,0,null,null,"  x",0.1,0,null,null,"  x",0.1,0,null,null,"  x",0.1,0]
[null,"  x",0.05,0,null,null,"  x",0.05,0,null,null,"  x",0.05,0,null,null,"  x",0.05,0,null,null,"  x",0.05,0]
[null,"  x",0.02,0,null,null,"  x",0.02,0,null,null,"  x",0.02,0,null,null,"  x",0.02,0,null,null,"  x",0.02,0]
[null,"  x",0.01,0,null,null,"  x",0.01,0,null,null,"  x",0.01,0,null,null,"  x",0.01,0,null,null,"  x",0.01,0]
[null,"Totaal:",null,{"$f":"SUM(D8:D19)","v":0},null,null,"Totaal:",null,{"$f":"SUM(I8:I19)","v":0},null,null,"Totaal:",null,{"$f":"SUM(N8:N19)","v":0},null,null,"Totaal:",null,{"$f":"SUM(S8:S19)","v":0},null,null,"Totaal:",null,{"$f":"SUM(X8:X19)","v":0}]
[]
[]
[]
[]
[]
["KAS",6,null,null,null,"KAS",7,null,null,null,"KAS",8,null,null,null,"KAS",9,null,null,null,"KAS",10]
[null,"  x",50,{"$f":"(A27*C27)","v":0},null,null,"  x",50,{"$f":"(F27*H27)","v":0},null,null,"  x",50,{"$f":"(K27*M27)","v":0},null,null,"  x",50,{"$f":"(P27*R27)","v":0},null,null,"  x",50,{"$f":"(U27*W27)","v":0}]
[null,"  x",20,{"$f":"(A28*C28)","v":0},null,null,"  x",20,{"$f":"(F28*H28)","v":0},null,null,"  x",20,{"$f":"(K28*M28)","v":0},null,null,"  x",20,{"$f":"(P28*R28)","v":0},null,null,"  x",20,{"$f":"(U28*W28)","v":0}]
[null,"  x",10,0,null,null,"  x",10,0,null,null,"  x",10,0,null,null,"  x",10,0,null,null,"  x",10,0]
[null,"  x",5,0,null,null,"  x",5,0,null,null,"  x",5,0,null,null,"  x",5,0,null,null,"  x",5,0]
[null,"  x",2,0,null,null,"  x",2,0,null,null,"  x",2,0,null,null,"  x",2,0,null,null,"  x",2,0]
[null,"  x",1,0,null,null,"  x",1,0,null,null,"  x",1,0,null,null,"  x",1,0,null,null,"  x",1,0]
[null,"  x",0.5,0,null,null,"  x",0.5,0,null,null,"  x",0.5,0,null,null,"  x",0.5,0,null,null,"  x",0.5,0]
[null,"  x",0.2,0,null,null,"  x",0.2,0,null,null,"  x",0.2,0,null,null,"  x",0.2,0,null,null,"  x",0.2,0]
[null,"  x",0.1,0,null,null,"  x",0.1,0,null,null,"  x",0.1,0,null,null,"  x",0.1,0,null,null,"  x",0.1,0]
[null,"  x",0.05,0,null,null,"  x",0.05,0,null,null,"  x",0.05,0,null,null,"  x",0.05,0,null,null,"  x",0.05,0]
[null,"  x",0.02,0,null,null,"  x",0.02,0,null,null,"  x",0.02,0,null,null,"  x",0.02,0,null,null,"  x",0.02,0]
[null,"  x",0.01,0,null,null,"  x",0.01,0,null,null,"  x",0.01,0,null,null,"  x",0.01,0,null,null,"  x",0.01,0]
[null,"Totaal:",null,{"$f":"SUM(D27:D38)","v":0},null,null,"Totaal:",null,{"$f":"SUM(I27:I38)","v":0},null,null,"Totaal:",null,{"$f":"SUM(N27:N38)","v":0},null,null,"Totaal:",null,{"$f":"SUM(S27:S38)","v":0},null,null,"Totaal:",null,{"$f":"SUM(X27:X38)","v":0}]
[]
[]
[]
[]
["NAAM SPAARKAS :"]
[]
["DATUM LICHTING : "]
[]
["TELLERS:"]
[]
["KAS",11,null,null,null,"KAS",12,null,null,null,"KAS",13,null,null,null,"KAS",14,null,null,null,"KAS",15]
[null,"  x",50,{"$f":"(A51*C51)","v":0},null,null,"  x",50,{"$f":"(F51*H51)","v":0},null,null,"  x",50,{"$f":"(K51*M51)","v":0},null,null,"  x",50,{"$f":"(P51*R51)","v":0},null,null,"  x",50,{"$f":"(U51*W51)","v":0}]
[null,"  x",20,{"$f":"(A52*C52)","v":0},null,null,"  x",20,{"$f":"(F52*H52)","v":0},null,null,"  x",20,{"$f":"(K52*M52)","v":0},null,null,"  x",20,{"$f":"(P52*R52)","v":0},null,null,"  x",20,{"$f":"(U52*W52)","v":0}]
[null,"  x",10,0,null,null,"  x",10,0,null,null,"  x",10,0,null,null,"  x",10,0,null,null,"  x",10,0]
[null,"  x",5,0,null,null,"  x",5,0,null,null,"  x",5,0,null,null,"  x",5,0,null,null,"  x",5,0]
[null,"  x",2,0,null,null,"  x",2,0,null,null,"  x",2,0,null,null,"  x",2,0,null,null,"  x",2,0]
[null,"  x",1,0,null,null,"  x",1,0,null,null,"  x",1,0,null,null,"  x",1,0,null,null,"  x",1,0]
[null,"  x",0.5,0,null,null,"  x",0.5,0,null,null,"  x",0.5,0,null,null,"  x",0.5,0,null,null,"  x",0.5,0]
[null,"  x",0.2,0,null,null,"  x",0.2,0,null,null,"  x",0.2,0,null,null,"  x",0.2,0,null,null,"  x",0.2,0]
[null,"  x",0.1,0,null,null,"  x",0.1,0,null,null,"  x",0.1,0,null,null,"  x",0.1,0,null,null,"  x",0.1,0]
[null,"  x",0.05,0,null,null,"  x",0.05,0,null,null,"  x",0.05,0,null,null,"  x",0.05,0,null,null,"  x",0.05,0]
[null,"  x",0.02,0,null,null,"  x",0.02,0,null,null,"  x",0.02,0,null,null,"  x",0.02,0,null,null,"  x",0.02,0]
[null,"  x",0.01,0,null,null,"  x",0.01,0,null,null,"  x",0.01,0,null,null,"  x",0.01,0,null,null,"  x",0.01,0]
[null,"Totaal:",null,{"$f":"SUM(D51:D62)","v":0},null,null,"Totaal:",null,{"$f":"SUM(I51:I62)","v":0},null,null,"Totaal:",null,{"$f":"SUM(N51:N62)","v":0},null,null,"Totaal:",null,{"$f":"SUM(S51:S62)","v":0},null,null,"Totaal:",null,{"$f":"SUM(X51:X62)","v":0}]
[]
[]
[]
[]
[]
["KAS",16,null,null,null,"KAS",17,null,null,null,"KAS",18,null,null,null,"KAS",19,null,null,null,"KAS",20]
[null,"  x",50,{"$f":"(A70*C70)","v":0},null,null,"  x",50,{"$f":"(F70*H70)","v":0},null,null,"  x",50,{"$f":"(K70*M70)","v":0},null,null,"  x",50,{"$f":"(P70*R70)","v":0},null,null,"  x",50,{"$f":"(U70*W70)","v":0}]
[null,"  x",20,{"$f":"(A71*C71)","v":0},null,null,"  x",20,{"$f":"(F71*H71)","v":0},null,null,"  x",20,{"$f":"(K71*M71)","v":0},null,null,"  x",20,{"$f":"(P71*R71)","v":0},null,null,"  x",20,{"$f":"(U71*W71)","v":0}]
[null,"  x",10,0,null,null,"  x",10,0,null,null,"  x",10,0,null,null,"  x",10,0,null,null,"  x",10,0]
[null,"  x",5,0,null,null,"  x",5,0,null,null,"  x",5,0,null,null,"  x",5,0,null,null,"  x",5,0]
[null,"  x",2,0,null,null,"  x",2,0,null,null,"  x",2,0,null,null,"  x",2,0,null,null,"  x",2,0]
[null,"  x",1,0,null,null,"  x",1,0,null,null,"  x",1,0,null,null,"  x",1,0,null,null,"  x",1,0]
[null,"  x",0.5,0,null,null,"  x",0.5,0,null,null,"  x",0.5,0,null,null,"  x",0.5,0,null,null,"  x",0.5,0]
[null,"  x",0.2,0,null,null,"  x",0.2,0,null,null,"  x",0.2,0,null,null,"  x",0.2,0,null,null,"  x",0.2,0]
[null,"  x",0.1,0,null,null,"  x",0.1,0,null,null,"  x",0.1,0,null,null,"  x",0.1,0,null,null,"  x",0.1,0]
[null,"  x",0.05,0,null,null,"  x",0.05,0,null,null,"  x",0.05,0,null,null,"  x",0.05,0,null,null,"  x",0.05,0]
[null,"  x",0.02,0,null,null,"  x",0.02,0,null,null,"  x",0.02,0,null,null,"  x",0.02,0,null,null,"  x",0.02,0]
[null,"  x",0.01,0,null,null,"  x",0.01,0,null,null,"  x",0.01,0,null,null,"  x",0.01,0,null,null,"  x",0.01,0]
[null,"Totaal:",null,{"$f":"SUM(D70:D81)","v":0},null,null,"Totaal:",null,{"$f":"SUM(I70:I81)","v":0},null,null,"Totaal:",null,{"$f":"SUM(N70:N81)","v":0},null,null,"Totaal:",null,{"$f":"SUM(S70:S81)","v":0},null,null,"Totaal:",null,{"$f":"SUM(X70:X81)","v":0}]
[]
[]
[]
[]
["NAAM SPAARKAS :",null,null,null,null,null,null,null,null,null,null,null,null,null,null,null,null,null,null,null,null,null,null,null,null,"KAS:","BEDRAG:"]
[null,null,null,null,null,null,null,null,null,null,null,null,null,null,null,null,null,null,null,null,null,null,null,null,null,1,{"$f":"D20","v":0}]
["DATUM LICHTING : ",null,null,null,null,null,null,null,null,null,null,null,null,null,null,null,null,null,null,null,null,null,null,null,null,2,{"$f":"I20","v":0}]
[null,null,null,null,null,null,null,null,null,null,null,null,null,null,null,null,null,null,null,null,null,null,null,null,null,3,{"$f":"N20","v":0}]
["TELLERS:",null,null,null,null,null,null,null,null,null,null,null,null,null,null,null,null,null,null,null,null,null,null,null,null,4,{"$f":"S20","v":0}]
[null,null,null,null,null,null,null,null,null,null,null,null,null,null,null,null,null,null,null,null,null,null,null,null,null,5,{"$f":"X20","v":0}]
["KAS",21,null,null,null,"KAS",22,null,null,null,"KAS",23,null,null,null,"KAS",24,null,null,null,"KAS",25,null,null,null,6,{"$f":"D39","v":0}]
[null,"  x",50,{"$f":"(A94*C94)","v":0},null,null,"  x",50,{"$f":"(F94*H94)","v":0},null,null,"  x",50,{"$f":"(K94*M94)","v":0},null,null,"  x",50,{"$f":"(P94*R94)","v":0},null,null,"  x",50,{"$f":"(U94*W94)","v":0},null,7,{"$f":"I39","v":0}]
[null,"  x",20,{"$f":"(A95*C95)","v":0},null,null,"  x",20,{"$f":"(F95*H95)","v":0},null,null,"  x",20,{"$f":"(K95*M95)","v":0},null,null,"  x",20,{"$f":"(P95*R95)","v":0},null,null,"  x",20,{"$f":"(U95*W95)","v":0},null,8,{"$f":"N39","v":0}]
[null,"  x",10,0,null,null,"  x",10,0,null,null,"  x",10,0,null,null,"  x",10,0,null,null,"  x",10,0,null,9,{"$f":"S39","v":0}]
[null,"  x",5,0,null,null,"  x",5,0,null,null,"  x",5,0,null,null,"  x",5,0,null,null,"  x",5,0,null,10,{"$f":"X39","v":0}]
[null,"  x",2,0,null,null,"  x",2,0,null,null,"  x",2,0,null,null,"  x",2,0,null,null,"  x",2,0,null,11,{"$f":"D63","v":0}]
[null,"  x",1,0,null,null,"  x",1,0,null,null,"  x",1,0,null,null,"  x",1,0,null,null,"  x",1,0,null,12,{"$f":"I63","v":0}]
[null,"  x",0.5,0,null,null,"  x",0.5,0,null,null,"  x",0.5,0,null,null,"  x",0.5,0,null,null,"  x",0.5,0,null,13,{"$f":"N63","v":0}]
[null,"  x",0.2,0,null,null,"  x",0.2,0,null,null,"  x",0.2,0,null,null,"  x",0.2,0,null,null,"  x",0.2,0,null,14,{"$f":"S63","v":0}]
[null,"  x",0.1,0,null,null,"  x",0.1,0,null,null,"  x",0.1,0,null,null,"  x",0.1,0,null,null,"  x",0.1,0,null,15,{"$f":"X63","v":0}]
[null,"  x",0.05,0,null,null,"  x",0.05,0,null,null,"  x",0.05,0,null,null,"  x",0.05,0,null,null,"  x",0.05,0,null,16,{"$f":"D82","v":0}]
[null,"  x",0.02,0,null,null,"  x",0.02,0,null,null,"  x",0.02,0,null,null,"  x",0.02,0,null,null,"  x",0.02,0,null,17,{"$f":"I82","v":0}]
[null,"  x",0.01,0,null,null,"  x",0.01,0,null,null,"  x",0.01,0,null,null,"  x",0.01,0,null,null,"  x",0.01,0,null,18,{"$f":"N82","v":0}]
[null,"Totaal:",null,{"$f":"SUM(D94:D105)","v":0},null,null,"Totaal:",null,{"$f":"SUM(I94:I105)","v":0},null,null,"Totaal:",null,{"$f":"SUM(N94:N105)","v":0},null,null,"Totaal:",null,{"$f":"SUM(S94:S105)","v":0},null,null,"Totaal:",null,{"$f":"SUM(X94:X105)","v":0},null,19,{"$f":"S82","v":0}]
[null,null,null,null,null,null,null,null,null,null,null,null,null,null,null,null,null,null,null,null,null,null,null,null,null,20,{"$f":"X82","v":0}]
[null,null,null,null,null,null,null,null,null,null,null,null,null,null,null,null,null,null,null,null,null,null,null,null,null,21,{"$f":"D106","v":0}]
[null,null,null,null,null,null,null,null,null,null,null,null,null,null,null,null,null,null,null,null,null,null,null,null,null,22,{"$f":"I106","v":0}]
[null,null,null,null,null,null,null,null,null,null,null,null,null,null,null,null,null,null,null,null,null,null,null,null,null,23,{"$f":"N106","v":0}]
[null,null,null,null,null,null,null,null,null,null,null,null,null,null,null,null,null,null,null,null,null,null,null,null,null,24,{"$f":"S106","v":0}]
["KAS",26,null,null,null,"KAS",27,null,null,null,"KAS",28,null,null,null,"KAS",29,null,null,null,"KAS",30,null,null,null,25,{"$f":"X106","v":0}]
[null,"  x",50,{"$f":"(A113*C113)","v":0},null,null,"  x",50,{"$f":"(F113*H113)","v":0},null,null,"  x",50,{"$f":"(K113*M113)","v":0},null,null,"  x",50,{"$f":"(P113*R113)","v":0},null,null,"  x",50,{"$f":"(U113*W113)","v":0},null,26,{"$f":"D125","v":0}]
[null,"  x",20,{"$f":"(A114*C114)","v":0},null,null,"  x",20,{"$f":"(F114*H114)","v":0},null,null,"  x",20,{"$f":"(K114*M114)","v":0},null,null,"  x",20,{"$f":"(P114*R114)","v":0},null,null,"  x",20,{"$f":"(U114*W114)","v":0},null,27,{"$f":"I125","v":0}]
[null,"  x",10,0,null,null,"  x",10,0,null,null,"  x",10,0,null,null,"  x",10,0,null,null,"  x",10,0,null,28,{"$f":"N125","v":0}]
[null,"  x",5,0,null,null,"  x",5,0,null,null,"  x",5,0,null,null,"  x",5,0,null,null,"  x",5,0,null,29,{"$f":"S125","v":0}]
[null,"  x",2,0,null,null,"  x",2,0,null,null,"  x",2,0,null,null,"  x",2,0,null,null,"  x",2,0,null,30,{"$f":"X125","v":0}]
[null,"  x",1,0,null,null,"  x",1,0,null,null,"  x",1,0,null,null,"  x",1,0,null,null,"  x",1,0,"             Totaal:",null,{"$f":"SUM(AA88:AA117)","v":0}]
[null,"  x",0.5,0,null,null,"  x",0.5,0,null,null,"  x",0.5,0,null,null,"  x",0.5,0,null,null,"  x",0.5,0]
[null,"  x",0.2,0,null,null,"  x",0.2,0,null,null,"  x",0.2,0,null,null,"  x",0.2,0,null,null,"  x",0.2,0]
[null,"  x",0.1,0,null,null,"  x",0.1,0,null,null,"  x",0.1,0,null,null,"  x",0.1,0,null,null,"  x",0.1,0]
[null,"  x",0.05,0,null,null,"  x",0.05,0,null,null,"  x",0.05,0,null,null,"  x",0.05,0,null,null,"  x",0.05,0]
[null,"  x",0.02,0,null,null,"  x",0.02,0,null,null,"  x",0.02,0,null,null,"  x",0.02,0,null,null,"  x",0.02,0]
[null,"  x",0.01,0,null,null,"  x",0.01,0,null,null,"  x",0.01,0,null,null,"  x",0.01,0,null,null,"  x",0.01,0]
[null,"Totaal:",null,{"$f":"SUM(D113:D124)","v":0},null,null,"Totaal:",null,{"$f":"SUM(I113:I124)","v":0},null,null,"Totaal:",null,{"$f":"SUM(N113:N124)","v":0},null,null,"Totaal:",null,{"$f":"SUM(S113:S124)","v":0},null,null,"Totaal:",null,{"$f":"SUM(X113:X124)","v":0}]

{"sheet":"Kassen","index":3,"n_rows":524,"n_cols":14,"rows_kept":524,"cut":false,"hidden":false,"merged":[]}
[]
["Kas ",1]
["Biljetten en munten","Jan","Feb","Mrt","Apr","Mei","Jun","Jul","Aug","Sep","Okt","Nov","Dec","Totaal"]
[50,null,null,null,null,null,null,null,null,null,null,null,null,{"$f":"SUM(B4:M4)","v":0}]
[20,null,null,null,null,null,null,null,null,null,null,null,null,{"$f":"SUM(B5:M5)","v":0}]
[10,null,null,null,null,null,null,null,null,null,null,null,null,0]
[5,null,null,null,null,null,null,null,null,null,null,null,null,0]
[2,null,null,null,null,null,null,null,null,null,null,null,null,0]
[1,null,null,null,null,null,null,null,null,null,null,null,null,0]
[0.5,null,null,null,null,null,null,null,null,null,null,null,null,0]
[0.2,null,null,null,null,null,null,null,null,null,null,null,null,0]
[0.1,null,null,null,null,null,null,null,null,null,null,null,null,0]
[0.05,null,null,null,null,null,null,null,null,null,null,null,null,0]
[0.02,null,null,null,null,null,null,null,null,null,null,null,null,0]
[0.01,null,null,null,null,null,null,null,null,null,null,null,null,0]
["Totalen",{"$f":"SUMPRODUCT($A4:$A15,B4:B15)","v":0},{"$f":"SUMPRODUCT($A4:$A15,C4:C15)","v":0},0,0,0,0,0,0,0,0,0,0,0]
[]
[]
["Kas",{"$f":"B2+1","v":2}]
["Biljetten en munten","Jan","Feb","Mrt","Apr","Mei","Jun","Jul","Aug","Sep","Okt","Nov","Dec","Totaal"]
[50,null,null,null,null,null,null,null,null,null,null,null,null,{"$f":"SUM(B21:M21)","v":0}]
[20,null,null,null,null,null,null,null,null,null,null,null,null,{"$f":"SUM(B22:M22)","v":0}]
[10,null,null,null,null,null,null,null,null,null,null,null,null,0]
[5,null,null,null,null,null,null,null,null,null,null,null,null,0]
[2,null,null,null,null,null,null,null,null,null,null,null,null,0]
[1,null,null,null,null,null,null,null,null,null,null,null,null,0]
[0.5,null,null,null,null,null,null,null,null,null,null,null,null,0]
[0.2,null,null,null,null,null,null,null,null,null,null,null,null,0]
[0.1,null,null,null,null,null,null,null,null,null,null,null,null,0]
[0.05,null,null,null,null,null,null,null,null,null,null,null,null,0]
[0.02,null,null,null,null,null,null,null,null,null,null,null,null,0]
[0.01,null,null,null,null,null,null,null,null,null,null,null,null,0]
["Totalen",{"$f":"SUMPRODUCT($A21:$A32,B21:B32)","v":0},{"$f":"SUMPRODUCT($A21:$A32,C21:C32)","v":0},0,0,0,0,0,0,0,0,0,0,0]
[]
[]
["Kas",{"$f":"B19+1","v":3}]
["Biljetten en munten","Jan","Feb","Mrt","Apr","Mei","Jun","Jul","Aug","Sep","Okt","Nov","Dec","Totaal"]
[50,null,null,null,null,null,null,null,null,null,null,null,null,{"$f":"SUM(B38:M38)","v":0}]
[20,null,null,null,null,null,null,null,null,null,null,null,null,{"$f":"SUM(B39:M39)","v":0}]
[10,null,null,null,null,null,null,null,null,null,null,null,null,0]
[5,null,null,null,null,null,null,null,null,null,null,null,null,0]
[2,null,null,null,null,null,null,null,null,null,null,null,null,0]
[1,null,null,null,null,null,null,null,null,null,null,null,null,0]
[0.5,null,null,null,null,null,null,null,null,null,null,null,null,0]
[0.2,null,null,null,null,null,null,null,null,null,null,null,null,0]
[0.1,null,null,null,null,null,null,null,null,null,null,null,null,0]
[0.05,null,null,null,null,null,null,null,null,null,null,null,null,0]
[0.02,null,null,null,null,null,null,null,null,null,null,null,null,0]
[0.01,null,null,null,null,null,null,null,null,null,null,null,null,0]
["Totalen",{"$f":"SUMPRODUCT($A38:$A49,B38:B49)","v":0},{"$f":"SUMPRODUCT($A38:$A49,C38:C49)","v":0},{"$f":"SUMPRODUCT($A38:$A49,D38:D49)","v":0},0,0,0,0,0,0,0,0,0,0]
[]
[]
["Kas",{"$f":"B36+1","v":4}]
["Biljetten en munten","Jan","Feb","Mrt","Apr","Mei","Jun","Jul","Aug","Sep","Okt","Nov","Dec","Totaal"]
[50,null,null,null,null,null,null,null,null,null,null,null,null,{"$f":"SUM(B55:M55)","v":0}]
[20,null,null,null,null,null,null,null,null,null,null,null,null,{"$f":"SUM(B56:M56)","v":0}]
[10,null,null,null,null,null,null,null,null,null,null,null,null,0]
[5,null,null,null,null,null,null,null,null,null,null,null,null,0]
[2,null,null,null,null,null,null,null,null,null,null,null,null,0]
[1,null,null,null,null,null,null,null,null,null,null,null,null,0]
[0.5,null,null,null,null,null,null,null,null,null,null,null,null,0]
[0.2,null,null,null,null,null,null,null,null,null,null,null,null,0]
[0.1,null,null,null,null,null,null,null,null,null,null,null,null,0]
[0.05,null,null,null,null,null,null,null,null,null,null,null,null,0]
[0.02,null,null,null,null,null,null,null,null,null,null,null,null,0]
[0.01,null,null,null,null,null,null,null,null,null,null,null,null,0]
["Totalen",{"$f":"SUMPRODUCT($A55:$A66,B55:B66)","v":0},{"$f":"SUMPRODUCT($A55:$A66,C55:C66)","v":0},0,0,0,0,0,0,0,0,0,0,0]
[]
[]
[]
["Kas",{"$f":"B53+1","v":5}]
["Biljetten en munten","Jan","Feb","Mrt","Apr","Mei","Jun","Jul","Aug","Sep","Okt","Nov","Dec","Totaal"]
[50,null,null,null,null,null,null,null,null,null,null,null,null,{"$f":"SUM(B73:M73)","v":0}]
[20,null,null,null,null,null,null,null,null,null,null,null,null,{"$f":"SUM(B74:M74)","v":0}]
[10,null,null,null,null,null,null,null,null,null,null,null,null,0]
[5,null,null,null,null,null,null,null,null,null,null,null,null,0]
[2,null,null,null,null,null,null,null,null,null,null,null,null,0]
[1,null,null,null,null,null,null,null,null,null,null,null,null,0]
[0.5,null,null,null,null,null,null,null,null,null,null,null,null,0]
[0.2,null,null,null,null,null,null,null,null,null,null,null,null,0]
[0.1,null,null,null,null,null,null,null,null,null,null,null,null,0]
[0.05,null,null,null,null,null,null,null,null,null,null,null,null,0]
[0.02,null,null,null,null,null,null,null,null,null,null,null,null,0]
[0.01,null,null,null,null,null,null,null,null,null,null,null,null,0]
["Totalen",{"$f":"SUMPRODUCT($A73:$A84,B73:B84)","v":0},{"$f":"SUMPRODUCT($A73:$A84,C73:C84)","v":0},{"$f":"SUMPRODUCT($A73:$A84,D73:D84)","v":0},{"$f":"SUMPRODUCT($A73:$A84,E73:E84)","v":0},0,0,0,0,0,0,0,{"$f":"SUMPRODUCT($A73:$A84,M73:M84)","v":0},0]
[]
[]
["Kas",{"$f":"B71+1","v":6}]
["Biljetten en munten","Jan","Feb","Mrt","Apr","Mei","Jun","Jul","Aug","Sep","Okt","Nov","Dec","Totaal"]
[50,null,null,null,null,null,null,null,null,null,null,null,null,{"$f":"SUM(B90:M90)","v":0}]
[20,null,null,null,null,null,null,null,null,null,null,null,null,{"$f":"SUM(B91:M91)","v":0}]
[10,null,null,null,null,null,null,null,null,null,null,null,null,0]
[5,null,null,null,null,null,null,null,null,null,null,null,null,0]
[2,null,null,null,null,null,null,null,null,null,null,null,null,0]
[1,null,null,null,null,null,null,null,null,null,null,null,null,0]
[0.5,null,null,null,null,null,null,null,null,null,null,null,null,0]
[0.2,null,null,null,null,null,null,null,null,null,null,null,null,0]
[0.1,null,null,null,null,null,null,null,null,null,null,null,null,0]
[0.05,null,null,null,null,null,null,null,null,null,null,null,null,0]
[0.02,null,null,null,null,null,null,null,null,null,null,null,null,0]
[0.01,null,null,null,null,null,null,null,null,null,null,null,null,0]
["Totalen",{"$f":"SUMPRODUCT($A90:$A101,B90:B101)","v":0},{"$f":"SUMPRODUCT($A90:$A101,C90:C101)","v":0},0,0,0,0,0,0,0,0,0,0,0]
[]
[]
[]
["Kas",{"$f":"B88+1","v":7}]
["Biljetten en munten","Jan","Feb","Mrt","Apr","Mei","Jun","Jul","Aug","Sep","Okt","Nov","Dec","Totaal"]
[50,null,null,null,null,null,null,null,null,null,null,null,null,{"$f":"SUM(B108:M108)","v":0}]
[20,null,null,null,null,null,null,null,null,null,null,null,null,{"$f":"SUM(B109:M109)","v":0}]
[10,null,null,null,null,null,null,null,null,null,null,null,null,0]
[5,null,null,null,null,null,null,null,null,null,null,null,null,0]
[2,null,null,null,null,null,null,null,null,null,null,null,null,0]
[1,null,null,null,null,null,null,null,null,null,null,null,null,0]
[0.5,null,null,null,null,null,null,null,null,null,null,null,null,0]
[0.2,null,null,null,null,null,null,null,null,null,null,null,null,0]
[0.1,null,null,null,null,null,null,null,null,null,null,null,null,0]
[0.05,null,null,null,null,null,null,null,null,null,null,null,null,0]
[0.02,null,null,null,null,null,null,null,null,null,null,null,null,0]
[0.01,null,null,null,null,null,null,null,null,null,null,null,null,0]
["Totalen",{"$f":"SUMPRODUCT($A108:$A119,B108:B119)","v":0},{"$f":"SUMPRODUCT($A108:$A119,C108:C119)","v":0},{"$f":"SUMPRODUCT($A108:$A119,D108:D119)","v":0},0,0,0,0,0,0,0,0,0,0]
[]
[]
["Kas",{"$f":"B106+1","v":8}]
["Biljetten en munten","Jan","Feb","Mrt","Apr","Mei","Jun","Jul","Aug","Sep","Okt","Nov","Dec","Totaal"]
[50,null,null,null,null,null,null,null,null,null,null,null,null,{"$f":"SUM(B125:M125)","v":0}]
[20,null,null,null,null,null,null,null,null,null,null,null,null,{"$f":"SUM(B126:M126)","v":0}]
[10,null,null,null,null,null,null,null,null,null,null,null,null,0]
[5,null,null,null,null,null,null,null,null,null,null,null,null,0]
[2,null,null,null,null,null,null,null,null,null,null,null,null,0]
[1,null,null,null,null,null,null,null,null,null,null,null,null,0]
[0.5,null,null,null,null,null,null,null,null,null,null,null,null,0]
[0.2,null,null,null,null,null,null,null,null,null,null,null,null,0]
[0.1,null,null,null,null,null,null,null,null,null,null,null,null,0]
[0.05,null,null,null,null,null,null,null,null,null,null,null,null,0]
[0.02,null,null,null,null,null,null,null,null,null,null,null,null,0]
[0.01,null,null,null,null,null,null,null,null,null,null,null,null,0]
["Totalen",{"$f":"SUMPRODUCT($A125:$A136,B125:B136)","v":0},{"$f":"SUMPRODUCT($A125:$A136,C125:C136)","v":0},0,0,0,0,0,0,0,0,0,0,0]
[]
[]
[]
["Kas",{"$f":"B123+1","v":9}]
["Biljetten en munten","Jan","Feb","Mrt","Apr","Mei","Jun","Jul","Aug","Sep","Okt","Nov","Dec","Totaal"]
[50,null,null,null,null,null,null,null,null,null,null,null,null,{"$f":"SUM(B143:M143)","v":0}]
[20,null,null,null,null,null,null,null,null,null,null,null,null,{"$f":"SUM(B144:M144)","v":0}]
[10,null,null,null,null,null,null,null,null,null,null,null,null,0]
[5,null,null,null,null,null,null,null,null,null,null,null,null,0]
[2,null,null,null,null,null,null,null,null,null,null,null,null,0]
[1,null,null,null,null,null,null,null,null,null,null,null,null,0]
[0.5,null,null,null,null,null,null,null,null,null,null,null,null,0]
[0.2,null,null,null,null,null,null,null,null,null,null,null,null,0]
[0.1,null,null,null,null,null,null,null,null,null,null,null,null,0]
[0.05,null,null,null,null,null,null,null,null,null,null,null,null,0]
[0.02,null,null,null,null,null,null,null,null,null,null,null,null,0]
[0.01,null,null,null,null,null,null,null,null,null,null,null,null,0]
["Totalen",{"$f":"SUMPRODUCT($A143:$A154,B143:B154)","v":0},{"$f":"SUMPRODUCT($A143:$A154,C143:C154)","v":0},0,0,0,0,0,0,0,0,{"$f":"SUMPRODUCT($A143:$A154,L143:L154)","v":0},{"$f":"SUMPRODUCT($A143:$A154,M143:M154)","v":0},0]
[]
[]
["Kas",{"$f":"B141+1","v":10}]
["Biljetten en munten","Jan","Feb","Mrt","Apr","Mei","Jun","Jul","Aug","Sep","Okt","Nov","Dec","Totaal"]
[50,null,null,null,null,null,null,null,null,null,null,null,null,{"$f":"SUM(B160:M160)","v":0}]
[20,null,null,null,null,null,null,null,null,null,null,null,null,{"$f":"SUM(B161:M161)","v":0}]
[10,null,null,null,null,null,null,null,null,null,null,null,null,0]
[5,null,null,null,null,null,null,null,null,null,null,null,null,0]
[2,null,null,null,null,null,null,null,null,null,null,null,null,0]
[1,null,null,null,null,null,null,null,null,null,null,null,null,0]
[0.5,null,null,null,null,null,null,null,null,null,null,null,null,0]
[0.2,null,null,null,null,null,null,null,null,null,null,null,null,0]
[0.1,null,null,null,null,null,null,null,null,null,null,null,null,0]
[0.05,null,null,null,null,null,null,null,null,null,null,null,null,0]
[0.02,null,null,null,null,null,null,null,null,null,null,null,null,0]
[0.01,null,null,null,null,null,null,null,null,null,null,null,null,0]
["Totalen",{"$f":"SUMPRODUCT($A160:$A171,B160:B171)","v":0},{"$f":"SUMPRODUCT($A160:$A171,C160:C171)","v":0},0,0,0,0,0,0,{"$f":"SUMPRODUCT($A160:$A171,J160:J171)","v":0},{"$f":"SUMPRODUCT($A160:$A171,K160:K171)","v":0},{"$f":"SUMPRODUCT($A160:$A171,L160:L171)","v":0},0,0]
[]
[]
[]
["Kas",{"$f":"B158+1","v":11}]
["Biljetten en munten","Jan","Feb","Mrt","Apr","Mei","Jun","Jul","Aug","Sep","Okt","Nov","Dec","Totaal"]
[50,null,null,null,null,null,null,null,null,null,null,null,null,{"$f":"SUM(B178:M178)","v":0}]
[20,null,null,null,null,null,null,null,null,null,null,null,null,{"$f":"SUM(B179:M179)","v":0}]
[10,null,null,null,null,null,null,null,null,null,null,null,null,0]
[5,null,null,null,null,null,null,null,null,null,null,null,null,0]
[2,null,null,null,null,null,null,null,null,null,null,null,null,0]
[1,null,null,null,null,null,null,null,null,null,null,null,null,0]
[0.5,null,null,null,null,null,null,null,null,null,null,null,null,0]
[0.2,null,null,null,null,null,null,null,null,null,null,null,null,0]
[0.1,null,null,null,null,null,null,null,null,null,null,null,null,0]
[0.05,null,null,null,null,null,null,null,null,null,null,null,null,0]
[0.02,null,null,null,null,null,null,null,null,null,null,null,null,0]
[0.01,null,null,null,null,null,null,null,null,null,null,null,null,0]
["Totalen",{"$f":"SUMPRODUCT($A178:$A189,B178:B189)","v":0},{"$f":"SUMPRODUCT($A178:$A189,C178:C189)","v":0},0,0,0,0,0,0,0,0,0,0,0]
[]
[]
["Kas",{"$f":"B176+1","v":12}]
["Biljetten en munten","Jan","Feb","Mrt","Apr","Mei","Jun","Jul","Aug","Sep","Okt","Nov","Dec","Totaal"]
[50,null,null,null,null,null,null,null,null,null,null,null,null,{"$f":"SUM(B195:M195)","v":0}]
[20,null,null,null,null,null,null,null,null,null,null,null,null,{"$f":"SUM(B196:M196)","v":0}]
[10,null,null,null,null,null,null,null,null,null,null,null,null,0]
[5,null,null,null,null,null,null,null,null,null,null,null,null,0]
[2,null,null,null,null,null,null,null,null,null,null,null,null,0]
[1,null,null,null,null,null,null,null,null,null,null,null,null,0]
[0.5,null,null,null,null,null,null,null,null,null,null,null,null,0]
[0.2,null,null,null,null,null,null,null,null,null,null,null,null,0]
[0.1,null,null,null,null,null,null,null,null,null,null,null,null,0]
[0.05,null,null,null,null,null,null,null,null,null,null,null,null,0]
[0.02,null,null,null,null,null,null,null,null,null,null,null,null,0]
[0.01,null,null,null,null,null,null,null,null,null,null,null,null,0]
["Totalen",{"$f":"SUMPRODUCT($A195:$A206,B195:B206)","v":0},{"$f":"SUMPRODUCT($A195:$A206,C195:C206)","v":0},0,0,0,0,0,0,0,0,0,{"$f":"SUMPRODUCT($A195:$A206,M195:M206)","v":0},0]
[]
[]
[]
[]
["Kas",{"$f":"B193+1","v":13}]
["Biljetten en munten","Jan","Feb","Mrt","Apr","Mei","Jun","Jul","Aug","Sep","Okt","Nov","Dec","Totaal"]
[50,null,null,null,null,null,null,null,null,null,null,null,null,{"$f":"SUM(B214:M214)","v":0}]
[20,null,null,null,null,null,null,null,null,null,null,null,null,{"$f":"SUM(B215:M215)","v":0}]
[10,null,null,null,null,null,null,null,null,null,null,null,null,0]
[5,null,null,null,null,null,null,null,null,null,null,null,null,0]
[2,null,null,null,null,null,null,null,null,null,null,null,null,0]
[1,null,null,null,null,null,null,null,null,null,null,null,null,0]
[0.5,null,null,null,null,null,null,null,null,null,null,null,null,0]
[0.2,null,null,null,null,null,null,null,null,null,null,null,null,0]
[0.1,null,null,null,null,null,null,null,null,null,null,null,null,0]
[0.05,null,null,null,null,null,null,null,null,null,null,null,null,0]
[0.02,null,null,null,null,null,null,null,null,null,null,null,null,0]
[0.01,null,null,null,null,null,null,null,null,null,null,null,null,0]
["Totalen",{"$f":"SUMPRODUCT($A214:$A225,B214:B225)","v":0},{"$f":"SUMPRODUCT($A214:$A225,C214:C225)","v":0},0,0,0,0,0,0,0,0,0,0,0]
[]
[]
["Kas",{"$f":"B212+1","v":14}]
["Biljetten en munten","Jan","Feb","Mrt","Apr","Mei","Jun","Jul","Aug","Sep","Okt","Nov","Dec","Totaal"]
[50,null,null,null,null,null,null,null,null,null,null,null,null,{"$f":"SUM(B231:M231)","v":0}]
[20,null,null,null,null,null,null,null,null,null,null,null,null,{"$f":"SUM(B232:M232)","v":0}]
[10,null,null,null,null,null,null,null,null,null,null,null,null,0]
[5,null,null,null,null,null,null,null,null,null,null,null,null,0]
[2,null,null,null,null,null,null,null,null,null,null,null,null,0]
[1,null,null,null,null,null,null,null,null,null,null,null,null,0]
[0.5,null,null,null,null,null,null,null,null,null,null,null,null,0]
[0.2,null,null,null,null,null,null,null,null,null,null,null,null,0]
[0.1,null,null,null,null,null,null,null,null,null,null,null,null,0]
[0.05,null,null,null,null,null,null,null,null,null,null,null,null,0]
[0.02,null,null,null,null,null,null,null,null,null,null,null,null,0]
[0.01,null,null,null,null,null,null,null,null,null,null,null,null,0]
["Totalen",{"$f":"SUMPRODUCT($A231:$A242,B231:B242)","v":0},{"$f":"SUMPRODUCT($A231:$A242,C231:C242)","v":0},0,0,0,0,0,0,0,0,0,0,0]
[]
[]
[]
[]
["Kas",{"$f":"B229+1","v":15}]
["Biljetten en munten","Jan","Feb","Mrt","Apr","Mei","Jun","Jul","Aug","Sep","Okt","Nov","Dec","Totaal"]
[50,null,null,null,null,null,null,null,null,null,null,null,null,{"$f":"SUM(B250:M250)","v":0}]
[20,null,null,null,null,null,null,null,null,null,null,null,null,{"$f":"SUM(B251:M251)","v":0}]
[10,null,null,null,null,null,null,null,null,null,null,null,null,0]
[5,null,null,null,null,null,null,null,null,null,null,null,null,0]
[2,null,null,null,null,null,null,null,null,null,null,null,null,0]
[1,null,null,null,null,null,null,null,null,null,null,null,null,0]
[0.5,null,null,null,null,null,null,null,null,null,null,null,null,0]
[0.2,null,null,null,null,null,null,null,null,null,null,null,null,0]
[0.1,null,null,null,null,null,null,null,null,null,null,null,null,0]
[0.05,null,null,null,null,null,null,null,null,null,null,null,null,0]
[0.02,null,null,null,null,null,null,null,null,null,null,null,null,0]
[0.01,null,null,null,null,null,null,null,null,null,null,null,null,0]
["Totalen",{"$f":"SUMPRODUCT($A250:$A261,B250:B261)","v":0},{"$f":"SUMPRODUCT($A250:$A261,C250:C261)","v":0},0,0,0,0,0,0,0,0,0,0,0]
[]
[]
["Kas",{"$f":"B248+1","v":16}]
["Biljetten en munten","Jan","Feb","Mrt","Apr","Mei","Jun","Jul","Aug","Sep","Okt","Nov","Dec","Totaal"]
[50,null,null,null,null,null,null,null,null,null,null,null,null,{"$f":"SUM(B267:M267)","v":0}]
[20,null,null,null,null,null,null,null,null,null,null,null,null,{"$f":"SUM(B268:M268)","v":0}]
[10,null,null,null,null,null,null,null,null,null,null,null,null,0]
[5,null,null,null,null,null,null,null,null,null,null,null,null,0]
[2,null,null,null,null,null,null,null,null,null,null,null,null,0]
[1,null,null,null,null,null,null,null,null,null,null,null,null,0]
[0.5,null,null,null,null,null,null,null,null,null,null,null,null,0]
[0.2,null,null,null,null,null,null,null,null,null,null,null,null,0]
[0.1,null,null,null,null,null,null,null,null,null,null,null,null,0]
[0.05,null,null,null,null,null,null,null,null,null,null,null,null,0]
[0.02,null,null,null,null,null,null,null,null,null,null,null,null,0]
[0.01,null,null,null,null,null,null,null,null,null,null,null,null,0]
["Totalen",{"$f":"SUMPRODUCT($A267:$A278,B267:B278)","v":0},{"$f":"SUMPRODUCT($A267:$A278,C267:C278)","v":0},0,0,0,0,0,0,0,0,0,0,0]
[]
[]
[]
["Kas",{"$f":"B265+1","v":17}]
["Biljetten en munten","Jan","Feb","Mrt","Apr","Mei","Jun","Jul","Aug","Sep","Okt","Nov","Dec","Totaal"]
[50,null,null,null,null,null,null,null,null,null,null,null,null,{"$f":"SUM(B285:M285)","v":0}]
[20,null,null,null,null,null,null,null,null,null,null,null,null,{"$f":"SUM(B286:M286)","v":0}]
[10,null,null,null,null,null,null,null,null,null,null,null,null,0]
[5,null,null,null,null,null,null,null,null,null,null,null,null,0]
[2,null,null,null,null,null,null,null,null,null,null,null,null,0]
[1,null,null,null,null,null,null,null,null,null,null,null,null,0]
[0.5,null,null,null,null,null,null,null,null,null,null,null,null,0]
[0.2,null,null,null,null,null,null,null,null,null,null,null,null,0]
[0.1,null,null,null,null,null,null,null,null,null,null,null,null,0]
[0.05,null,null,null,null,null,null,null,null,null,null,null,null,0]
[0.02,null,null,null,null,null,null,null,null,null,null,null,null,0]
[0.01,null,null,null,null,null,null,null,null,null,null,null,null,0]
["Totalen",{"$f":"SUMPRODUCT($A285:$A296,B285:B296)","v":0},{"$f":"SUMPRODUCT($A285:$A296,C285:C296)","v":0},0,0,0,0,0,0,0,0,0,{"$f":"SUMPRODUCT($A285:$A296,M285:M296)","v":0},0]
[]
[]
["Kas",{"$f":"B283+1","v":18}]
["Biljetten en munten","Jan","Feb","Mrt","Apr","Mei","Jun","Jul","Aug","Sep","Okt","Nov","Dec","Totaal"]
[50,null,null,null,null,null,null,null,null,null,null,null,null,{"$f":"SUM(B302:M302)","v":0}]
[20,null,null,null,null,null,null,null,null,null,null,null,null,{"$f":"SUM(B303:M303)","v":0}]
[10,null,null,null,null,null,null,null,null,null,null,null,null,0]
[5,null,null,null,null,null,null,null,null,null,null,null,null,0]
[2,null,null,null,null,null,null,null,null,null,null,null,null,0]
[1,null,null,null,null,null,null,null,null,null,null,null,null,0]
[0.5,null,null,null,null,null,null,null,null,null,null,null,null,0]
[0.2,null,null,null,null,null,null,null,null,null,null,null,null,0]
[0.1,null,null,null,null,null,null,null,null,null,null,null,null,0]
[0.05,null,null,null,null,null,null,null,null,null,null,null,null,0]
[0.02,null,null,null,null,null,null,null,null,null,null,null,null,0]
[0.01,null,null,null,null,null,null,null,null,null,null,null,null,0]
["Totalen",{"$f":"SUMPRODUCT($A302:$A313,B302:B313)","v":0},{"$f":"SUMPRODUCT($A302:$A313,C302:C313)","v":0},0,0,0,0,0,0,0,0,0,0,0]
[]
[]
[]
["Kas",{"$f":"B300+1","v":19}]
["Biljetten en munten","Jan","Feb","Mrt","Apr","Mei","Jun","Jul","Aug","Sep","Okt","Nov","Dec","Totaal"]
[50,null,null,null,null,null,null,null,null,null,null,null,null,{"$f":"SUM(B320:M320)","v":0}]
[20,null,null,null,null,null,null,null,null,null,null,null,null,{"$f":"SUM(B321:M321)","v":0}]
[10,null,null,null,null,null,null,null,null,null,null,null,null,0]
[5,null,null,null,null,null,null,null,null,null,null,null,null,0]
[2,null,null,null,null,null,null,null,null,null,null,null,null,0]
[1,null,null,null,null,null,null,null,null,null,null,null,null,0]
[0.5,null,null,null,null,null,null,null,null,null,null,null,null,0]
[0.2,null,null,null,null,null,null,null,null,null,null,null,null,0]
[0.1,null,null,null,null,null,null,null,null,null,null,null,null,0]
[0.05,null,null,null,null,null,null,null,null,null,null,null,null,0]
[0.02,null,null,null,null,null,null,null,null,null,null,null,null,0]
[0.01,null,null,null,null,null,null,null,null,null,null,null,null,0]
["Totalen",{"$f":"SUMPRODUCT($A320:$A331,B320:B331)","v":0},{"$f":"SUMPRODUCT($A320:$A331,C320:C331)","v":0},0,0,0,0,0,0,0,0,0,0,0]
[]
[]
["Kas",{"$f":"B318+1","v":20}]
["Biljetten en munten","Jan","Feb","Mrt","Apr","Mei","Jun","Jul","Aug","Sep","Okt","Nov","Dec","Totaal"]
[50,null,null,null,null,null,null,null,null,null,null,null,null,{"$f":"SUM(B337:M337)","v":0}]
[20,null,null,null,null,null,null,null,null,null,null,null,null,{"$f":"SUM(B338:M338)","v":0}]
[10,null,null,null,null,null,null,null,null,null,null,null,null,0]
[5,null,null,null,null,null,null,null,null,null,null,null,null,0]
[2,null,null,null,null,null,null,null,null,null,null,null,null,0]
[1,null,null,null,null,null,null,null,null,null,null,null,null,0]
[0.5,null,null,null,null,null,null,null,null,null,null,null,null,0]
[0.2,null,null,null,null,null,null,null,null,null,null,null,null,0]
[0.1,null,null,null,null,null,null,null,null,null,null,null,null,0]
[0.05,null,null,null,null,null,null,null,null,null,null,null,null,0]
[0.02,null,null,null,null,null,null,null,null,null,null,null,null,0]
[0.01,null,null,null,null,null,null,null,null,null,null,null,null,0]
["Totalen",{"$f":"SUMPRODUCT($A337:$A348,B337:B348)","v":0},{"$f":"SUMPRODUCT($A337:$A348,C337:C348)","v":0},0,0,0,0,0,0,0,0,0,0,0]
[]
[]
[]
["Kas",{"$f":"B335+1","v":21}]
["Biljetten en munten","Jan","Feb","Mrt","Apr","Mei","Jun","Jul","Aug","Sep","Okt","Nov","Dec","Totaal"]
[50,null,null,null,null,null,null,null,null,null,null,null,null,{"$f":"SUM(B355:M355)","v":0}]
[20,null,null,null,null,null,null,null,null,null,null,null,null,{"$f":"SUM(B356:M356)","v":0}]
[10,null,null,null,null,null,null,null,null,null,null,null,null,0]
[5,null,null,null,null,null,null,null,null,null,null,null,null,0]
[2,null,null,null,null,null,null,null,null,null,null,null,null,0]
[1,null,null,null,null,null,null,null,null,null,null,null,null,0]
[0.5,null,null,null,null,null,null,null,null,null,null,null,null,0]
[0.2,null,null,null,null,null,null,null,null,null,null,null,null,0]
[0.1,null,null,null,null,null,null,null,null,null,null,null,null,0]
[0.05,null,null,null,null,null,null,null,null,null,null,null,null,0]
[0.02,null,null,null,null,null,null,null,null,null,null,null,null,0]
[0.01,null,null,null,null,null,null,null,null,null,null,null,null,0]
["Totalen",{"$f":"SUMPRODUCT($A355:$A366,B355:B366)","v":0},{"$f":"SUMPRODUCT($A355:$A366,C355:C366)","v":0},0,0,0,0,0,0,0,0,0,0,0]
[]
[]
["Kas",{"$f":"B353+1","v":22}]
["Biljetten en munten","Jan","Feb","Mrt","Apr","Mei","Jun","Jul","Aug","Sep","Okt","Nov","Dec","Totaal"]
[50,null,null,null,null,null,null,null,null,null,null,null,null,{"$f":"SUM(B372:M372)","v":0}]
[20,null,null,null,null,null,null,null,null,null,null,null,null,{"$f":"SUM(B373:M373)","v":0}]
[10,null,null,null,null,null,null,null,null,null,null,null,null,0]
[5,null,null,null,null,null,null,null,null,null,null,null,null,0]
[2,null,null,null,null,null,null,null,null,null,null,null,null,0]
[1,null,null,null,null,null,null,null,null,null,null,null,null,0]
[0.5,null,null,null,null,null,null,null,null,null,null,null,null,0]
[0.2,null,null,null,null,null,null,null,null,null,null,null,null,0]
[0.1,null,null,null,null,null,null,null,null,null,null,null,null,0]
[0.05,null,null,null,null,null,null,null,null,null,null,null,null,0]
[0.02,null,null,null,null,null,null,null,null,null,null,null,null,0]
[0.01,null,null,null,null,null,null,null,null,null,null,null,null,0]
["Totalen",{"$f":"SUMPRODUCT($A372:$A383,B372:B383)","v":0},{"$f":"SUMPRODUCT($A372:$A383,C372:C383)","v":0},0,0,0,0,0,0,0,0,0,0,0]
[]
[]
[]
["Kas",{"$f":"B370+1","v":23}]
["Biljetten en munten","Jan","Feb","Mrt","Apr","Mei","Jun","Jul","Aug","Sep","Okt","Nov","Dec","Totaal"]
[50,null,null,null,null,null,null,null,null,null,null,null,null,{"$f":"SUM(B390:M390)","v":0}]
[20,null,null,null,null,null,null,null,null,null,null,null,null,{"$f":"SUM(B391:M391)","v":0}]
[10,null,null,null,null,null,null,null,null,null,null,null,null,0]
[5,null,null,null,null,null,null,null,null,null,null,null,null,{"$f":"SUM(B393:M393)","v":0}]
[2,null,null,null,null,null,null,null,null,null,null,null,null,0]
[1,null,null,null,null,null,null,null,null,null,null,null,null,0]
[0.5,null,null,null,null,null,null,null,null,null,null,null,null,0]
[0.2,null,null,null,null,null,null,null,null,null,null,null,null,0]
[0.1,null,null,null,null,null,null,null,null,null,null,null,null,0]
[0.05,null,null,null,null,null,null,null,null,null,null,null,null,0]
[0.02,null,null,null,null,null,null,null,null,null,null,null,null,0]
[0.01,null,null,null,null,null,null,null,null,null,null,null,null,0]
["Totalen",{"$f":"SUMPRODUCT($A390:$A401,B390:B401)","v":0},{"$f":"SUMPRODUCT($A390:$A401,C390:C401)","v":0},0,0,0,0,0,0,0,0,0,0,0]
[]
[]
["Kas",{"$f":"B388+1","v":24}]
["Biljetten en munten","Jan","Feb","Mrt","Apr","Mei","Jun","Jul","Aug","Sep","Okt","Nov","Dec","Totaal"]
[50,null,null,null,null,null,null,null,null,null,null,null,null,{"$f":"SUM(B407:M407)","v":0}]
[20,null,null,null,null,null,null,null,null,null,null,null,null,{"$f":"SUM(B408:M408)","v":0}]
[10,null,null,null,null,null,null,null,null,null,null,null,null,0]
[5,null,null,null,null,null,null,null,null,null,null,null,null,0]
[2,null,null,null,null,null,null,null,null,null,null,null,null,0]
[1,null,null,null,null,null,null,null,null,null,null,null,null,0]
[0.5,null,null,null,null,null,null,null,null,null,null,null,null,0]
[0.2,null,null,null,null,null,null,null,null,null,null,null,null,0]
[0.1,null,null,null,null,null,null,null,null,null,null,null,null,0]
[0.05,null,null,null,null,null,null,null,null,null,null,null,null,0]
[0.02,null,null,null,null,null,null,null,null,null,null,null,null,0]
[0.01,null,null,null,null,null,null,null,null,null,null,null,null,0]
["Totalen",{"$f":"SUMPRODUCT($A407:$A418,B407:B418)","v":0},{"$f":"SUMPRODUCT($A407:$A418,C407:C418)","v":0},0,0,0,0,0,0,0,0,0,0,0]
[]
[]
[]
["Kas",{"$f":"B405+1","v":25}]
["Biljetten en munten","Jan","Feb","Mrt","Apr","Mei","Jun","Jul","Aug","Sep","Okt","Nov","Dec","Totaal"]
[50,null,null,null,null,null,null,null,null,null,null,null,null,{"$f":"SUM(B425:M425)","v":0}]
[20,null,null,null,null,null,null,null,null,null,null,null,null,{"$f":"SUM(B426:M426)","v":0}]
[10,null,null,null,null,null,null,null,null,null,null,null,null,0]
[5,null,null,null,null,null,null,null,null,null,null,null,null,0]
[2,null,null,null,null,null,null,null,null,null,null,null,null,0]
[1,null,null,null,null,null,null,null,null,null,null,null,null,0]
[0.5,null,null,null,null,null,null,null,null,null,null,null,null,0]
[0.2,null,null,null,null,null,null,null,null,null,null,null,null,0]
[0.1,null,null,null,null,null,null,null,null,null,null,null,null,0]
[0.05,null,null,null,null,null,null,null,null,null,null,null,null,0]
[0.02,null,null,null,null,null,null,null,null,null,null,null,null,0]
[0.01,null,null,null,null,null,null,null,null,null,null,null,null,0]
["Totalen",{"$f":"SUMPRODUCT($A425:$A436,B425:B436)","v":0},{"$f":"SUMPRODUCT($A425:$A436,C425:C436)","v":0},0,0,0,0,0,0,0,0,0,0,0]
[]
[]
["Kas",{"$f":"B423+1","v":26}]
["Biljetten en munten","Jan","Feb","Mrt","Apr","Mei","Jun","Jul","Aug","Sep","Okt","Nov","Dec","Totaal"]
[50,null,null,null,null,null,null,null,null,null,null,null,null,{"$f":"SUM(B442:M442)","v":0}]
[20,null,null,null,null,null,null,null,null,null,null,null,null,{"$f":"SUM(B443:M443)","v":0}]
[10,null,null,null,null,null,null,null,null,null,null,null,null,0]
[5,null,null,null,null,null,null,null,null,null,null,null,null,0]
[2,null,null,null,null,null,null,null,null,null,null,null,null,0]
[1,null,null,null,null,null,null,null,null,null,null,null,null,0]
[0.5,null,null,null,null,null,null,null,null,null,null,null,null,0]
[0.2,null,null,null,null,null,null,null,null,null,null,null,null,0]
[0.1,null,null,null,null,null,null,null,null,null,null,null,null,0]
[0.05,null,null,null,null,null,null,null,null,null,null,null,null,0]
[0.02,null,null,null,null,null,null,null,null,null,null,null,null,0]
[0.01,null,null,null,null,null,null,null,null,null,null,null,null,0]
["Totalen",{"$f":"SUMPRODUCT($A442:$A453,B442:B453)","v":0},{"$f":"SUMPRODUCT($A442:$A453,C442:C453)","v":0},0,0,0,0,0,0,0,0,0,0,0]
[]
[]
[]
["Kas",{"$f":"B440+1","v":27}]
["Biljetten en munten","Jan","Feb","Mrt","Apr","Mei","Jun","Jul","Aug","Sep","Okt","Nov","Dec","Totaal"]
[50,null,null,null,null,null,null,null,null,null,null,null,null,{"$f":"SUM(B460:M460)","v":0}]
[20,null,null,null,null,null,null,null,null,null,null,null,null,{"$f":"SUM(B461:M461)","v":0}]
[10,null,null,null,null,null,null,null,null,null,null,null,null,0]
[5,null,null,null,null,null,null,null,null,null,null,null,null,0]
[2,null,null,null,null,null,null,null,null,null,null,null,null,0]
[1,null,null,null,null,null,null,null,null,null,null,null,null,0]
[0.5,null,null,null,null,null,null,null,null,null,null,null,null,0]
[0.2,null,null,null,null,null,null,null,null,null,null,null,null,0]
[0.1,null,null,null,null,null,null,null,null,null,null,null,null,0]
[0.05,null,null,null,null,null,null,null,null,null,null,null,null,0]
[0.02,null,null,null,null,null,null,null,null,null,null,null,null,0]
[0.01,null,null,null,null,null,null,null,null,null,null,null,null,0]
["Totalen",{"$f":"SUMPRODUCT($A460:$A471,B460:B471)","v":0},{"$f":"SUMPRODUCT($A460:$A471,C460:C471)","v":0},0,0,0,0,0,0,0,0,0,0,0]
[]
[]
["Kas",{"$f":"B458+1","v":28}]
["Biljetten en munten","Jan","Feb","Mrt","Apr","Mei","Jun","Jul","Aug","Sep","Okt","Nov","Dec","Totaal"]
[50,null,null,null,null,null,null,null,null,null,null,null,null,{"$f":"SUM(B477:M477)","v":0}]
[20,null,null,null,null,null,null,null,null,null,null,null,null,{"$f":"SUM(B478:M478)","v":0}]
[10,null,null,null,null,null,null,null,null,null,null,null,null,0]
[5,null,null,null,null,null,null,null,null,null,null,null,null,0]
[2,null,null,null,null,null,null,null,null,null,null,null,null,0]
[1,null,null,null,null,null,null,null,null,null,null,null,null,0]
[0.5,null,null,null,null,null,null,null,null,null,null,null,null,0]
[0.2,null,null,null,null,null,null,null,null,null,null,null,null,0]
[0.1,null,null,null,null,null,null,null,null,null,null,null,null,0]
[0.05,null,null,null,null,null,null,null,null,null,null,null,null,0]
[0.02,null,null,null,null,null,null,null,null,null,null,null,null,0]
[0.01,null,null,null,null,null,null,null,null,null,null,null,null,0]
["Totalen",{"$f":"SUMPRODUCT($A477:$A488,B477:B488)","v":0},{"$f":"SUMPRODUCT($A477:$A488,C477:C488)","v":0},0,0,0,0,0,0,0,0,0,0,0]
[]
[]
[]
["Kas",{"$f":"B475+1","v":29}]
["Biljetten en munten","Jan","Feb","Mrt","Apr","Mei","Jun","Jul","Aug","Sep","Okt","Nov","Dec","Totaal"]
[50,null,null,null,null,null,null,null,null,null,null,null,null,{"$f":"SUM(B495:M495)","v":0}]
[20,null,null,null,null,null,null,null,null,null,null,null,null,{"$f":"SUM(B496:M496)","v":0}]
[10,null,null,null,null,null,null,null,null,null,null,null,null,0]
[5,null,null,null,null,null,null,null,null,null,null,null,null,0]
[2,null,null,null,null,null,null,null,null,null,null,null,null,0]
[1,null,null,null,null,null,null,null,null,null,null,null,null,0]
[0.5,null,null,null,null,null,null,null,null,null,null,null,null,0]
[0.2,null,null,null,null,null,null,null,null,null,null,null,null,0]
[0.1,null,null,null,null,null,null,null,null,null,null,null,null,0]
[0.05,null,null,null,null,null,null,null,null,null,null,null,null,0]
[0.02,null,null,null,null,null,null,null,null,null,null,null,null,0]
[0.01,null,null,null,null,null,null,null,null,null,null,null,null,0]
["Totalen",{"$f":"SUMPRODUCT($A495:$A506,B495:B506)","v":0},{"$f":"SUMPRODUCT($A495:$A506,C495:C506)","v":0},0,0,0,0,0,0,0,0,0,0,0]
[]
[]
["Kas",{"$f":"B493+1","v":30}]
["Biljetten en munten","Jan","Feb","Mrt","Apr","Mei","Jun","Jul","Aug","Sep","Okt","Nov","Dec","Totaal"]
[50,null,null,null,null,null,null,null,null,null,null,null,null,{"$f":"SUM(B512:M512)","v":0}]
[20,null,null,null,null,null,null,null,null,null,null,null,null,{"$f":"SUM(B513:M513)","v":0}]
[10,null,null,null,null,null,null,null,null,null,null,null,null,0]
[5,null,null,null,null,null,null,null,null,null,null,null,null,0]
[2,null,null,null,null,null,null,null,null,null,null,null,null,0]
[1,null,null,null,null,null,null,null,null,null,null,null,null,0]
[0.5,null,null,null,null,null,null,null,null,null,null,null,null,0]
[0.2,null,null,null,null,null,null,null,null,null,null,null,null,0]
[0.1,null,null,null,null,null,null,null,null,null,null,null,null,0]
[0.05,null,null,null,null,null,null,null,null,null,null,null,null,0]
[0.02,null,null,null,null,null,null,null,null,null,null,null,null,0]
[0.01,null,null,null,null,null,null,null,null,null,null,null,null,0]
["Totalen",{"$f":"SUMPRODUCT($A512:$A523,B512:B523)","v":0},{"$f":"SUMPRODUCT($A512:$A523,C512:C523)","v":0},0,0,0,0,0,0,0,0,0,0,0]

{"sheet":"Blad2","index":4,"n_rows":36,"n_cols":22,"rows_kept":36,"cut":false,"hidden":false,"merged":[]}
["NAAM SPAARKAS :"]
[]
["OVERZICHT SPAREN VAN DE LEDEN. "]
["KAS:"]
["NR","           NAAM","VOORNAAM",1,2,3,4,5,6,7,8,9,10,11,12,"Totaal","Lege Cel","Bedrag","Boete","  Onk","Totaal"]
[1,null,null,{"$f":"Kassen!B16","v":0},{"$f":"Kassen!C16","v":0},{"$f":"Kassen!D16","v":0},{"$f":"Kassen!E16","v":0},{"$f":"Kassen!F16","v":0},{"$f":"Kassen!G16","v":0},{"$f":"Kassen!H16","v":0},{"$f":"Kassen!I16","v":0},{"$f":"Kassen!J16","v":0},{"$f":"Kassen!K16","v":0},{"$f":"Kassen!L16","v":0},{"$f":"Kassen!M16","v":0},{"$f":"SUM(D6:O6)","v":0},{"$f":"COUNTIF(D6:O6,0)","v":12},0.5,{"$f":"Q6*R6","v":6},{"$f":"Blad4!F21","v":0},{"$f":"(P6-S6-T6)","v":-6},1]
[2,null,null,{"$f":"Kassen!B33","v":0},{"$f":"Kassen!C33","v":0},{"$f":"Kassen!D33","v":0},{"$f":"Kassen!E33","v":0},{"$f":"I12","v":0},{"$f":"Kassen!G33","v":0},{"$f":"Kassen!H33","v":0},{"$f":"Kassen!I33","v":0},{"$f":"Kassen!J33","v":0},{"$f":"Kassen!K33","v":0},{"$f":"Kassen!L33","v":0},{"$f":"Kassen!M33","v":0},{"$f":"SUM(D7:O7)","v":0},{"$f":"COUNTIF(D7:O7,0)","v":12},0.5,{"$f":"Q7*R7","v":6},{"$f":"Blad4!M21","v":0},{"$f":"(P7-S7-T7)","v":-6},2]
[3,null,null,{"$f":"Kassen!B50","v":0},{"$f":"Kassen!C50","v":0},{"$f":"Kassen!D50","v":0},{"$f":"Kassen!E50","v":0},{"$f":"Kassen!F50","v":0},{"$f":"Kassen!G50","v":0},{"$f":"Kassen!H50","v":0},{"$f":"Kassen!I50","v":0},{"$f":"Kassen!J50","v":0},{"$f":"Kassen!K50","v":0},{"$f":"Kassen!L50","v":0},{"$f":"Kassen!M50","v":0},0,{"$f":"COUNTIF(D8:O8,0)","v":12},0.5,6,{"$f":"Blad4!T21","v":0},-6,3]
[4,null,null,{"$f":"Kassen!B67","v":0},{"$f":"Kassen!C67","v":0},{"$f":"Kassen!D67","v":0},{"$f":"Kassen!E67","v":0},{"$f":"Kassen!F67","v":0},{"$f":"Kassen!G67","v":0},{"$f":"Kassen!H67","v":0},{"$f":"Kassen!I67","v":0},{"$f":"Kassen!J67","v":0},{"$f":"Kassen!K67","v":0},{"$f":"Kassen!L67","v":0},{"$f":"Kassen!M67","v":0},0,12,0.5,6,{"$f":"Blad4!F43","v":0},-6,4]
[5,null,null,{"$f":"Kassen!B85","v":0},{"$f":"Kassen!C85","v":0},{"$f":"Kassen!D85","v":0},{"$f":"Kassen!E85","v":0},{"$f":"Kassen!F85","v":0},{"$f":"Kassen!G85","v":0},{"$f":"Kassen!H85","v":0},{"$f":"Kassen!I85","v":0},{"$f":"Kassen!J85","v":0},{"$f":"Kassen!K85","v":0},{"$f":"Kassen!L85","v":0},{"$f":"Kassen!M85","v":0},0,12,0.5,6,{"$f":"Blad4!M43","v":0},-6,5]
[6,null,null,{"$f":"Kassen!B102","v":0},{"$f":"Kassen!C102","v":0},{"$f":"Kassen!D102","v":0},{"$f":"Kassen!E102","v":0},{"$f":"Kassen!F102","v":0},{"$f":"Kassen!G102","v":0},{"$f":"Kassen!H102","v":0},{"$f":"Kassen!I102","v":0},{"$f":"Kassen!J102","v":0},{"$f":"Kassen!K102","v":0},{"$f":"Kassen!L102","v":0},{"$f":"Kassen!M102","v":0},0,12,0.5,6,{"$f":"Blad4!T43","v":0},-6,6]
[7,null,null,{"$f":"Kassen!B120","v":0},{"$f":"Kassen!C120","v":0},{"$f":"Kassen!D120","v":0},{"$f":"Kassen!E120","v":0},{"$f":"Kassen!F120","v":0},{"$f":"Kassen!G120","v":0},{"$f":"Kassen!H120","v":0},{"$f":"Kassen!I120","v":0},{"$f":"Kassen!J120","v":0},{"$f":"Kassen!K120","v":0},{"$f":"Kassen!L120","v":0},{"$f":"Kassen!M120","v":0},0,12,0.5,6,{"$f":"Blad4!F64","v":0},-6,7]
[8,null,null,{"$f":"Kassen!B137","v":0},{"$f":"Kassen!C137","v":0},{"$f":"Kassen!D137","v":0},{"$f":"Kassen!E137","v":0},{"$f":"Kassen!F137","v":0},{"$f":"Kassen!G137","v":0},{"$f":"Kassen!H137","v":0},{"$f":"Kassen!I137","v":0},{"$f":"Kassen!J137","v":0},{"$f":"Kassen!K137","v":0},{"$f":"Kassen!L137","v":0},{"$f":"Kassen!M137","v":0},0,12,0.5,6,{"$f":"Blad4!M64","v":0},-6,8]
[9,null,null,{"$f":"Kassen!B155","v":0},{"$f":"Kassen!C155","v":0},{"$f":"Kassen!D155","v":0},{"$f":"Kassen!E155","v":0},{"$f":"Kassen!F155","v":0},{"$f":"Kassen!G155","v":0},{"$f":"Kassen!H155","v":0},{"$f":"Kassen!I155","v":0},{"$f":"Kassen!J155","v":0},{"$f":"Kassen!K155","v":0},{"$f":"Kassen!L155","v":0},{"$f":"Kassen!M155","v":0},0,12,0.5,6,{"$f":"Blad4!T64","v":0},-6,9]
[10,null,null,{"$f":"Kassen!B172","v":0},{"$f":"Kassen!C172","v":0},{"$f":"Kassen!D172","v":0},{"$f":"Kassen!E172","v":0},{"$f":"Kassen!F172","v":0},{"$f":"Kassen!G172","v":0},{"$f":"Kassen!H172","v":0},{"$f":"Kassen!I172","v":0},{"$f":"Kassen!J172","v":0},{"$f":"Kassen!K172","v":0},{"$f":"Kassen!L172","v":0},{"$f":"Kassen!M172","v":0},0,12,0.5,6,{"$f":"Blad4!F86","v":0},-6,10]
[11,null,null,{"$f":"Kassen!B190","v":0},{"$f":"Kassen!C190","v":0},{"$f":"Kassen!D190","v":0},{"$f":"Kassen!E190","v":0},{"$f":"Kassen!F190","v":0},{"$f":"Kassen!G190","v":0},{"$f":"Kassen!H190","v":0},{"$f":"Kassen!I190","v":0},{"$f":"Kassen!J190","v":0},{"$f":"Kassen!K190","v":0},{"$f":"Kassen!L190","v":0},{"$f":"Kassen!M190","v":0},0,12,0.5,6,{"$f":"Blad4!M86","v":0},-6,11]
[12,null,null,{"$f":"Kassen!B207","v":0},{"$f":"Kassen!C207","v":0},{"$f":"Kassen!D207","v":0},{"$f":"Kassen!E207","v":0},{"$f":"Kassen!F207","v":0},{"$f":"Kassen!G207","v":0},{"$f":"Kassen!H207","v":0},{"$f":"Kassen!I207","v":0},{"$f":"Kassen!J207","v":0},{"$f":"Kassen!K207","v":0},{"$f":"Kassen!L207","v":0},{"$f":"Kassen!M207","v":0},0,12,0.5,6,{"$f":"Blad4!T86","v":0},-6,12]
[13,null,null,{"$f":"Kassen!B226","v":0},{"$f":"Kassen!C226","v":0},{"$f":"Kassen!D226","v":0},{"$f":"Kassen!E226","v":0},{"$f":"Kassen!F226","v":0},{"$f":"Kassen!G226","v":0},{"$f":"Kassen!H226","v":0},{"$f":"Kassen!I226","v":0},{"$f":"Kassen!J226","v":0},{"$f":"Kassen!K226","v":0},{"$f":"Kassen!L226","v":0},{"$f":"Kassen!M226","v":0},0,12,0.5,6,{"$f":"Blad4!F107","v":0},-6,13]
[14,null,null,{"$f":"Kassen!B243","v":0},{"$f":"Kassen!C243","v":0},{"$f":"Kassen!D243","v":0},{"$f":"Kassen!E243","v":0},{"$f":"Kassen!F243","v":0},{"$f":"Kassen!G243","v":0},{"$f":"Kassen!H243","v":0},{"$f":"Kassen!I243","v":0},{"$f":"Kassen!J243","v":0},{"$f":"Kassen!K243","v":0},{"$f":"Kassen!L243","v":0},{"$f":"Kassen!M243","v":0},0,12,0.5,6,{"$f":"Blad4!M107","v":0},-6,14]
[15,null,null,{"$f":"Kassen!B262","v":0},{"$f":"Kassen!C262","v":0},{"$f":"Kassen!D262","v":0},{"$f":"Kassen!E262","v":0},{"$f":"Kassen!F262","v":0},{"$f":"Kassen!G262","v":0},{"$f":"Kassen!H262","v":0},{"$f":"Kassen!I262","v":0},{"$f":"Kassen!J262","v":0},{"$f":"Kassen!K262","v":0},{"$f":"Kassen!L262","v":0},{"$f":"Kassen!M262","v":0},0,12,0.5,6,{"$f":"Blad4!T107","v":0},-6,15]
[16,null,null,{"$f":"Kassen!B279","v":0},{"$f":"Kassen!C279","v":0},{"$f":"Kassen!D279","v":0},{"$f":"Kassen!E279","v":0},{"$f":"Kassen!F279","v":0},{"$f":"Kassen!G279","v":0},{"$f":"Kassen!H279","v":0},{"$f":"Kassen!I279","v":0},{"$f":"Kassen!J279","v":0},{"$f":"Kassen!K279","v":0},{"$f":"Kassen!L279","v":0},{"$f":"Kassen!M279","v":0},0,12,0.5,6,{"$f":"Blad4!F129","v":0},-6,16]
[17,null,null,{"$f":"Kassen!B297","v":0},{"$f":"Kassen!C297","v":0},{"$f":"Kassen!D297","v":0},{"$f":"Kassen!E297","v":0},{"$f":"Kassen!F297","v":0},{"$f":"Kassen!G297","v":0},{"$f":"Kassen!H297","v":0},{"$f":"Kassen!I297","v":0},{"$f":"Kassen!J297","v":0},{"$f":"Kassen!K297","v":0},{"$f":"Kassen!L297","v":0},{"$f":"Kassen!M297","v":0},0,12,0.5,6,{"$f":"Blad4!M129","v":0},-6,17]
[18,null,null,{"$f":"Kassen!B314","v":0},{"$f":"Kassen!C314","v":0},{"$f":"Kassen!D314","v":0},{"$f":"Kassen!E314","v":0},{"$f":"Kassen!F314","v":0},{"$f":"Kassen!G314","v":0},{"$f":"Kassen!H314","v":0},{"$f":"Kassen!I314","v":0},{"$f":"Kassen!J314","v":0},{"$f":"Kassen!K314","v":0},{"$f":"Kassen!L314","v":0},{"$f":"Kassen!M314","v":0},0,12,0.5,6,{"$f":"Blad4!T129","v":0},-6,18]
[19,null,null,{"$f":"Kassen!B332","v":0},{"$f":"Kassen!C332","v":0},{"$f":"Kassen!D332","v":0},{"$f":"Kassen!E332","v":0},{"$f":"Kassen!F332","v":0},{"$f":"Kassen!G332","v":0},{"$f":"Kassen!H332","v":0},{"$f":"Kassen!I332","v":0},{"$f":"Kassen!J332","v":0},{"$f":"Kassen!K332","v":0},{"$f":"Kassen!L332","v":0},{"$f":"Kassen!M332","v":0},0,12,0.5,6,{"$f":"Blad4!F150","v":0},-6,19]
[20,null,null,{"$f":"Kassen!B349","v":0},{"$f":"Kassen!C349","v":0},{"$f":"Kassen!D349","v":0},{"$f":"Kassen!E349","v":0},{"$f":"Kassen!F349","v":0},{"$f":"Kassen!G349","v":0},{"$f":"Kassen!H349","v":0},{"$f":"Kassen!I349","v":0},{"$f":"Kassen!J349","v":0},{"$f":"Kassen!K349","v":0},{"$f":"Kassen!L349","v":0},{"$f":"Kassen!M349","v":0},0,12,0.5,6,{"$f":"Blad4!M150","v":0},-6,20]
[21,null,null,{"$f":"Kassen!B367","v":0},{"$f":"Kassen!C367","v":0},{"$f":"Kassen!D367","v":0},{"$f":"Kassen!E367","v":0},{"$f":"Kassen!F367","v":0},{"$f":"Kassen!G367","v":0},{"$f":"Kassen!H367","v":0},{"$f":"Kassen!I367","v":0},{"$f":"Kassen!J367","v":0},{"$f":"Kassen!K367","v":0},{"$f":"Kassen!L367","v":0},{"$f":"Kassen!M367","v":0},0,12,0.5,6,{"$f":"Blad4!T150","v":0},-6,21]
[22,null,null,{"$f":"Kassen!B384","v":0},{"$f":"Kassen!C384","v":0},{"$f":"Kassen!D384","v":0},{"$f":"Kassen!E384","v":0},{"$f":"Kassen!F384","v":0},{"$f":"Kassen!G384","v":0},{"$f":"Kassen!H384","v":0},{"$f":"Kassen!I384","v":0},{"$f":"Kassen!J384","v":0},{"$f":"Kassen!K384","v":0},{"$f":"Kassen!L384","v":0},{"$f":"Kassen!M384","v":0},0,12,0.5,6,{"$f":"Blad4!F172","v":0},-6,22]
[23,null,null,{"$f":"Kassen!B402","v":0},{"$f":"Kassen!C402","v":0},{"$f":"Kassen!D402","v":0},{"$f":"Kassen!E402","v":0},{"$f":"Kassen!F402","v":0},{"$f":"Kassen!G402","v":0},{"$f":"Kassen!H402","v":0},{"$f":"Kassen!I402","v":0},{"$f":"Kassen!J402","v":0},{"$f":"Kassen!K402","v":0},{"$f":"Kassen!L402","v":0},{"$f":"Kassen!M402","v":0},0,12,0.5,6,{"$f":"Blad4!M172","v":0},-6,23]
[24,null,null,{"$f":"Kassen!B419","v":0},{"$f":"Kassen!C419","v":0},{"$f":"Kassen!D419","v":0},{"$f":"Kassen!E419","v":0},{"$f":"Kassen!F419","v":0},{"$f":"Kassen!G419","v":0},{"$f":"Kassen!H419","v":0},{"$f":"Kassen!I419","v":0},{"$f":"Kassen!J419","v":0},{"$f":"Kassen!K419","v":0},{"$f":"Kassen!L419","v":0},{"$f":"Kassen!M419","v":0},0,12,0.5,6,{"$f":"Blad4!T172","v":0},-6,24]
[25,null,null,{"$f":"Kassen!B437","v":0},{"$f":"Kassen!C437","v":0},{"$f":"Kassen!D437","v":0},{"$f":"Kassen!E437","v":0},{"$f":"Kassen!F437","v":0},{"$f":"Kassen!G437","v":0},{"$f":"Kassen!H437","v":0},{"$f":"Kassen!I437","v":0},{"$f":"Kassen!J437","v":0},{"$f":"Kassen!K437","v":0},{"$f":"Kassen!L437","v":0},{"$f":"Kassen!M437","v":0},0,12,0.5,6,{"$f":"Blad4!F193","v":0},-6,25]
[26,null,null,{"$f":"Kassen!B454","v":0},{"$f":"Kassen!C454","v":0},{"$f":"Kassen!D454","v":0},{"$f":"Kassen!E454","v":0},{"$f":"Kassen!F454","v":0},{"$f":"Kassen!G454","v":0},{"$f":"Kassen!H454","v":0},{"$f":"Kassen!I454","v":0},{"$f":"Kassen!J454","v":0},{"$f":"Kassen!K454","v":0},{"$f":"Kassen!L454","v":0},{"$f":"Kassen!M454","v":0},0,12,0.5,6,{"$f":"Blad4!M193","v":0},-6,26]
[27,null,null,{"$f":"Kassen!B472","v":0},{"$f":"Kassen!C472","v":0},{"$f":"Kassen!D472","v":0},{"$f":"Kassen!E472","v":0},{"$f":"Kassen!F472","v":0},{"$f":"Kassen!G472","v":0},{"$f":"Kassen!H472","v":0},{"$f":"Kassen!I472","v":0},{"$f":"Kassen!J472","v":0},{"$f":"Kassen!K472","v":0},{"$f":"Kassen!L472","v":0},{"$f":"Kassen!M472","v":0},{"$f":"SUM(D32:O32)","v":0},12,0.5,6,{"$f":"Blad4!T193","v":0},-6,27]
[28,null,null,{"$f":"Kassen!B489","v":0},{"$f":"Kassen!C489","v":0},{"$f":"Kassen!D489","v":0},{"$f":"Kassen!E489","v":0},{"$f":"Kassen!F489","v":0},{"$f":"Kassen!G489","v":0},{"$f":"Kassen!H489","v":0},{"$f":"Kassen!I489","v":0},{"$f":"Kassen!J489","v":0},{"$f":"Kassen!K489","v":0},{"$f":"Kassen!L489","v":0},{"$f":"Kassen!M489","v":0},0,12,0.5,6,{"$f":"Blad4!F215","v":0},-6,28]
[29,null,null,{"$f":"Kassen!B507","v":0},{"$f":"Kassen!C507","v":0},{"$f":"Kassen!D507","v":0},{"$f":"Kassen!E507","v":0},{"$f":"Kassen!F507","v":0},{"$f":"Kassen!G507","v":0},{"$f":"Kassen!H507","v":0},{"$f":"Kassen!I507","v":0},{"$f":"Kassen!J507","v":0},{"$f":"Kassen!K507","v":0},{"$f":"Kassen!L507","v":0},{"$f":"Kassen!M507","v":0},0,12,0.5,6,{"$f":"Blad4!M215","v":0},-6,29]
[30,null,null,{"$f":"Kassen!B524","v":0},{"$f":"Kassen!C524","v":0},{"$f":"Kassen!D524","v":0},{"$f":"Kassen!E524","v":0},{"$f":"Kassen!F524","v":0},{"$f":"Kassen!G524","v":0},{"$f":"Kassen!H524","v":0},{"$f":"Kassen!I524","v":0},{"$f":"Kassen!J524","v":0},{"$f":"Kassen!K524","v":0},{"$f":"Kassen!L524","v":0},{"$f":"Kassen!M524","v":0},0,12,0.5,6,{"$f":"Blad4!T215","v":0},-6,30]
[null,null,"     TOTAAL:",{"$f":"SUM(D6:D35)","v":0},{"$f":"SUM(E6:E35)","v":0},0,0,0,0,0,0,0,0,0,0,{"$f":"SUM(P6:P35)","v":0},{"$f":"SUM(Q6:Q35)","v":360},null,{"$f":"SUM(S6:S35)","v":180},{"$f":"SUM(T6:T35)","v":0},{"$f":"(P36-S36-T36)","v":-180}]

{"sheet":"Blad3","index":5,"n_rows":32,"n_cols":21,"rows_kept":32,"cut":false,"hidden":false,"merged":[]}
["KAS","BEDRAG",200,100,50,20,10,5,2,1,0.5,0.2,0.1,0.05,0.02,0.01]
[1,{"$f":"Blad2!U6","v":-6},{"$f":"IF(ISNUMBER(C$1),IF($B2>=C$1,INT($B2/C$1),0),\"\")","v":0},{"$f":"IF(ISNUMBER(D$1),IF(ROUND($B2-SUMPRODUCT($C$1:C$1,INT($C2:C2)),2)>=D$1,INT(ROUND(($B2-SUMPRODUCT($C$1:C$1,$C2:C2)),2)/D$1),0),\"\")","v":0},{"$f":"IF(ISNUMBER(E$1),IF(ROUND($B2-SUMPRODUCT($C$1:D$1,INT($C2:D2)),2)>=E$1,INT(ROUND(($B2-SUMPRODUCT($C$1:D$1,$C2:D2)),2)/E$1),0),\"\")","v":0},{"$f":"IF(ISNUMBER(F$1),IF(ROUND($B2-SUMPRODUCT($C$1:E$1,INT($C2:E2)),2)>=F$1,INT(ROUND(($B2-SUMPRODUCT($C$1:E$1,$C2:E2)),2)/F$1),0),\"\")","v":0},{"$f":"IF(ISNUMBER(G$1),IF(ROUND($B2-SUMPRODUCT($C$1:F$1,INT($C2:F2)),2)>=G$1,INT(ROUND(($B2-SUMPRODUCT($C$1:F$1,$C2:F2)),2)/G$1),0),\"\")","v":0},{"$f":"IF(ISNUMBER(H$1),IF(ROUND($B2-SUMPRODUCT($C$1:G$1,INT($C2:G2)),2)>=H$1,INT(ROUND(($B2-SUMPRODUCT($C$1:G$1,$C2:G2)),2)/H$1),0),\"\")","v":0},{"$f":"IF(ISNUMBER(I$1),IF(ROUND($B2-SUMPRODUCT($C$1:H$1,INT($C2:H2)),2)>=I$1,INT(ROUND(($B2-SUMPRODUCT($C$1:H$1,$C2:H2)),2)/I$1),0),\"\")","v":0},{"$f":"IF(ISNUMBER(J$1),IF(ROUND($B2-SUMPRODUCT($C$1:I$1,INT($C2:I2)),2)>=J$1,INT(ROUND(($B2-SUMPRODUCT($C$1:I$1,$C2:I2)),2)/J$1),0),\"\")","v":0},{"$f":"IF(ISNUMBER(K$1),IF(ROUND($B2-SUMPRODUCT($C$1:J$1,INT($C2:J2)),2)>=K$1,INT(ROUND(($B2-SUMPRODUCT($C$1:J$1,$C2:J2)),2)/K$1),0),\"\")","v":0},{"$f":"IF(ISNUMBER(L$1),IF(ROUND($B2-SUMPRODUCT($C$1:K$1,INT($C2:K2)),2)>=L$1,INT(ROUND(($B2-SUMPRODUCT($C$1:K$1,$C2:K2)),2)/L$1),0),\"\")","v":0},{"$f":"IF(ISNUMBER(M$1),IF(ROUND($B2-SUMPRODUCT($C$1:L$1,INT($C2:L2)),2)>=M$1,INT(ROUND(($B2-SUMPRODUCT($C$1:L$1,$C2:L2)),2)/M$1),0),\"\")","v":0},{"$f":"IF(ISNUMBER(N$1),IF(ROUND($B2-SUMPRODUCT($C$1:M$1,INT($C2:M2)),2)>=N$1,INT(ROUND(($B2-SUMPRODUCT($C$1:M$1,$C2:M2)),2)/N$1),0),\"\")","v":0},{"$f":"IF(ISNUMBER(O$1),IF(ROUND($B2-SUMPRODUCT($C$1:N$1,INT($C2:N2)),2)>=O$1,INT(ROUND(($B2-SUMPRODUCT($C$1:N$1,$C2:N2)),2)/O$1),0),\"\")","v":0},{"$f":"IF(ISNUMBER(P$1),IF(ROUND($B2-SUMPRODUCT($C$1:O$1,INT($C2:O2)),2)>=P$1,INT(ROUND(($B2-SUMPRODUCT($C$1:O$1,$C2:O2)),2)/P$1),0),\"\")","v":0},null,{"$f":"SUM(C2:C31)","v":0}," x",200,{"$f":"SUM(R2*T2)","v":0}]
[2,{"$f":"Blad2!U7","v":-6},{"$f":"IF(ISNUMBER(C$1),IF($B3>=C$1,INT($B3/C$1),0),\"\")","v":0},{"$f":"IF(ISNUMBER(D$1),IF(ROUND($B3-SUMPRODUCT($C$1:C$1,INT($C3:C3)),2)>=D$1,INT(ROUND(($B3-SUMPRODUCT($C$1:C$1,$C3:C3)),2)/D$1),0),\"\")","v":0},{"$f":"IF(ISNUMBER(E$1),IF(ROUND($B3-SUMPRODUCT($C$1:D$1,INT($C3:D3)),2)>=E$1,INT(ROUND(($B3-SUMPRODUCT($C$1:D$1,$C3:D3)),2)/E$1),0),\"\")","v":0},{"$f":"IF(ISNUMBER(F$1),IF(ROUND($B3-SUMPRODUCT($C$1:E$1,INT($C3:E3)),2)>=F$1,INT(ROUND(($B3-SUMPRODUCT($C$1:E$1,$C3:E3)),2)/F$1),0),\"\")","v":0},{"$f":"IF(ISNUMBER(G$1),IF(ROUND($B3-SUMPRODUCT($C$1:F$1,INT($C3:F3)),2)>=G$1,INT(ROUND(($B3-SUMPRODUCT($C$1:F$1,$C3:F3)),2)/G$1),0),\"\")","v":0},{"$f":"IF(ISNUMBER(H$1),IF(ROUND($B3-SUMPRODUCT($C$1:G$1,INT($C3:G3)),2)>=H$1,INT(ROUND(($B3-SUMPRODUCT($C$1:G$1,$C3:G3)),2)/H$1),0),\"\")","v":0},{"$f":"IF(ISNUMBER(I$1),IF(ROUND($B3-SUMPRODUCT($C$1:H$1,INT($C3:H3)),2)>=I$1,INT(ROUND(($B3-SUMPRODUCT($C$1:H$1,$C3:H3)),2)/I$1),0),\"\")","v":0},{"$f":"IF(ISNUMBER(J$1),IF(ROUND($B3-SUMPRODUCT($C$1:I$1,INT($C3:I3)),2)>=J$1,INT(ROUND(($B3-SUMPRODUCT($C$1:I$1,$C3:I3)),2)/J$1),0),\"\")","v":0},{"$f":"IF(ISNUMBER(K$1),IF(ROUND($B3-SUMPRODUCT($C$1:J$1,INT($C3:J3)),2)>=K$1,INT(ROUND(($B3-SUMPRODUCT($C$1:J$1,$C3:J3)),2)/K$1),0),\"\")","v":0},{"$f":"IF(ISNUMBER(L$1),IF(ROUND($B3-SUMPRODUCT($C$1:K$1,INT($C3:K3)),2)>=L$1,INT(ROUND(($B3-SUMPRODUCT($C$1:K$1,$C3:K3)),2)/L$1),0),\"\")","v":0},{"$f":"IF(ISNUMBER(M$1),IF(ROUND($B3-SUMPRODUCT($C$1:L$1,INT($C3:L3)),2)>=M$1,INT(ROUND(($B3-SUMPRODUCT($C$1:L$1,$C3:L3)),2)/M$1),0),\"\")","v":0},{"$f":"IF(ISNUMBER(N$1),IF(ROUND($B3-SUMPRODUCT($C$1:M$1,INT($C3:M3)),2)>=N$1,INT(ROUND(($B3-SUMPRODUCT($C$1:M$1,$C3:M3)),2)/N$1),0),\"\")","v":0},{"$f":"IF(ISNUMBER(O$1),IF(ROUND($B3-SUMPRODUCT($C$1:N$1,INT($C3:N3)),2)>=O$1,INT(ROUND(($B3-SUMPRODUCT($C$1:N$1,$C3:N3)),2)/O$1),0),\"\")","v":0},{"$f":"IF(ISNUMBER(P$1),IF(ROUND($B3-SUMPRODUCT($C$1:O$1,INT($C3:O3)),2)>=P$1,INT(ROUND(($B3-SUMPRODUCT($C$1:O$1,$C3:O3)),2)/P$1),0),\"\")","v":0},null,{"$f":"SUM(D2:D31)","v":0}," x",100,{"$f":"SUM(R3*T3)","v":0}]
[3,{"$f":"Blad2!U8","v":-6},0,{"$f":"IF(ISNUMBER(D$1),IF(ROUND($B4-SUMPRODUCT($C$1:C$1,INT($C4:C4)),2)>=D$1,INT(ROUND(($B4-SUMPRODUCT($C$1:C$1,$C4:C4)),2)/D$1),0),\"\")","v":0},{"$f":"IF(ISNUMBER(E$1),IF(ROUND($B4-SUMPRODUCT($C$1:D$1,INT($C4:D4)),2)>=E$1,INT(ROUND(($B4-SUMPRODUCT($C$1:D$1,$C4:D4)),2)/E$1),0),\"\")","v":0},{"$f":"IF(ISNUMBER(F$1),IF(ROUND($B4-SUMPRODUCT($C$1:E$1,INT($C4:E4)),2)>=F$1,INT(ROUND(($B4-SUMPRODUCT($C$1:E$1,$C4:E4)),2)/F$1),0),\"\")","v":0},{"$f":"IF(ISNUMBER(G$1),IF(ROUND($B4-SUMPRODUCT($C$1:F$1,INT($C4:F4)),2)>=G$1,INT(ROUND(($B4-SUMPRODUCT($C$1:F$1,$C4:F4)),2)/G$1),0),\"\")","v":0},{"$f":"IF(ISNUMBER(H$1),IF(ROUND($B4-SUMPRODUCT($C$1:G$1,INT($C4:G4)),2)>=H$1,INT(ROUND(($B4-SUMPRODUCT($C$1:G$1,$C4:G4)),2)/H$1),0),\"\")","v":0},{"$f":"IF(ISNUMBER(I$1),IF(ROUND($B4-SUMPRODUCT($C$1:H$1,INT($C4:H4)),2)>=I$1,INT(ROUND(($B4-SUMPRODUCT($C$1:H$1,$C4:H4)),2)/I$1),0),\"\")","v":0},{"$f":"IF(ISNUMBER(J$1),IF(ROUND($B4-SUMPRODUCT($C$1:I$1,INT($C4:I4)),2)>=J$1,INT(ROUND(($B4-SUMPRODUCT($C$1:I$1,$C4:I4)),2)/J$1),0),\"\")","v":0},{"$f":"IF(ISNUMBER(K$1),IF(ROUND($B4-SUMPRODUCT($C$1:J$1,INT($C4:J4)),2)>=K$1,INT(ROUND(($B4-SUMPRODUCT($C$1:J$1,$C4:J4)),2)/K$1),0),\"\")","v":0},{"$f":"IF(ISNUMBER(L$1),IF(ROUND($B4-SUMPRODUCT($C$1:K$1,INT($C4:K4)),2)>=L$1,INT(ROUND(($B4-SUMPRODUCT($C$1:K$1,$C4:K4)),2)/L$1),0),\"\")","v":0},{"$f":"IF(ISNUMBER(M$1),IF(ROUND($B4-SUMPRODUCT($C$1:L$1,INT($C4:L4)),2)>=M$1,INT(ROUND(($B4-SUMPRODUCT($C$1:L$1,$C4:L4)),2)/M$1),0),\"\")","v":0},{"$f":"IF(ISNUMBER(N$1),IF(ROUND($B4-SUMPRODUCT($C$1:M$1,INT($C4:M4)),2)>=N$1,INT(ROUND(($B4-SUMPRODUCT($C$1:M$1,$C4:M4)),2)/N$1),0),\"\")","v":0},{"$f":"IF(ISNUMBER(O$1),IF(ROUND($B4-SUMPRODUCT($C$1:N$1,INT($C4:N4)),2)>=O$1,INT(ROUND(($B4-SUMPRODUCT($C$1:N$1,$C4:N4)),2)/O$1),0),\"\")","v":0},{"$f":"IF(ISNUMBER(P$1),IF(ROUND($B4-SUMPRODUCT($C$1:O$1,INT($C4:O4)),2)>=P$1,INT(ROUND(($B4-SUMPRODUCT($C$1:O$1,$C4:O4)),2)/P$1),0),\"\")","v":0},null,{"$f":"SUM(E2:E31)","v":0}," x",50,0]
[4,{"$f":"Blad2!U9","v":-6},0,{"$f":"IF(ISNUMBER(D$1),IF(ROUND($B5-SUMPRODUCT($C$1:C$1,INT($C5:C5)),2)>=D$1,INT(ROUND(($B5-SUMPRODUCT($C$1:C$1,$C5:C5)),2)/D$1),0),\"\")","v":0},{"$f":"IF(ISNUMBER(E$1),IF(ROUND($B5-SUMPRODUCT($C$1:D$1,INT($C5:D5)),2)>=E$1,INT(ROUND(($B5-SUMPRODUCT($C$1:D$1,$C5:D5)),2)/E$1),0),\"\")","v":0},{"$f":"IF(ISNUMBER(F$1),IF(ROUND($B5-SUMPRODUCT($C$1:E$1,INT($C5:E5)),2)>=F$1,INT(ROUND(($B5-SUMPRODUCT($C$1:E$1,$C5:E5)),2)/F$1),0),\"\")","v":0},{"$f":"IF(ISNUMBER(G$1),IF(ROUND($B5-SUMPRODUCT($C$1:F$1,INT($C5:F5)),2)>=G$1,INT(ROUND(($B5-SUMPRODUCT($C$1:F$1,$C5:F5)),2)/G$1),0),\"\")","v":0},{"$f":"IF(ISNUMBER(H$1),IF(ROUND($B5-SUMPRODUCT($C$1:G$1,INT($C5:G5)),2)>=H$1,INT(ROUND(($B5-SUMPRODUCT($C$1:G$1,$C5:G5)),2)/H$1),0),\"\")","v":0},{"$f":"IF(ISNUMBER(I$1),IF(ROUND($B5-SUMPRODUCT($C$1:H$1,INT($C5:H5)),2)>=I$1,INT(ROUND(($B5-SUMPRODUCT($C$1:H$1,$C5:H5)),2)/I$1),0),\"\")","v":0},{"$f":"IF(ISNUMBER(J$1),IF(ROUND($B5-SUMPRODUCT($C$1:I$1,INT($C5:I5)),2)>=J$1,INT(ROUND(($B5-SUMPRODUCT($C$1:I$1,$C5:I5)),2)/J$1),0),\"\")","v":0},{"$f":"IF(ISNUMBER(K$1),IF(ROUND($B5-SUMPRODUCT($C$1:J$1,INT($C5:J5)),2)>=K$1,INT(ROUND(($B5-SUMPRODUCT($C$1:J$1,$C5:J5)),2)/K$1),0),\"\")","v":0},{"$f":"IF(ISNUMBER(L$1),IF(ROUND($B5-SUMPRODUCT($C$1:K$1,INT($C5:K5)),2)>=L$1,INT(ROUND(($B5-SUMPRODUCT($C$1:K$1,$C5:K5)),2)/L$1),0),\"\")","v":0},{"$f":"IF(ISNUMBER(M$1),IF(ROUND($B5-SUMPRODUCT($C$1:L$1,INT($C5:L5)),2)>=M$1,INT(ROUND(($B5-SUMPRODUCT($C$1:L$1,$C5:L5)),2)/M$1),0),\"\")","v":0},{"$f":"IF(ISNUMBER(N$1),IF(ROUND($B5-SUMPRODUCT($C$1:M$1,INT($C5:M5)),2)>=N$1,INT(ROUND(($B5-SUMPRODUCT($C$1:M$1,$C5:M5)),2)/N$1),0),\"\")","v":0},{"$f":"IF(ISNUMBER(O$1),IF(ROUND($B5-SUMPRODUCT($C$1:N$1,INT($C5:N5)),2)>=O$1,INT(ROUND(($B5-SUMPRODUCT($C$1:N$1,$C5:N5)),2)/O$1),0),\"\")","v":0},{"$f":"IF(ISNUMBER(P$1),IF(ROUND($B5-SUMPRODUCT($C$1:O$1,INT($C5:O5)),2)>=P$1,INT(ROUND(($B5-SUMPRODUCT($C$1:O$1,$C5:O5)),2)/P$1),0),\"\")","v":0},null,{"$f":"SUM(F2:F31)","v":0}," x",20,0]
[5,{"$f":"Blad2!U10","v":-6},0,{"$f":"IF(ISNUMBER(D$1),IF(ROUND($B6-SUMPRODUCT($C$1:C$1,INT($C6:C6)),2)>=D$1,INT(ROUND(($B6-SUMPRODUCT($C$1:C$1,$C6:C6)),2)/D$1),0),\"\")","v":0},{"$f":"IF(ISNUMBER(E$1),IF(ROUND($B6-SUMPRODUCT($C$1:D$1,INT($C6:D6)),2)>=E$1,INT(ROUND(($B6-SUMPRODUCT($C$1:D$1,$C6:D6)),2)/E$1),0),\"\")","v":0},{"$f":"IF(ISNUMBER(F$1),IF(ROUND($B6-SUMPRODUCT($C$1:E$1,INT($C6:E6)),2)>=F$1,INT(ROUND(($B6-SUMPRODUCT($C$1:E$1,$C6:E6)),2)/F$1),0),\"\")","v":0},{"$f":"IF(ISNUMBER(G$1),IF(ROUND($B6-SUMPRODUCT($C$1:F$1,INT($C6:F6)),2)>=G$1,INT(ROUND(($B6-SUMPRODUCT($C$1:F$1,$C6:F6)),2)/G$1),0),\"\")","v":0},{"$f":"IF(ISNUMBER(H$1),IF(ROUND($B6-SUMPRODUCT($C$1:G$1,INT($C6:G6)),2)>=H$1,INT(ROUND(($B6-SUMPRODUCT($C$1:G$1,$C6:G6)),2)/H$1),0),\"\")","v":0},{"$f":"IF(ISNUMBER(I$1),IF(ROUND($B6-SUMPRODUCT($C$1:H$1,INT($C6:H6)),2)>=I$1,INT(ROUND(($B6-SUMPRODUCT($C$1:H$1,$C6:H6)),2)/I$1),0),\"\")","v":0},{"$f":"IF(ISNUMBER(J$1),IF(ROUND($B6-SUMPRODUCT($C$1:I$1,INT($C6:I6)),2)>=J$1,INT(ROUND(($B6-SUMPRODUCT($C$1:I$1,$C6:I6)),2)/J$1),0),\"\")","v":0},{"$f":"IF(ISNUMBER(K$1),IF(ROUND($B6-SUMPRODUCT($C$1:J$1,INT($C6:J6)),2)>=K$1,INT(ROUND(($B6-SUMPRODUCT($C$1:J$1,$C6:J6)),2)/K$1),0),\"\")","v":0},{"$f":"IF(ISNUMBER(L$1),IF(ROUND($B6-SUMPRODUCT($C$1:K$1,INT($C6:K6)),2)>=L$1,INT(ROUND(($B6-SUMPRODUCT($C$1:K$1,$C6:K6)),2)/L$1),0),\"\")","v":0},{"$f":"IF(ISNUMBER(M$1),IF(ROUND($B6-SUMPRODUCT($C$1:L$1,INT($C6:L6)),2)>=M$1,INT(ROUND(($B6-SUMPRODUCT($C$1:L$1,$C6:L6)),2)/M$1),0),\"\")","v":0},{"$f":"IF(ISNUMBER(N$1),IF(ROUND($B6-SUMPRODUCT($C$1:M$1,INT($C6:M6)),2)>=N$1,INT(ROUND(($B6-SUMPRODUCT($C$1:M$1,$C6:M6)),2)/N$1),0),\"\")","v":0},{"$f":"IF(ISNUMBER(O$1),IF(ROUND($B6-SUMPRODUCT($C$1:N$1,INT($C6:N6)),2)>=O$1,INT(ROUND(($B6-SUMPRODUCT($C$1:N$1,$C6:N6)),2)/O$1),0),\"\")","v":0},{"$f":"IF(ISNUMBER(P$1),IF(ROUND($B6-SUMPRODUCT($C$1:O$1,INT($C6:O6)),2)>=P$1,INT(ROUND(($B6-SUMPRODUCT($C$1:O$1,$C6:O6)),2)/P$1),0),\"\")","v":0},null,{"$f":"SUM(G2:G31)","v":0}," x",10,0]
[6,{"$f":"Blad2!U11","v":-6},0,{"$f":"IF(ISNUMBER(D$1),IF(ROUND($B7-SUMPRODUCT($C$1:C$1,INT($C7:C7)),2)>=D$1,INT(ROUND(($B7-SUMPRODUCT($C$1:C$1,$C7:C7)),2)/D$1),0),\"\")","v":0},{"$f":"IF(ISNUMBER(E$1),IF(ROUND($B7-SUMPRODUCT($C$1:D$1,INT($C7:D7)),2)>=E$1,INT(ROUND(($B7-SUMPRODUCT($C$1:D$1,$C7:D7)),2)/E$1),0),\"\")","v":0},{"$f":"IF(ISNUMBER(F$1),IF(ROUND($B7-SUMPRODUCT($C$1:E$1,INT($C7:E7)),2)>=F$1,INT(ROUND(($B7-SUMPRODUCT($C$1:E$1,$C7:E7)),2)/F$1),0),\"\")","v":0},{"$f":"IF(ISNUMBER(G$1),IF(ROUND($B7-SUMPRODUCT($C$1:F$1,INT($C7:F7)),2)>=G$1,INT(ROUND(($B7-SUMPRODUCT($C$1:F$1,$C7:F7)),2)/G$1),0),\"\")","v":0},{"$f":"IF(ISNUMBER(H$1),IF(ROUND($B7-SUMPRODUCT($C$1:G$1,INT($C7:G7)),2)>=H$1,INT(ROUND(($B7-SUMPRODUCT($C$1:G$1,$C7:G7)),2)/H$1),0),\"\")","v":0},{"$f":"IF(ISNUMBER(I$1),IF(ROUND($B7-SUMPRODUCT($C$1:H$1,INT($C7:H7)),2)>=I$1,INT(ROUND(($B7-SUMPRODUCT($C$1:H$1,$C7:H7)),2)/I$1),0),\"\")","v":0},{"$f":"IF(ISNUMBER(J$1),IF(ROUND($B7-SUMPRODUCT($C$1:I$1,INT($C7:I7)),2)>=J$1,INT(ROUND(($B7-SUMPRODUCT($C$1:I$1,$C7:I7)),2)/J$1),0),\"\")","v":0},{"$f":"IF(ISNUMBER(K$1),IF(ROUND($B7-SUMPRODUCT($C$1:J$1,INT($C7:J7)),2)>=K$1,INT(ROUND(($B7-SUMPRODUCT($C$1:J$1,$C7:J7)),2)/K$1),0),\"\")","v":0},{"$f":"IF(ISNUMBER(L$1),IF(ROUND($B7-SUMPRODUCT($C$1:K$1,INT($C7:K7)),2)>=L$1,INT(ROUND(($B7-SUMPRODUCT($C$1:K$1,$C7:K7)),2)/L$1),0),\"\")","v":0},{"$f":"IF(ISNUMBER(M$1),IF(ROUND($B7-SUMPRODUCT($C$1:L$1,INT($C7:L7)),2)>=M$1,INT(ROUND(($B7-SUMPRODUCT($C$1:L$1,$C7:L7)),2)/M$1),0),\"\")","v":0},{"$f":"IF(ISNUMBER(N$1),IF(ROUND($B7-SUMPRODUCT($C$1:M$1,INT($C7:M7)),2)>=N$1,INT(ROUND(($B7-SUMPRODUCT($C$1:M$1,$C7:M7)),2)/N$1),0),\"\")","v":0},{"$f":"IF(ISNUMBER(O$1),IF(ROUND($B7-SUMPRODUCT($C$1:N$1,INT($C7:N7)),2)>=O$1,INT(ROUND(($B7-SUMPRODUCT($C$1:N$1,$C7:N7)),2)/O$1),0),\"\")","v":0},{"$f":"IF(ISNUMBER(P$1),IF(ROUND($B7-SUMPRODUCT($C$1:O$1,INT($C7:O7)),2)>=P$1,INT(ROUND(($B7-SUMPRODUCT($C$1:O$1,$C7:O7)),2)/P$1),0),\"\")","v":0},null,{"$f":"SUM(H2:H31)","v":0}," x",5,0]
[7,{"$f":"Blad2!U12","v":-6},0,{"$f":"IF(ISNUMBER(D$1),IF(ROUND($B8-SUMPRODUCT($C$1:C$1,INT($C8:C8)),2)>=D$1,INT(ROUND(($B8-SUMPRODUCT($C$1:C$1,$C8:C8)),2)/D$1),0),\"\")","v":0},{"$f":"IF(ISNUMBER(E$1),IF(ROUND($B8-SUMPRODUCT($C$1:D$1,INT($C8:D8)),2)>=E$1,INT(ROUND(($B8-SUMPRODUCT($C$1:D$1,$C8:D8)),2)/E$1),0),\"\")","v":0},{"$f":"IF(ISNUMBER(F$1),IF(ROUND($B8-SUMPRODUCT($C$1:E$1,INT($C8:E8)),2)>=F$1,INT(ROUND(($B8-SUMPRODUCT($C$1:E$1,$C8:E8)),2)/F$1),0),\"\")","v":0},{"$f":"IF(ISNUMBER(G$1),IF(ROUND($B8-SUMPRODUCT($C$1:F$1,INT($C8:F8)),2)>=G$1,INT(ROUND(($B8-SUMPRODUCT($C$1:F$1,$C8:F8)),2)/G$1),0),\"\")","v":0},{"$f":"IF(ISNUMBER(H$1),IF(ROUND($B8-SUMPRODUCT($C$1:G$1,INT($C8:G8)),2)>=H$1,INT(ROUND(($B8-SUMPRODUCT($C$1:G$1,$C8:G8)),2)/H$1),0),\"\")","v":0},{"$f":"IF(ISNUMBER(I$1),IF(ROUND($B8-SUMPRODUCT($C$1:H$1,INT($C8:H8)),2)>=I$1,INT(ROUND(($B8-SUMPRODUCT($C$1:H$1,$C8:H8)),2)/I$1),0),\"\")","v":0},{"$f":"IF(ISNUMBER(J$1),IF(ROUND($B8-SUMPRODUCT($C$1:I$1,INT($C8:I8)),2)>=J$1,INT(ROUND(($B8-SUMPRODUCT($C$1:I$1,$C8:I8)),2)/J$1),0),\"\")","v":0},{"$f":"IF(ISNUMBER(K$1),IF(ROUND($B8-SUMPRODUCT($C$1:J$1,INT($C8:J8)),2)>=K$1,INT(ROUND(($B8-SUMPRODUCT($C$1:J$1,$C8:J8)),2)/K$1),0),\"\")","v":0},{"$f":"IF(ISNUMBER(L$1),IF(ROUND($B8-SUMPRODUCT($C$1:K$1,INT($C8:K8)),2)>=L$1,INT(ROUND(($B8-SUMPRODUCT($C$1:K$1,$C8:K8)),2)/L$1),0),\"\")","v":0},{"$f":"IF(ISNUMBER(M$1),IF(ROUND($B8-SUMPRODUCT($C$1:L$1,INT($C8:L8)),2)>=M$1,INT(ROUND(($B8-SUMPRODUCT($C$1:L$1,$C8:L8)),2)/M$1),0),\"\")","v":0},{"$f":"IF(ISNUMBER(N$1),IF(ROUND($B8-SUMPRODUCT($C$1:M$1,INT($C8:M8)),2)>=N$1,INT(ROUND(($B8-SUMPRODUCT($C$1:M$1,$C8:M8)),2)/N$1),0),\"\")","v":0},{"$f":"IF(ISNUMBER(O$1),IF(ROUND($B8-SUMPRODUCT($C$1:N$1,INT($C8:N8)),2)>=O$1,INT(ROUND(($B8-SUMPRODUCT($C$1:N$1,$C8:N8)),2)/O$1),0),\"\")","v":0},{"$f":"IF(ISNUMBER(P$1),IF(ROUND($B8-SUMPRODUCT($C$1:O$1,INT($C8:O8)),2)>=P$1,INT(ROUND(($B8-SUMPRODUCT($C$1:O$1,$C8:O8)),2)/P$1),0),\"\")","v":0},null,{"$f":"SUM(I2:I31)","v":0}," x",2,0]
[8,{"$f":"Blad2!U13","v":-6},0,{"$f":"IF(ISNUMBER(D$1),IF(ROUND($B9-SUMPRODUCT($C$1:C$1,INT($C9:C9)),2)>=D$1,INT(ROUND(($B9-SUMPRODUCT($C$1:C$1,$C9:C9)),2)/D$1),0),\"\")","v":0},{"$f":"IF(ISNUMBER(E$1),IF(ROUND($B9-SUMPRODUCT($C$1:D$1,INT($C9:D9)),2)>=E$1,INT(ROUND(($B9-SUMPRODUCT($C$1:D$1,$C9:D9)),2)/E$1),0),\"\")","v":0},{"$f":"IF(ISNUMBER(F$1),IF(ROUND($B9-SUMPRODUCT($C$1:E$1,INT($C9:E9)),2)>=F$1,INT(ROUND(($B9-SUMPRODUCT($C$1:E$1,$C9:E9)),2)/F$1),0),\"\")","v":0},{"$f":"IF(ISNUMBER(G$1),IF(ROUND($B9-SUMPRODUCT($C$1:F$1,INT($C9:F9)),2)>=G$1,INT(ROUND(($B9-SUMPRODUCT($C$1:F$1,$C9:F9)),2)/G$1),0),\"\")","v":0},{"$f":"IF(ISNUMBER(H$1),IF(ROUND($B9-SUMPRODUCT($C$1:G$1,INT($C9:G9)),2)>=H$1,INT(ROUND(($B9-SUMPRODUCT($C$1:G$1,$C9:G9)),2)/H$1),0),\"\")","v":0},{"$f":"IF(ISNUMBER(I$1),IF(ROUND($B9-SUMPRODUCT($C$1:H$1,INT($C9:H9)),2)>=I$1,INT(ROUND(($B9-SUMPRODUCT($C$1:H$1,$C9:H9)),2)/I$1),0),\"\")","v":0},{"$f":"IF(ISNUMBER(J$1),IF(ROUND($B9-SUMPRODUCT($C$1:I$1,INT($C9:I9)),2)>=J$1,INT(ROUND(($B9-SUMPRODUCT($C$1:I$1,$C9:I9)),2)/J$1),0),\"\")","v":0},{"$f":"IF(ISNUMBER(K$1),IF(ROUND($B9-SUMPRODUCT($C$1:J$1,INT($C9:J9)),2)>=K$1,INT(ROUND(($B9-SUMPRODUCT($C$1:J$1,$C9:J9)),2)/K$1),0),\"\")","v":0},{"$f":"IF(ISNUMBER(L$1),IF(ROUND($B9-SUMPRODUCT($C$1:K$1,INT($C9:K9)),2)>=L$1,INT(ROUND(($B9-SUMPRODUCT($C$1:K$1,$C9:K9)),2)/L$1),0),\"\")","v":0},{"$f":"IF(ISNUMBER(M$1),IF(ROUND($B9-SUMPRODUCT($C$1:L$1,INT($C9:L9)),2)>=M$1,INT(ROUND(($B9-SUMPRODUCT($C$1:L$1,$C9:L9)),2)/M$1),0),\"\")","v":0},{"$f":"IF(ISNUMBER(N$1),IF(ROUND($B9-SUMPRODUCT($C$1:M$1,INT($C9:M9)),2)>=N$1,INT(ROUND(($B9-SUMPRODUCT($C$1:M$1,$C9:M9)),2)/N$1),0),\"\")","v":0},{"$f":"IF(ISNUMBER(O$1),IF(ROUND($B9-SUMPRODUCT($C$1:N$1,INT($C9:N9)),2)>=O$1,INT(ROUND(($B9-SUMPRODUCT($C$1:N$1,$C9:N9)),2)/O$1),0),\"\")","v":0},{"$f":"IF(ISNUMBER(P$1),IF(ROUND($B9-SUMPRODUCT($C$1:O$1,INT($C9:O9)),2)>=P$1,INT(ROUND(($B9-SUMPRODUCT($C$1:O$1,$C9:O9)),2)/P$1),0),\"\")","v":0},null,{"$f":"SUM(J2:J31)","v":0}," x",1,0]
[9,{"$f":"Blad2!U14","v":-6},0,{"$f":"IF(ISNUMBER(D$1),IF(ROUND($B10-SUMPRODUCT($C$1:C$1,INT($C10:C10)),2)>=D$1,INT(ROUND(($B10-SUMPRODUCT($C$1:C$1,$C10:C10)),2)/D$1),0),\"\")","v":0},{"$f":"IF(ISNUMBER(E$1),IF(ROUND($B10-SUMPRODUCT($C$1:D$1,INT($C10:D10)),2)>=E$1,INT(ROUND(($B10-SUMPRODUCT($C$1:D$1,$C10:D10)),2)/E$1),0),\"\")","v":0},{"$f":"IF(ISNUMBER(F$1),IF(ROUND($B10-SUMPRODUCT($C$1:E$1,INT($C10:E10)),2)>=F$1,INT(ROUND(($B10-SUMPRODUCT($C$1:E$1,$C10:E10)),2)/F$1),0),\"\")","v":0},{"$f":"IF(ISNUMBER(G$1),IF(ROUND($B10-SUMPRODUCT($C$1:F$1,INT($C10:F10)),2)>=G$1,INT(ROUND(($B10-SUMPRODUCT($C$1:F$1,$C10:F10)),2)/G$1),0),\"\")","v":0},{"$f":"IF(ISNUMBER(H$1),IF(ROUND($B10-SUMPRODUCT($C$1:G$1,INT($C10:G10)),2)>=H$1,INT(ROUND(($B10-SUMPRODUCT($C$1:G$1,$C10:G10)),2)/H$1),0),\"\")","v":0},{"$f":"IF(ISNUMBER(I$1),IF(ROUND($B10-SUMPRODUCT($C$1:H$1,INT($C10:H10)),2)>=I$1,INT(ROUND(($B10-SUMPRODUCT($C$1:H$1,$C10:H10)),2)/I$1),0),\"\")","v":0},{"$f":"IF(ISNUMBER(J$1),IF(ROUND($B10-SUMPRODUCT($C$1:I$1,INT($C10:I10)),2)>=J$1,INT(ROUND(($B10-SUMPRODUCT($C$1:I$1,$C10:I10)),2)/J$1),0),\"\")","v":0},{"$f":"IF(ISNUMBER(K$1),IF(ROUND($B10-SUMPRODUCT($C$1:J$1,INT($C10:J10)),2)>=K$1,INT(ROUND(($B10-SUMPRODUCT($C$1:J$1,$C10:J10)),2)/K$1),0),\"\")","v":0},{"$f":"IF(ISNUMBER(L$1),IF(ROUND($B10-SUMPRODUCT($C$1:K$1,INT($C10:K10)),2)>=L$1,INT(ROUND(($B10-SUMPRODUCT($C$1:K$1,$C10:K10)),2)/L$1),0),\"\")","v":0},{"$f":"IF(ISNUMBER(M$1),IF(ROUND($B10-SUMPRODUCT($C$1:L$1,INT($C10:L10)),2)>=M$1,INT(ROUND(($B10-SUMPRODUCT($C$1:L$1,$C10:L10)),2)/M$1),0),\"\")","v":0},{"$f":"IF(ISNUMBER(N$1),IF(ROUND($B10-SUMPRODUCT($C$1:M$1,INT($C10:M10)),2)>=N$1,INT(ROUND(($B10-SUMPRODUCT($C$1:M$1,$C10:M10)),2)/N$1),0),\"\")","v":0},{"$f":"IF(ISNUMBER(O$1),IF(ROUND($B10-SUMPRODUCT($C$1:N$1,INT($C10:N10)),2)>=O$1,INT(ROUND(($B10-SUMPRODUCT($C$1:N$1,$C10:N10)),2)/O$1),0),\"\")","v":0},{"$f":"IF(ISNUMBER(P$1),IF(ROUND($B10-SUMPRODUCT($C$1:O$1,INT($C10:O10)),2)>=P$1,INT(ROUND(($B10-SUMPRODUCT($C$1:O$1,$C10:O10)),2)/P$1),0),\"\")","v":0},null,{"$f":"SUM(K2:K31)","v":0}," x",0.5,0]
[10,{"$f":"Blad2!U15","v":-6},0,{"$f":"IF(ISNUMBER(D$1),IF(ROUND($B11-SUMPRODUCT($C$1:C$1,INT($C11:C11)),2)>=D$1,INT(ROUND(($B11-SUMPRODUCT($C$1:C$1,$C11:C11)),2)/D$1),0),\"\")","v":0},{"$f":"IF(ISNUMBER(E$1),IF(ROUND($B11-SUMPRODUCT($C$1:D$1,INT($C11:D11)),2)>=E$1,INT(ROUND(($B11-SUMPRODUCT($C$1:D$1,$C11:D11)),2)/E$1),0),\"\")","v":0},{"$f":"IF(ISNUMBER(F$1),IF(ROUND($B11-SUMPRODUCT($C$1:E$1,INT($C11:E11)),2)>=F$1,INT(ROUND(($B11-SUMPRODUCT($C$1:E$1,$C11:E11)),2)/F$1),0),\"\")","v":0},{"$f":"IF(ISNUMBER(G$1),IF(ROUND($B11-SUMPRODUCT($C$1:F$1,INT($C11:F11)),2)>=G$1,INT(ROUND(($B11-SUMPRODUCT($C$1:F$1,$C11:F11)),2)/G$1),0),\"\")","v":0},{"$f":"IF(ISNUMBER(H$1),IF(ROUND($B11-SUMPRODUCT($C$1:G$1,INT($C11:G11)),2)>=H$1,INT(ROUND(($B11-SUMPRODUCT($C$1:G$1,$C11:G11)),2)/H$1),0),\"\")","v":0},{"$f":"IF(ISNUMBER(I$1),IF(ROUND($B11-SUMPRODUCT($C$1:H$1,INT($C11:H11)),2)>=I$1,INT(ROUND(($B11-SUMPRODUCT($C$1:H$1,$C11:H11)),2)/I$1),0),\"\")","v":0},{"$f":"IF(ISNUMBER(J$1),IF(ROUND($B11-SUMPRODUCT($C$1:I$1,INT($C11:I11)),2)>=J$1,INT(ROUND(($B11-SUMPRODUCT($C$1:I$1,$C11:I11)),2)/J$1),0),\"\")","v":0},{"$f":"IF(ISNUMBER(K$1),IF(ROUND($B11-SUMPRODUCT($C$1:J$1,INT($C11:J11)),2)>=K$1,INT(ROUND(($B11-SUMPRODUCT($C$1:J$1,$C11:J11)),2)/K$1),0),\"\")","v":0},{"$f":"IF(ISNUMBER(L$1),IF(ROUND($B11-SUMPRODUCT($C$1:K$1,INT($C11:K11)),2)>=L$1,INT(ROUND(($B11-SUMPRODUCT($C$1:K$1,$C11:K11)),2)/L$1),0),\"\")","v":0},{"$f":"IF(ISNUMBER(M$1),IF(ROUND($B11-SUMPRODUCT($C$1:L$1,INT($C11:L11)),2)>=M$1,INT(ROUND(($B11-SUMPRODUCT($C$1:L$1,$C11:L11)),2)/M$1),0),\"\")","v":0},{"$f":"IF(ISNUMBER(N$1),IF(ROUND($B11-SUMPRODUCT($C$1:M$1,INT($C11:M11)),2)>=N$1,INT(ROUND(($B11-SUMPRODUCT($C$1:M$1,$C11:M11)),2)/N$1),0),\"\")","v":0},{"$f":"IF(ISNUMBER(O$1),IF(ROUND($B11-SUMPRODUCT($C$1:N$1,INT($C11:N11)),2)>=O$1,INT(ROUND(($B11-SUMPRODUCT($C$1:N$1,$C11:N11)),2)/O$1),0),\"\")","v":0},{"$f":"IF(ISNUMBER(P$1),IF(ROUND($B11-SUMPRODUCT($C$1:O$1,INT($C11:O11)),2)>=P$1,INT(ROUND(($B11-SUMPRODUCT($C$1:O$1,$C11:O11)),2)/P$1),0),\"\")","v":0},null,{"$f":"SUM(L2:L31)","v":0}," x",0.2,0]
[11,{"$f":"Blad2!U16","v":-6},0,{"$f":"IF(ISNUMBER(D$1),IF(ROUND($B12-SUMPRODUCT($C$1:C$1,INT($C12:C12)),2)>=D$1,INT(ROUND(($B12-SUMPRODUCT($C$1:C$1,$C12:C12)),2)/D$1),0),\"\")","v":0},{"$f":"IF(ISNUMBER(E$1),IF(ROUND($B12-SUMPRODUCT($C$1:D$1,INT($C12:D12)),2)>=E$1,INT(ROUND(($B12-SUMPRODUCT($C$1:D$1,$C12:D12)),2)/E$1),0),\"\")","v":0},{"$f":"IF(ISNUMBER(F$1),IF(ROUND($B12-SUMPRODUCT($C$1:E$1,INT($C12:E12)),2)>=F$1,INT(ROUND(($B12-SUMPRODUCT($C$1:E$1,$C12:E12)),2)/F$1),0),\"\")","v":0},{"$f":"IF(ISNUMBER(G$1),IF(ROUND($B12-SUMPRODUCT($C$1:F$1,INT($C12:F12)),2)>=G$1,INT(ROUND(($B12-SUMPRODUCT($C$1:F$1,$C12:F12)),2)/G$1),0),\"\")","v":0},{"$f":"IF(ISNUMBER(H$1),IF(ROUND($B12-SUMPRODUCT($C$1:G$1,INT($C12:G12)),2)>=H$1,INT(ROUND(($B12-SUMPRODUCT($C$1:G$1,$C12:G12)),2)/H$1),0),\"\")","v":0},{"$f":"IF(ISNUMBER(I$1),IF(ROUND($B12-SUMPRODUCT($C$1:H$1,INT($C12:H12)),2)>=I$1,INT(ROUND(($B12-SUMPRODUCT($C$1:H$1,$C12:H12)),2)/I$1),0),\"\")","v":0},{"$f":"IF(ISNUMBER(J$1),IF(ROUND($B12-SUMPRODUCT($C$1:I$1,INT($C12:I12)),2)>=J$1,INT(ROUND(($B12-SUMPRODUCT($C$1:I$1,$C12:I12)),2)/J$1),0),\"\")","v":0},{"$f":"IF(ISNUMBER(K$1),IF(ROUND($B12-SUMPRODUCT($C$1:J$1,INT($C12:J12)),2)>=K$1,INT(ROUND(($B12-SUMPRODUCT($C$1:J$1,$C12:J12)),2)/K$1),0),\"\")","v":0},{"$f":"IF(ISNUMBER(L$1),IF(ROUND($B12-SUMPRODUCT($C$1:K$1,INT($C12:K12)),2)>=L$1,INT(ROUND(($B12-SUMPRODUCT($C$1:K$1,$C12:K12)),2)/L$1),0),\"\")","v":0},{"$f":"IF(ISNUMBER(M$1),IF(ROUND($B12-SUMPRODUCT($C$1:L$1,INT($C12:L12)),2)>=M$1,INT(ROUND(($B12-SUMPRODUCT($C$1:L$1,$C12:L12)),2)/M$1),0),\"\")","v":0},{"$f":"IF(ISNUMBER(N$1),IF(ROUND($B12-SUMPRODUCT($C$1:M$1,INT($C12:M12)),2)>=N$1,INT(ROUND(($B12-SUMPRODUCT($C$1:M$1,$C12:M12)),2)/N$1),0),\"\")","v":0},{"$f":"IF(ISNUMBER(O$1),IF(ROUND($B12-SUMPRODUCT($C$1:N$1,INT($C12:N12)),2)>=O$1,INT(ROUND(($B12-SUMPRODUCT($C$1:N$1,$C12:N12)),2)/O$1),0),\"\")","v":0},{"$f":"IF(ISNUMBER(P$1),IF(ROUND($B12-SUMPRODUCT($C$1:O$1,INT($C12:O12)),2)>=P$1,INT(ROUND(($B12-SUMPRODUCT($C$1:O$1,$C12:O12)),2)/P$1),0),\"\")","v":0},null,{"$f":"SUM(M2:M31)","v":0}," x",0.1,0]
[12,{"$f":"Blad2!U17","v":-6},0,{"$f":"IF(ISNUMBER(D$1),IF(ROUND($B13-SUMPRODUCT($C$1:C$1,INT($C13:C13)),2)>=D$1,INT(ROUND(($B13-SUMPRODUCT($C$1:C$1,$C13:C13)),2)/D$1),0),\"\")","v":0},{"$f":"IF(ISNUMBER(E$1),IF(ROUND($B13-SUMPRODUCT($C$1:D$1,INT($C13:D13)),2)>=E$1,INT(ROUND(($B13-SUMPRODUCT($C$1:D$1,$C13:D13)),2)/E$1),0),\"\")","v":0},{"$f":"IF(ISNUMBER(F$1),IF(ROUND($B13-SUMPRODUCT($C$1:E$1,INT($C13:E13)),2)>=F$1,INT(ROUND(($B13-SUMPRODUCT($C$1:E$1,$C13:E13)),2)/F$1),0),\"\")","v":0},{"$f":"IF(ISNUMBER(G$1),IF(ROUND($B13-SUMPRODUCT($C$1:F$1,INT($C13:F13)),2)>=G$1,INT(ROUND(($B13-SUMPRODUCT($C$1:F$1,$C13:F13)),2)/G$1),0),\"\")","v":0},{"$f":"IF(ISNUMBER(H$1),IF(ROUND($B13-SUMPRODUCT($C$1:G$1,INT($C13:G13)),2)>=H$1,INT(ROUND(($B13-SUMPRODUCT($C$1:G$1,$C13:G13)),2)/H$1),0),\"\")","v":0},{"$f":"IF(ISNUMBER(I$1),IF(ROUND($B13-SUMPRODUCT($C$1:H$1,INT($C13:H13)),2)>=I$1,INT(ROUND(($B13-SUMPRODUCT($C$1:H$1,$C13:H13)),2)/I$1),0),\"\")","v":0},{"$f":"IF(ISNUMBER(J$1),IF(ROUND($B13-SUMPRODUCT($C$1:I$1,INT($C13:I13)),2)>=J$1,INT(ROUND(($B13-SUMPRODUCT($C$1:I$1,$C13:I13)),2)/J$1),0),\"\")","v":0},{"$f":"IF(ISNUMBER(K$1),IF(ROUND($B13-SUMPRODUCT($C$1:J$1,INT($C13:J13)),2)>=K$1,INT(ROUND(($B13-SUMPRODUCT($C$1:J$1,$C13:J13)),2)/K$1),0),\"\")","v":0},{"$f":"IF(ISNUMBER(L$1),IF(ROUND($B13-SUMPRODUCT($C$1:K$1,INT($C13:K13)),2)>=L$1,INT(ROUND(($B13-SUMPRODUCT($C$1:K$1,$C13:K13)),2)/L$1),0),\"\")","v":0},{"$f":"IF(ISNUMBER(M$1),IF(ROUND($B13-SUMPRODUCT($C$1:L$1,INT($C13:L13)),2)>=M$1,INT(ROUND(($B13-SUMPRODUCT($C$1:L$1,$C13:L13)),2)/M$1),0),\"\")","v":0},{"$f":"IF(ISNUMBER(N$1),IF(ROUND($B13-SUMPRODUCT($C$1:M$1,INT($C13:M13)),2)>=N$1,INT(ROUND(($B13-SUMPRODUCT($C$1:M$1,$C13:M13)),2)/N$1),0),\"\")","v":0},{"$f":"IF(ISNUMBER(O$1),IF(ROUND($B13-SUMPRODUCT($C$1:N$1,INT($C13:N13)),2)>=O$1,INT(ROUND(($B13-SUMPRODUCT($C$1:N$1,$C13:N13)),2)/O$1),0),\"\")","v":0},{"$f":"IF(ISNUMBER(P$1),IF(ROUND($B13-SUMPRODUCT($C$1:O$1,INT($C13:O13)),2)>=P$1,INT(ROUND(($B13-SUMPRODUCT($C$1:O$1,$C13:O13)),2)/P$1),0),\"\")","v":0},null,{"$f":"SUM(N2:N31)","v":0}," x",0.05,0]
[13,{"$f":"Blad2!U18","v":-6},0,{"$f":"IF(ISNUMBER(D$1),IF(ROUND($B14-SUMPRODUCT($C$1:C$1,INT($C14:C14)),2)>=D$1,INT(ROUND(($B14-SUMPRODUCT($C$1:C$1,$C14:C14)),2)/D$1),0),\"\")","v":0},{"$f":"IF(ISNUMBER(E$1),IF(ROUND($B14-SUMPRODUCT($C$1:D$1,INT($C14:D14)),2)>=E$1,INT(ROUND(($B14-SUMPRODUCT($C$1:D$1,$C14:D14)),2)/E$1),0),\"\")","v":0},{"$f":"IF(ISNUMBER(F$1),IF(ROUND($B14-SUMPRODUCT($C$1:E$1,INT($C14:E14)),2)>=F$1,INT(ROUND(($B14-SUMPRODUCT($C$1:E$1,$C14:E14)),2)/F$1),0),\"\")","v":0},{"$f":"IF(ISNUMBER(G$1),IF(ROUND($B14-SUMPRODUCT($C$1:F$1,INT($C14:F14)),2)>=G$1,INT(ROUND(($B14-SUMPRODUCT($C$1:F$1,$C14:F14)),2)/G$1),0),\"\")","v":0},{"$f":"IF(ISNUMBER(H$1),IF(ROUND($B14-SUMPRODUCT($C$1:G$1,INT($C14:G14)),2)>=H$1,INT(ROUND(($B14-SUMPRODUCT($C$1:G$1,$C14:G14)),2)/H$1),0),\"\")","v":0},{"$f":"IF(ISNUMBER(I$1),IF(ROUND($B14-SUMPRODUCT($C$1:H$1,INT($C14:H14)),2)>=I$1,INT(ROUND(($B14-SUMPRODUCT($C$1:H$1,$C14:H14)),2)/I$1),0),\"\")","v":0},{"$f":"IF(ISNUMBER(J$1),IF(ROUND($B14-SUMPRODUCT($C$1:I$1,INT($C14:I14)),2)>=J$1,INT(ROUND(($B14-SUMPRODUCT($C$1:I$1,$C14:I14)),2)/J$1),0),\"\")","v":0},{"$f":"IF(ISNUMBER(K$1),IF(ROUND($B14-SUMPRODUCT($C$1:J$1,INT($C14:J14)),2)>=K$1,INT(ROUND(($B14-SUMPRODUCT($C$1:J$1,$C14:J14)),2)/K$1),0),\"\")","v":0},{"$f":"IF(ISNUMBER(L$1),IF(ROUND($B14-SUMPRODUCT($C$1:K$1,INT($C14:K14)),2)>=L$1,INT(ROUND(($B14-SUMPRODUCT($C$1:K$1,$C14:K14)),2)/L$1),0),\"\")","v":0},{"$f":"IF(ISNUMBER(M$1),IF(ROUND($B14-SUMPRODUCT($C$1:L$1,INT($C14:L14)),2)>=M$1,INT(ROUND(($B14-SUMPRODUCT($C$1:L$1,$C14:L14)),2)/M$1),0),\"\")","v":0},{"$f":"IF(ISNUMBER(N$1),IF(ROUND($B14-SUMPRODUCT($C$1:M$1,INT($C14:M14)),2)>=N$1,INT(ROUND(($B14-SUMPRODUCT($C$1:M$1,$C14:M14)),2)/N$1),0),\"\")","v":0},{"$f":"IF(ISNUMBER(O$1),IF(ROUND($B14-SUMPRODUCT($C$1:N$1,INT($C14:N14)),2)>=O$1,INT(ROUND(($B14-SUMPRODUCT($C$1:N$1,$C14:N14)),2)/O$1),0),\"\")","v":0},{"$f":"IF(ISNUMBER(P$1),IF(ROUND($B14-SUMPRODUCT($C$1:O$1,INT($C14:O14)),2)>=P$1,INT(ROUND(($B14-SUMPRODUCT($C$1:O$1,$C14:O14)),2)/P$1),0),\"\")","v":0},null,{"$f":"SUM(O2:O31)","v":0}," x",0.02,0]
[14,{"$f":"Blad2!U19","v":-6},0,{"$f":"IF(ISNUMBER(D$1),IF(ROUND($B15-SUMPRODUCT($C$1:C$1,INT($C15:C15)),2)>=D$1,INT(ROUND(($B15-SUMPRODUCT($C$1:C$1,$C15:C15)),2)/D$1),0),\"\")","v":0},{"$f":"IF(ISNUMBER(E$1),IF(ROUND($B15-SUMPRODUCT($C$1:D$1,INT($C15:D15)),2)>=E$1,INT(ROUND(($B15-SUMPRODUCT($C$1:D$1,$C15:D15)),2)/E$1),0),\"\")","v":0},{"$f":"IF(ISNUMBER(F$1),IF(ROUND($B15-SUMPRODUCT($C$1:E$1,INT($C15:E15)),2)>=F$1,INT(ROUND(($B15-SUMPRODUCT($C$1:E$1,$C15:E15)),2)/F$1),0),\"\")","v":0},{"$f":"IF(ISNUMBER(G$1),IF(ROUND($B15-SUMPRODUCT($C$1:F$1,INT($C15:F15)),2)>=G$1,INT(ROUND(($B15-SUMPRODUCT($C$1:F$1,$C15:F15)),2)/G$1),0),\"\")","v":0},{"$f":"IF(ISNUMBER(H$1),IF(ROUND($B15-SUMPRODUCT($C$1:G$1,INT($C15:G15)),2)>=H$1,INT(ROUND(($B15-SUMPRODUCT($C$1:G$1,$C15:G15)),2)/H$1),0),\"\")","v":0},{"$f":"IF(ISNUMBER(I$1),IF(ROUND($B15-SUMPRODUCT($C$1:H$1,INT($C15:H15)),2)>=I$1,INT(ROUND(($B15-SUMPRODUCT($C$1:H$1,$C15:H15)),2)/I$1),0),\"\")","v":0},{"$f":"IF(ISNUMBER(J$1),IF(ROUND($B15-SUMPRODUCT($C$1:I$1,INT($C15:I15)),2)>=J$1,INT(ROUND(($B15-SUMPRODUCT($C$1:I$1,$C15:I15)),2)/J$1),0),\"\")","v":0},{"$f":"IF(ISNUMBER(K$1),IF(ROUND($B15-SUMPRODUCT($C$1:J$1,INT($C15:J15)),2)>=K$1,INT(ROUND(($B15-SUMPRODUCT($C$1:J$1,$C15:J15)),2)/K$1),0),\"\")","v":0},{"$f":"IF(ISNUMBER(L$1),IF(ROUND($B15-SUMPRODUCT($C$1:K$1,INT($C15:K15)),2)>=L$1,INT(ROUND(($B15-SUMPRODUCT($C$1:K$1,$C15:K15)),2)/L$1),0),\"\")","v":0},{"$f":"IF(ISNUMBER(M$1),IF(ROUND($B15-SUMPRODUCT($C$1:L$1,INT($C15:L15)),2)>=M$1,INT(ROUND(($B15-SUMPRODUCT($C$1:L$1,$C15:L15)),2)/M$1),0),\"\")","v":0},{"$f":"IF(ISNUMBER(N$1),IF(ROUND($B15-SUMPRODUCT($C$1:M$1,INT($C15:M15)),2)>=N$1,INT(ROUND(($B15-SUMPRODUCT($C$1:M$1,$C15:M15)),2)/N$1),0),\"\")","v":0},{"$f":"IF(ISNUMBER(O$1),IF(ROUND($B15-SUMPRODUCT($C$1:N$1,INT($C15:N15)),2)>=O$1,INT(ROUND(($B15-SUMPRODUCT($C$1:N$1,$C15:N15)),2)/O$1),0),\"\")","v":0},{"$f":"IF(ISNUMBER(P$1),IF(ROUND($B15-SUMPRODUCT($C$1:O$1,INT($C15:O15)),2)>=P$1,INT(ROUND(($B15-SUMPRODUCT($C$1:O$1,$C15:O15)),2)/P$1),0),\"\")","v":0},null,{"$f":"SUM(P2:P31)","v":0}," x",0.01,0]
[15,{"$f":"Blad2!U20","v":-6},0,{"$f":"IF(ISNUMBER(D$1),IF(ROUND($B16-SUMPRODUCT($C$1:C$1,INT($C16:C16)),2)>=D$1,INT(ROUND(($B16-SUMPRODUCT($C$1:C$1,$C16:C16)),2)/D$1),0),\"\")","v":0},{"$f":"IF(ISNUMBER(E$1),IF(ROUND($B16-SUMPRODUCT($C$1:D$1,INT($C16:D16)),2)>=E$1,INT(ROUND(($B16-SUMPRODUCT($C$1:D$1,$C16:D16)),2)/E$1),0),\"\")","v":0},{"$f":"IF(ISNUMBER(F$1),IF(ROUND($B16-SUMPRODUCT($C$1:E$1,INT($C16:E16)),2)>=F$1,INT(ROUND(($B16-SUMPRODUCT($C$1:E$1,$C16:E16)),2)/F$1),0),\"\")","v":0},{"$f":"IF(ISNUMBER(G$1),IF(ROUND($B16-SUMPRODUCT($C$1:F$1,INT($C16:F16)),2)>=G$1,INT(ROUND(($B16-SUMPRODUCT($C$1:F$1,$C16:F16)),2)/G$1),0),\"\")","v":0},{"$f":"IF(ISNUMBER(H$1),IF(ROUND($B16-SUMPRODUCT($C$1:G$1,INT($C16:G16)),2)>=H$1,INT(ROUND(($B16-SUMPRODUCT($C$1:G$1,$C16:G16)),2)/H$1),0),\"\")","v":0},{"$f":"IF(ISNUMBER(I$1),IF(ROUND($B16-SUMPRODUCT($C$1:H$1,INT($C16:H16)),2)>=I$1,INT(ROUND(($B16-SUMPRODUCT($C$1:H$1,$C16:H16)),2)/I$1),0),\"\")","v":0},{"$f":"IF(ISNUMBER(J$1),IF(ROUND($B16-SUMPRODUCT($C$1:I$1,INT($C16:I16)),2)>=J$1,INT(ROUND(($B16-SUMPRODUCT($C$1:I$1,$C16:I16)),2)/J$1),0),\"\")","v":0},{"$f":"IF(ISNUMBER(K$1),IF(ROUND($B16-SUMPRODUCT($C$1:J$1,INT($C16:J16)),2)>=K$1,INT(ROUND(($B16-SUMPRODUCT($C$1:J$1,$C16:J16)),2)/K$1),0),\"\")","v":0},{"$f":"IF(ISNUMBER(L$1),IF(ROUND($B16-SUMPRODUCT($C$1:K$1,INT($C16:K16)),2)>=L$1,INT(ROUND(($B16-SUMPRODUCT($C$1:K$1,$C16:K16)),2)/L$1),0),\"\")","v":0},{"$f":"IF(ISNUMBER(M$1),IF(ROUND($B16-SUMPRODUCT($C$1:L$1,INT($C16:L16)),2)>=M$1,INT(ROUND(($B16-SUMPRODUCT($C$1:L$1,$C16:L16)),2)/M$1),0),\"\")","v":0},{"$f":"IF(ISNUMBER(N$1),IF(ROUND($B16-SUMPRODUCT($C$1:M$1,INT($C16:M16)),2)>=N$1,INT(ROUND(($B16-SUMPRODUCT($C$1:M$1,$C16:M16)),2)/N$1),0),\"\")","v":0},{"$f":"IF(ISNUMBER(O$1),IF(ROUND($B16-SUMPRODUCT($C$1:N$1,INT($C16:N16)),2)>=O$1,INT(ROUND(($B16-SUMPRODUCT($C$1:N$1,$C16:N16)),2)/O$1),0),\"\")","v":0},{"$f":"IF(ISNUMBER(P$1),IF(ROUND($B16-SUMPRODUCT($C$1:O$1,INT($C16:O16)),2)>=P$1,INT(ROUND(($B16-SUMPRODUCT($C$1:O$1,$C16:O16)),2)/P$1),0),\"\")","v":0}]
[16,{"$f":"Blad2!U21","v":-6},0,{"$f":"IF(ISNUMBER(D$1),IF(ROUND($B17-SUMPRODUCT($C$1:C$1,INT($C17:C17)),2)>=D$1,INT(ROUND(($B17-SUMPRODUCT($C$1:C$1,$C17:C17)),2)/D$1),0),\"\")","v":0},{"$f":"IF(ISNUMBER(E$1),IF(ROUND($B17-SUMPRODUCT($C$1:D$1,INT($C17:D17)),2)>=E$1,INT(ROUND(($B17-SUMPRODUCT($C$1:D$1,$C17:D17)),2)/E$1),0),\"\")","v":0},{"$f":"IF(ISNUMBER(F$1),IF(ROUND($B17-SUMPRODUCT($C$1:E$1,INT($C17:E17)),2)>=F$1,INT(ROUND(($B17-SUMPRODUCT($C$1:E$1,$C17:E17)),2)/F$1),0),\"\")","v":0},{"$f":"IF(ISNUMBER(G$1),IF(ROUND($B17-SUMPRODUCT($C$1:F$1,INT($C17:F17)),2)>=G$1,INT(ROUND(($B17-SUMPRODUCT($C$1:F$1,$C17:F17)),2)/G$1),0),\"\")","v":0},{"$f":"IF(ISNUMBER(H$1),IF(ROUND($B17-SUMPRODUCT($C$1:G$1,INT($C17:G17)),2)>=H$1,INT(ROUND(($B17-SUMPRODUCT($C$1:G$1,$C17:G17)),2)/H$1),0),\"\")","v":0},{"$f":"IF(ISNUMBER(I$1),IF(ROUND($B17-SUMPRODUCT($C$1:H$1,INT($C17:H17)),2)>=I$1,INT(ROUND(($B17-SUMPRODUCT($C$1:H$1,$C17:H17)),2)/I$1),0),\"\")","v":0},{"$f":"IF(ISNUMBER(J$1),IF(ROUND($B17-SUMPRODUCT($C$1:I$1,INT($C17:I17)),2)>=J$1,INT(ROUND(($B17-SUMPRODUCT($C$1:I$1,$C17:I17)),2)/J$1),0),\"\")","v":0},{"$f":"IF(ISNUMBER(K$1),IF(ROUND($B17-SUMPRODUCT($C$1:J$1,INT($C17:J17)),2)>=K$1,INT(ROUND(($B17-SUMPRODUCT($C$1:J$1,$C17:J17)),2)/K$1),0),\"\")","v":0},{"$f":"IF(ISNUMBER(L$1),IF(ROUND($B17-SUMPRODUCT($C$1:K$1,INT($C17:K17)),2)>=L$1,INT(ROUND(($B17-SUMPRODUCT($C$1:K$1,$C17:K17)),2)/L$1),0),\"\")","v":0},{"$f":"IF(ISNUMBER(M$1),IF(ROUND($B17-SUMPRODUCT($C$1:L$1,INT($C17:L17)),2)>=M$1,INT(ROUND(($B17-SUMPRODUCT($C$1:L$1,$C17:L17)),2)/M$1),0),\"\")","v":0},{"$f":"IF(ISNUMBER(N$1),IF(ROUND($B17-SUMPRODUCT($C$1:M$1,INT($C17:M17)),2)>=N$1,INT(ROUND(($B17-SUMPRODUCT($C$1:M$1,$C17:M17)),2)/N$1),0),\"\")","v":0},{"$f":"IF(ISNUMBER(O$1),IF(ROUND($B17-SUMPRODUCT($C$1:N$1,INT($C17:N17)),2)>=O$1,INT(ROUND(($B17-SUMPRODUCT($C$1:N$1,$C17:N17)),2)/O$1),0),\"\")","v":0},{"$f":"IF(ISNUMBER(P$1),IF(ROUND($B17-SUMPRODUCT($C$1:O$1,INT($C17:O17)),2)>=P$1,INT(ROUND(($B17-SUMPRODUCT($C$1:O$1,$C17:O17)),2)/P$1),0),\"\")","v":0},null,null,"Totaal:",null,{"$f":"SUM(U2:U15)","v":0}]
[17,{"$f":"Blad2!U22","v":-6},0,{"$f":"IF(ISNUMBER(D$1),IF(ROUND($B18-SUMPRODUCT($C$1:C$1,INT($C18:C18)),2)>=D$1,INT(ROUND(($B18-SUMPRODUCT($C$1:C$1,$C18:C18)),2)/D$1),0),\"\")","v":0},{"$f":"IF(ISNUMBER(E$1),IF(ROUND($B18-SUMPRODUCT($C$1:D$1,INT($C18:D18)),2)>=E$1,INT(ROUND(($B18-SUMPRODUCT($C$1:D$1,$C18:D18)),2)/E$1),0),\"\")","v":0},{"$f":"IF(ISNUMBER(F$1),IF(ROUND($B18-SUMPRODUCT($C$1:E$1,INT($C18:E18)),2)>=F$1,INT(ROUND(($B18-SUMPRODUCT($C$1:E$1,$C18:E18)),2)/F$1),0),\"\")","v":0},{"$f":"IF(ISNUMBER(G$1),IF(ROUND($B18-SUMPRODUCT($C$1:F$1,INT($C18:F18)),2)>=G$1,INT(ROUND(($B18-SUMPRODUCT($C$1:F$1,$C18:F18)),2)/G$1),0),\"\")","v":0},{"$f":"IF(ISNUMBER(H$1),IF(ROUND($B18-SUMPRODUCT($C$1:G$1,INT($C18:G18)),2)>=H$1,INT(ROUND(($B18-SUMPRODUCT($C$1:G$1,$C18:G18)),2)/H$1),0),\"\")","v":0},{"$f":"IF(ISNUMBER(I$1),IF(ROUND($B18-SUMPRODUCT($C$1:H$1,INT($C18:H18)),2)>=I$1,INT(ROUND(($B18-SUMPRODUCT($C$1:H$1,$C18:H18)),2)/I$1),0),\"\")","v":0},{"$f":"IF(ISNUMBER(J$1),IF(ROUND($B18-SUMPRODUCT($C$1:I$1,INT($C18:I18)),2)>=J$1,INT(ROUND(($B18-SUMPRODUCT($C$1:I$1,$C18:I18)),2)/J$1),0),\"\")","v":0},{"$f":"IF(ISNUMBER(K$1),IF(ROUND($B18-SUMPRODUCT($C$1:J$1,INT($C18:J18)),2)>=K$1,INT(ROUND(($B18-SUMPRODUCT($C$1:J$1,$C18:J18)),2)/K$1),0),\"\")","v":0},{"$f":"IF(ISNUMBER(L$1),IF(ROUND($B18-SUMPRODUCT($C$1:K$1,INT($C18:K18)),2)>=L$1,INT(ROUND(($B18-SUMPRODUCT($C$1:K$1,$C18:K18)),2)/L$1),0),\"\")","v":0},{"$f":"IF(ISNUMBER(M$1),IF(ROUND($B18-SUMPRODUCT($C$1:L$1,INT($C18:L18)),2)>=M$1,INT(ROUND(($B18-SUMPRODUCT($C$1:L$1,$C18:L18)),2)/M$1),0),\"\")","v":0},{"$f":"IF(ISNUMBER(N$1),IF(ROUND($B18-SUMPRODUCT($C$1:M$1,INT($C18:M18)),2)>=N$1,INT(ROUND(($B18-SUMPRODUCT($C$1:M$1,$C18:M18)),2)/N$1),0),\"\")","v":0},{"$f":"IF(ISNUMBER(O$1),IF(ROUND($B18-SUMPRODUCT($C$1:N$1,INT($C18:N18)),2)>=O$1,INT(ROUND(($B18-SUMPRODUCT($C$1:N$1,$C18:N18)),2)/O$1),0),\"\")","v":0},{"$f":"IF(ISNUMBER(P$1),IF(ROUND($B18-SUMPRODUCT($C$1:O$1,INT($C18:O18)),2)>=P$1,INT(ROUND(($B18-SUMPRODUCT($C$1:O$1,$C18:O18)),2)/P$1),0),\"\")","v":0}]
[18,{"$f":"Blad2!U23","v":-6},0,{"$f":"IF(ISNUMBER(D$1),IF(ROUND($B19-SUMPRODUCT($C$1:C$1,INT($C19:C19)),2)>=D$1,INT(ROUND(($B19-SUMPRODUCT($C$1:C$1,$C19:C19)),2)/D$1),0),\"\")","v":0},{"$f":"IF(ISNUMBER(E$1),IF(ROUND($B19-SUMPRODUCT($C$1:D$1,INT($C19:D19)),2)>=E$1,INT(ROUND(($B19-SUMPRODUCT($C$1:D$1,$C19:D19)),2)/E$1),0),\"\")","v":0},{"$f":"IF(ISNUMBER(F$1),IF(ROUND($B19-SUMPRODUCT($C$1:E$1,INT($C19:E19)),2)>=F$1,INT(ROUND(($B19-SUMPRODUCT($C$1:E$1,$C19:E19)),2)/F$1),0),\"\")","v":0},{"$f":"IF(ISNUMBER(G$1),IF(ROUND($B19-SUMPRODUCT($C$1:F$1,INT($C19:F19)),2)>=G$1,INT(ROUND(($B19-SUMPRODUCT($C$1:F$1,$C19:F19)),2)/G$1),0),\"\")","v":0},{"$f":"IF(ISNUMBER(H$1),IF(ROUND($B19-SUMPRODUCT($C$1:G$1,INT($C19:G19)),2)>=H$1,INT(ROUND(($B19-SUMPRODUCT($C$1:G$1,$C19:G19)),2)/H$1),0),\"\")","v":0},{"$f":"IF(ISNUMBER(I$1),IF(ROUND($B19-SUMPRODUCT($C$1:H$1,INT($C19:H19)),2)>=I$1,INT(ROUND(($B19-SUMPRODUCT($C$1:H$1,$C19:H19)),2)/I$1),0),\"\")","v":0},{"$f":"IF(ISNUMBER(J$1),IF(ROUND($B19-SUMPRODUCT($C$1:I$1,INT($C19:I19)),2)>=J$1,INT(ROUND(($B19-SUMPRODUCT($C$1:I$1,$C19:I19)),2)/J$1),0),\"\")","v":0},{"$f":"IF(ISNUMBER(K$1),IF(ROUND($B19-SUMPRODUCT($C$1:J$1,INT($C19:J19)),2)>=K$1,INT(ROUND(($B19-SUMPRODUCT($C$1:J$1,$C19:J19)),2)/K$1),0),\"\")","v":0},{"$f":"IF(ISNUMBER(L$1),IF(ROUND($B19-SUMPRODUCT($C$1:K$1,INT($C19:K19)),2)>=L$1,INT(ROUND(($B19-SUMPRODUCT($C$1:K$1,$C19:K19)),2)/L$1),0),\"\")","v":0},{"$f":"IF(ISNUMBER(M$1),IF(ROUND($B19-SUMPRODUCT($C$1:L$1,INT($C19:L19)),2)>=M$1,INT(ROUND(($B19-SUMPRODUCT($C$1:L$1,$C19:L19)),2)/M$1),0),\"\")","v":0},{"$f":"IF(ISNUMBER(N$1),IF(ROUND($B19-SUMPRODUCT($C$1:M$1,INT($C19:M19)),2)>=N$1,INT(ROUND(($B19-SUMPRODUCT($C$1:M$1,$C19:M19)),2)/N$1),0),\"\")","v":0},{"$f":"IF(ISNUMBER(O$1),IF(ROUND($B19-SUMPRODUCT($C$1:N$1,INT($C19:N19)),2)>=O$1,INT(ROUND(($B19-SUMPRODUCT($C$1:N$1,$C19:N19)),2)/O$1),0),\"\")","v":0},{"$f":"IF(ISNUMBER(P$1),IF(ROUND($B19-SUMPRODUCT($C$1:O$1,INT($C19:O19)),2)>=P$1,INT(ROUND(($B19-SUMPRODUCT($C$1:O$1,$C19:O19)),2)/P$1),0),\"\")","v":0}]
[19,{"$f":"Blad2!U24","v":-6},0,{"$f":"IF(ISNUMBER(D$1),IF(ROUND($B20-SUMPRODUCT($C$1:C$1,INT($C20:C20)),2)>=D$1,INT(ROUND(($B20-SUMPRODUCT($C$1:C$1,$C20:C20)),2)/D$1),0),\"\")","v":0},{"$f":"IF(ISNUMBER(E$1),IF(ROUND($B20-SUMPRODUCT($C$1:D$1,INT($C20:D20)),2)>=E$1,INT(ROUND(($B20-SUMPRODUCT($C$1:D$1,$C20:D20)),2)/E$1),0),\"\")","v":0},{"$f":"IF(ISNUMBER(F$1),IF(ROUND($B20-SUMPRODUCT($C$1:E$1,INT($C20:E20)),2)>=F$1,INT(ROUND(($B20-SUMPRODUCT($C$1:E$1,$C20:E20)),2)/F$1),0),\"\")","v":0},{"$f":"IF(ISNUMBER(G$1),IF(ROUND($B20-SUMPRODUCT($C$1:F$1,INT($C20:F20)),2)>=G$1,INT(ROUND(($B20-SUMPRODUCT($C$1:F$1,$C20:F20)),2)/G$1),0),\"\")","v":0},{"$f":"IF(ISNUMBER(H$1),IF(ROUND($B20-SUMPRODUCT($C$1:G$1,INT($C20:G20)),2)>=H$1,INT(ROUND(($B20-SUMPRODUCT($C$1:G$1,$C20:G20)),2)/H$1),0),\"\")","v":0},{"$f":"IF(ISNUMBER(I$1),IF(ROUND($B20-SUMPRODUCT($C$1:H$1,INT($C20:H20)),2)>=I$1,INT(ROUND(($B20-SUMPRODUCT($C$1:H$1,$C20:H20)),2)/I$1),0),\"\")","v":0},{"$f":"IF(ISNUMBER(J$1),IF(ROUND($B20-SUMPRODUCT($C$1:I$1,INT($C20:I20)),2)>=J$1,INT(ROUND(($B20-SUMPRODUCT($C$1:I$1,$C20:I20)),2)/J$1),0),\"\")","v":0},{"$f":"IF(ISNUMBER(K$1),IF(ROUND($B20-SUMPRODUCT($C$1:J$1,INT($C20:J20)),2)>=K$1,INT(ROUND(($B20-SUMPRODUCT($C$1:J$1,$C20:J20)),2)/K$1),0),\"\")","v":0},{"$f":"IF(ISNUMBER(L$1),IF(ROUND($B20-SUMPRODUCT($C$1:K$1,INT($C20:K20)),2)>=L$1,INT(ROUND(($B20-SUMPRODUCT($C$1:K$1,$C20:K20)),2)/L$1),0),\"\")","v":0},{"$f":"IF(ISNUMBER(M$1),IF(ROUND($B20-SUMPRODUCT($C$1:L$1,INT($C20:L20)),2)>=M$1,INT(ROUND(($B20-SUMPRODUCT($C$1:L$1,$C20:L20)),2)/M$1),0),\"\")","v":0},{"$f":"IF(ISNUMBER(N$1),IF(ROUND($B20-SUMPRODUCT($C$1:M$1,INT($C20:M20)),2)>=N$1,INT(ROUND(($B20-SUMPRODUCT($C$1:M$1,$C20:M20)),2)/N$1),0),\"\")","v":0},{"$f":"IF(ISNUMBER(O$1),IF(ROUND($B20-SUMPRODUCT($C$1:N$1,INT($C20:N20)),2)>=O$1,INT(ROUND(($B20-SUMPRODUCT($C$1:N$1,$C20:N20)),2)/O$1),0),\"\")","v":0},{"$f":"IF(ISNUMBER(P$1),IF(ROUND($B20-SUMPRODUCT($C$1:O$1,INT($C20:O20)),2)>=P$1,INT(ROUND(($B20-SUMPRODUCT($C$1:O$1,$C20:O20)),2)/P$1),0),\"\")","v":0}]
[20,{"$f":"Blad2!U25","v":-6},0,{"$f":"IF(ISNUMBER(D$1),IF(ROUND($B21-SUMPRODUCT($C$1:C$1,INT($C21:C21)),2)>=D$1,INT(ROUND(($B21-SUMPRODUCT($C$1:C$1,$C21:C21)),2)/D$1),0),\"\")","v":0},{"$f":"IF(ISNUMBER(E$1),IF(ROUND($B21-SUMPRODUCT($C$1:D$1,INT($C21:D21)),2)>=E$1,INT(ROUND(($B21-SUMPRODUCT($C$1:D$1,$C21:D21)),2)/E$1),0),\"\")","v":0},{"$f":"IF(ISNUMBER(F$1),IF(ROUND($B21-SUMPRODUCT($C$1:E$1,INT($C21:E21)),2)>=F$1,INT(ROUND(($B21-SUMPRODUCT($C$1:E$1,$C21:E21)),2)/F$1),0),\"\")","v":0},{"$f":"IF(ISNUMBER(G$1),IF(ROUND($B21-SUMPRODUCT($C$1:F$1,INT($C21:F21)),2)>=G$1,INT(ROUND(($B21-SUMPRODUCT($C$1:F$1,$C21:F21)),2)/G$1),0),\"\")","v":0},{"$f":"IF(ISNUMBER(H$1),IF(ROUND($B21-SUMPRODUCT($C$1:G$1,INT($C21:G21)),2)>=H$1,INT(ROUND(($B21-SUMPRODUCT($C$1:G$1,$C21:G21)),2)/H$1),0),\"\")","v":0},{"$f":"IF(ISNUMBER(I$1),IF(ROUND($B21-SUMPRODUCT($C$1:H$1,INT($C21:H21)),2)>=I$1,INT(ROUND(($B21-SUMPRODUCT($C$1:H$1,$C21:H21)),2)/I$1),0),\"\")","v":0},{"$f":"IF(ISNUMBER(J$1),IF(ROUND($B21-SUMPRODUCT($C$1:I$1,INT($C21:I21)),2)>=J$1,INT(ROUND(($B21-SUMPRODUCT($C$1:I$1,$C21:I21)),2)/J$1),0),\"\")","v":0},{"$f":"IF(ISNUMBER(K$1),IF(ROUND($B21-SUMPRODUCT($C$1:J$1,INT($C21:J21)),2)>=K$1,INT(ROUND(($B21-SUMPRODUCT($C$1:J$1,$C21:J21)),2)/K$1),0),\"\")","v":0},{"$f":"IF(ISNUMBER(L$1),IF(ROUND($B21-SUMPRODUCT($C$1:K$1,INT($C21:K21)),2)>=L$1,INT(ROUND(($B21-SUMPRODUCT($C$1:K$1,$C21:K21)),2)/L$1),0),\"\")","v":0},{"$f":"IF(ISNUMBER(M$1),IF(ROUND($B21-SUMPRODUCT($C$1:L$1,INT($C21:L21)),2)>=M$1,INT(ROUND(($B21-SUMPRODUCT($C$1:L$1,$C21:L21)),2)/M$1),0),\"\")","v":0},{"$f":"IF(ISNUMBER(N$1),IF(ROUND($B21-SUMPRODUCT($C$1:M$1,INT($C21:M21)),2)>=N$1,INT(ROUND(($B21-SUMPRODUCT($C$1:M$1,$C21:M21)),2)/N$1),0),\"\")","v":0},{"$f":"IF(ISNUMBER(O$1),IF(ROUND($B21-SUMPRODUCT($C$1:N$1,INT($C21:N21)),2)>=O$1,INT(ROUND(($B21-SUMPRODUCT($C$1:N$1,$C21:N21)),2)/O$1),0),\"\")","v":0},{"$f":"IF(ISNUMBER(P$1),IF(ROUND($B21-SUMPRODUCT($C$1:O$1,INT($C21:O21)),2)>=P$1,INT(ROUND(($B21-SUMPRODUCT($C$1:O$1,$C21:O21)),2)/P$1),0),\"\")","v":0}]
[21,{"$f":"Blad2!U27","v":-6},0,{"$f":"IF(ISNUMBER(D$1),IF(ROUND($B22-SUMPRODUCT($C$1:C$1,INT($C22:C22)),2)>=D$1,INT(ROUND(($B22-SUMPRODUCT($C$1:C$1,$C22:C22)),2)/D$1),0),\"\")","v":0},{"$f":"IF(ISNUMBER(E$1),IF(ROUND($B22-SUMPRODUCT($C$1:D$1,INT($C22:D22)),2)>=E$1,INT(ROUND(($B22-SUMPRODUCT($C$1:D$1,$C22:D22)),2)/E$1),0),\"\")","v":0},{"$f":"IF(ISNUMBER(F$1),IF(ROUND($B22-SUMPRODUCT($C$1:E$1,INT($C22:E22)),2)>=F$1,INT(ROUND(($B22-SUMPRODUCT($C$1:E$1,$C22:E22)),2)/F$1),0),\"\")","v":0},{"$f":"IF(ISNUMBER(G$1),IF(ROUND($B22-SUMPRODUCT($C$1:F$1,INT($C22:F22)),2)>=G$1,INT(ROUND(($B22-SUMPRODUCT($C$1:F$1,$C22:F22)),2)/G$1),0),\"\")","v":0},{"$f":"IF(ISNUMBER(H$1),IF(ROUND($B22-SUMPRODUCT($C$1:G$1,INT($C22:G22)),2)>=H$1,INT(ROUND(($B22-SUMPRODUCT($C$1:G$1,$C22:G22)),2)/H$1),0),\"\")","v":0},{"$f":"IF(ISNUMBER(I$1),IF(ROUND($B22-SUMPRODUCT($C$1:H$1,INT($C22:H22)),2)>=I$1,INT(ROUND(($B22-SUMPRODUCT($C$1:H$1,$C22:H22)),2)/I$1),0),\"\")","v":0},{"$f":"IF(ISNUMBER(J$1),IF(ROUND($B22-SUMPRODUCT($C$1:I$1,INT($C22:I22)),2)>=J$1,INT(ROUND(($B22-SUMPRODUCT($C$1:I$1,$C22:I22)),2)/J$1),0),\"\")","v":0},{"$f":"IF(ISNUMBER(K$1),IF(ROUND($B22-SUMPRODUCT($C$1:J$1,INT($C22:J22)),2)>=K$1,INT(ROUND(($B22-SUMPRODUCT($C$1:J$1,$C22:J22)),2)/K$1),0),\"\")","v":0},{"$f":"IF(ISNUMBER(L$1),IF(ROUND($B22-SUMPRODUCT($C$1:K$1,INT($C22:K22)),2)>=L$1,INT(ROUND(($B22-SUMPRODUCT($C$1:K$1,$C22:K22)),2)/L$1),0),\"\")","v":0},{"$f":"IF(ISNUMBER(M$1),IF(ROUND($B22-SUMPRODUCT($C$1:L$1,INT($C22:L22)),2)>=M$1,INT(ROUND(($B22-SUMPRODUCT($C$1:L$1,$C22:L22)),2)/M$1),0),\"\")","v":0},{"$f":"IF(ISNUMBER(N$1),IF(ROUND($B22-SUMPRODUCT($C$1:M$1,INT($C22:M22)),2)>=N$1,INT(ROUND(($B22-SUMPRODUCT($C$1:M$1,$C22:M22)),2)/N$1),0),\"\")","v":0},{"$f":"IF(ISNUMBER(O$1),IF(ROUND($B22-SUMPRODUCT($C$1:N$1,INT($C22:N22)),2)>=O$1,INT(ROUND(($B22-SUMPRODUCT($C$1:N$1,$C22:N22)),2)/O$1),0),\"\")","v":0},{"$f":"IF(ISNUMBER(P$1),IF(ROUND($B22-SUMPRODUCT($C$1:O$1,INT($C22:O22)),2)>=P$1,INT(ROUND(($B22-SUMPRODUCT($C$1:O$1,$C22:O22)),2)/P$1),0),\"\")","v":0}]
[22,{"$f":"Blad2!U27","v":-6},0,{"$f":"IF(ISNUMBER(D$1),IF(ROUND($B23-SUMPRODUCT($C$1:C$1,INT($C23:C23)),2)>=D$1,INT(ROUND(($B23-SUMPRODUCT($C$1:C$1,$C23:C23)),2)/D$1),0),\"\")","v":0},{"$f":"IF(ISNUMBER(E$1),IF(ROUND($B23-SUMPRODUCT($C$1:D$1,INT($C23:D23)),2)>=E$1,INT(ROUND(($B23-SUMPRODUCT($C$1:D$1,$C23:D23)),2)/E$1),0),\"\")","v":0},{"$f":"IF(ISNUMBER(F$1),IF(ROUND($B23-SUMPRODUCT($C$1:E$1,INT($C23:E23)),2)>=F$1,INT(ROUND(($B23-SUMPRODUCT($C$1:E$1,$C23:E23)),2)/F$1),0),\"\")","v":0},{"$f":"IF(ISNUMBER(G$1),IF(ROUND($B23-SUMPRODUCT($C$1:F$1,INT($C23:F23)),2)>=G$1,INT(ROUND(($B23-SUMPRODUCT($C$1:F$1,$C23:F23)),2)/G$1),0),\"\")","v":0},{"$f":"IF(ISNUMBER(H$1),IF(ROUND($B23-SUMPRODUCT($C$1:G$1,INT($C23:G23)),2)>=H$1,INT(ROUND(($B23-SUMPRODUCT($C$1:G$1,$C23:G23)),2)/H$1),0),\"\")","v":0},{"$f":"IF(ISNUMBER(I$1),IF(ROUND($B23-SUMPRODUCT($C$1:H$1,INT($C23:H23)),2)>=I$1,INT(ROUND(($B23-SUMPRODUCT($C$1:H$1,$C23:H23)),2)/I$1),0),\"\")","v":0},{"$f":"IF(ISNUMBER(J$1),IF(ROUND($B23-SUMPRODUCT($C$1:I$1,INT($C23:I23)),2)>=J$1,INT(ROUND(($B23-SUMPRODUCT($C$1:I$1,$C23:I23)),2)/J$1),0),\"\")","v":0},{"$f":"IF(ISNUMBER(K$1),IF(ROUND($B23-SUMPRODUCT($C$1:J$1,INT($C23:J23)),2)>=K$1,INT(ROUND(($B23-SUMPRODUCT($C$1:J$1,$C23:J23)),2)/K$1),0),\"\")","v":0},{"$f":"IF(ISNUMBER(L$1),IF(ROUND($B23-SUMPRODUCT($C$1:K$1,INT($C23:K23)),2)>=L$1,INT(ROUND(($B23-SUMPRODUCT($C$1:K$1,$C23:K23)),2)/L$1),0),\"\")","v":0},{"$f":"IF(ISNUMBER(M$1),IF(ROUND($B23-SUMPRODUCT($C$1:L$1,INT($C23:L23)),2)>=M$1,INT(ROUND(($B23-SUMPRODUCT($C$1:L$1,$C23:L23)),2)/M$1),0),\"\")","v":0},{"$f":"IF(ISNUMBER(N$1),IF(ROUND($B23-SUMPRODUCT($C$1:M$1,INT($C23:M23)),2)>=N$1,INT(ROUND(($B23-SUMPRODUCT($C$1:M$1,$C23:M23)),2)/N$1),0),\"\")","v":0},{"$f":"IF(ISNUMBER(O$1),IF(ROUND($B23-SUMPRODUCT($C$1:N$1,INT($C23:N23)),2)>=O$1,INT(ROUND(($B23-SUMPRODUCT($C$1:N$1,$C23:N23)),2)/O$1),0),\"\")","v":0},{"$f":"IF(ISNUMBER(P$1),IF(ROUND($B23-SUMPRODUCT($C$1:O$1,INT($C23:O23)),2)>=P$1,INT(ROUND(($B23-SUMPRODUCT($C$1:O$1,$C23:O23)),2)/P$1),0),\"\")","v":0}]
[23,{"$f":"Blad2!U28","v":-6},0,{"$f":"IF(ISNUMBER(D$1),IF(ROUND($B24-SUMPRODUCT($C$1:C$1,INT($C24:C24)),2)>=D$1,INT(ROUND(($B24-SUMPRODUCT($C$1:C$1,$C24:C24)),2)/D$1),0),\"\")","v":0},{"$f":"IF(ISNUMBER(E$1),IF(ROUND($B24-SUMPRODUCT($C$1:D$1,INT($C24:D24)),2)>=E$1,INT(ROUND(($B24-SUMPRODUCT($C$1:D$1,$C24:D24)),2)/E$1),0),\"\")","v":0},{"$f":"IF(ISNUMBER(F$1),IF(ROUND($B24-SUMPRODUCT($C$1:E$1,INT($C24:E24)),2)>=F$1,INT(ROUND(($B24-SUMPRODUCT($C$1:E$1,$C24:E24)),2)/F$1),0),\"\")","v":0},{"$f":"IF(ISNUMBER(G$1),IF(ROUND($B24-SUMPRODUCT($C$1:F$1,INT($C24:F24)),2)>=G$1,INT(ROUND(($B24-SUMPRODUCT($C$1:F$1,$C24:F24)),2)/G$1),0),\"\")","v":0},{"$f":"IF(ISNUMBER(H$1),IF(ROUND($B24-SUMPRODUCT($C$1:G$1,INT($C24:G24)),2)>=H$1,INT(ROUND(($B24-SUMPRODUCT($C$1:G$1,$C24:G24)),2)/H$1),0),\"\")","v":0},{"$f":"IF(ISNUMBER(I$1),IF(ROUND($B24-SUMPRODUCT($C$1:H$1,INT($C24:H24)),2)>=I$1,INT(ROUND(($B24-SUMPRODUCT($C$1:H$1,$C24:H24)),2)/I$1),0),\"\")","v":0},{"$f":"IF(ISNUMBER(J$1),IF(ROUND($B24-SUMPRODUCT($C$1:I$1,INT($C24:I24)),2)>=J$1,INT(ROUND(($B24-SUMPRODUCT($C$1:I$1,$C24:I24)),2)/J$1),0),\"\")","v":0},{"$f":"IF(ISNUMBER(K$1),IF(ROUND($B24-SUMPRODUCT($C$1:J$1,INT($C24:J24)),2)>=K$1,INT(ROUND(($B24-SUMPRODUCT($C$1:J$1,$C24:J24)),2)/K$1),0),\"\")","v":0},{"$f":"IF(ISNUMBER(L$1),IF(ROUND($B24-SUMPRODUCT($C$1:K$1,INT($C24:K24)),2)>=L$1,INT(ROUND(($B24-SUMPRODUCT($C$1:K$1,$C24:K24)),2)/L$1),0),\"\")","v":0},{"$f":"IF(ISNUMBER(M$1),IF(ROUND($B24-SUMPRODUCT($C$1:L$1,INT($C24:L24)),2)>=M$1,INT(ROUND(($B24-SUMPRODUCT($C$1:L$1,$C24:L24)),2)/M$1),0),\"\")","v":0},{"$f":"IF(ISNUMBER(N$1),IF(ROUND($B24-SUMPRODUCT($C$1:M$1,INT($C24:M24)),2)>=N$1,INT(ROUND(($B24-SUMPRODUCT($C$1:M$1,$C24:M24)),2)/N$1),0),\"\")","v":0},{"$f":"IF(ISNUMBER(O$1),IF(ROUND($B24-SUMPRODUCT($C$1:N$1,INT($C24:N24)),2)>=O$1,INT(ROUND(($B24-SUMPRODUCT($C$1:N$1,$C24:N24)),2)/O$1),0),\"\")","v":0},{"$f":"IF(ISNUMBER(P$1),IF(ROUND($B24-SUMPRODUCT($C$1:O$1,INT($C24:O24)),2)>=P$1,INT(ROUND(($B24-SUMPRODUCT($C$1:O$1,$C24:O24)),2)/P$1),0),\"\")","v":0}]
[24,{"$f":"Blad2!U29","v":-6},0,{"$f":"IF(ISNUMBER(D$1),IF(ROUND($B25-SUMPRODUCT($C$1:C$1,INT($C25:C25)),2)>=D$1,INT(ROUND(($B25-SUMPRODUCT($C$1:C$1,$C25:C25)),2)/D$1),0),\"\")","v":0},{"$f":"IF(ISNUMBER(E$1),IF(ROUND($B25-SUMPRODUCT($C$1:D$1,INT($C25:D25)),2)>=E$1,INT(ROUND(($B25-SUMPRODUCT($C$1:D$1,$C25:D25)),2)/E$1),0),\"\")","v":0},{"$f":"IF(ISNUMBER(F$1),IF(ROUND($B25-SUMPRODUCT($C$1:E$1,INT($C25:E25)),2)>=F$1,INT(ROUND(($B25-SUMPRODUCT($C$1:E$1,$C25:E25)),2)/F$1),0),\"\")","v":0},{"$f":"IF(ISNUMBER(G$1),IF(ROUND($B25-SUMPRODUCT($C$1:F$1,INT($C25:F25)),2)>=G$1,INT(ROUND(($B25-SUMPRODUCT($C$1:F$1,$C25:F25)),2)/G$1),0),\"\")","v":0},{"$f":"IF(ISNUMBER(H$1),IF(ROUND($B25-SUMPRODUCT($C$1:G$1,INT($C25:G25)),2)>=H$1,INT(ROUND(($B25-SUMPRODUCT($C$1:G$1,$C25:G25)),2)/H$1),0),\"\")","v":0},{"$f":"IF(ISNUMBER(I$1),IF(ROUND($B25-SUMPRODUCT($C$1:H$1,INT($C25:H25)),2)>=I$1,INT(ROUND(($B25-SUMPRODUCT($C$1:H$1,$C25:H25)),2)/I$1),0),\"\")","v":0},{"$f":"IF(ISNUMBER(J$1),IF(ROUND($B25-SUMPRODUCT($C$1:I$1,INT($C25:I25)),2)>=J$1,INT(ROUND(($B25-SUMPRODUCT($C$1:I$1,$C25:I25)),2)/J$1),0),\"\")","v":0},{"$f":"IF(ISNUMBER(K$1),IF(ROUND($B25-SUMPRODUCT($C$1:J$1,INT($C25:J25)),2)>=K$1,INT(ROUND(($B25-SUMPRODUCT($C$1:J$1,$C25:J25)),2)/K$1),0),\"\")","v":0},{"$f":"IF(ISNUMBER(L$1),IF(ROUND($B25-SUMPRODUCT($C$1:K$1,INT($C25:K25)),2)>=L$1,INT(ROUND(($B25-SUMPRODUCT($C$1:K$1,$C25:K25)),2)/L$1),0),\"\")","v":0},{"$f":"IF(ISNUMBER(M$1),IF(ROUND($B25-SUMPRODUCT($C$1:L$1,INT($C25:L25)),2)>=M$1,INT(ROUND(($B25-SUMPRODUCT($C$1:L$1,$C25:L25)),2)/M$1),0),\"\")","v":0},{"$f":"IF(ISNUMBER(N$1),IF(ROUND($B25-SUMPRODUCT($C$1:M$1,INT($C25:M25)),2)>=N$1,INT(ROUND(($B25-SUMPRODUCT($C$1:M$1,$C25:M25)),2)/N$1),0),\"\")","v":0},{"$f":"IF(ISNUMBER(O$1),IF(ROUND($B25-SUMPRODUCT($C$1:N$1,INT($C25:N25)),2)>=O$1,INT(ROUND(($B25-SUMPRODUCT($C$1:N$1,$C25:N25)),2)/O$1),0),\"\")","v":0},{"$f":"IF(ISNUMBER(P$1),IF(ROUND($B25-SUMPRODUCT($C$1:O$1,INT($C25:O25)),2)>=P$1,INT(ROUND(($B25-SUMPRODUCT($C$1:O$1,$C25:O25)),2)/P$1),0),\"\")","v":0}]
[25,{"$f":"Blad2!U30","v":-6},0,{"$f":"IF(ISNUMBER(D$1),IF(ROUND($B26-SUMPRODUCT($C$1:C$1,INT($C26:C26)),2)>=D$1,INT(ROUND(($B26-SUMPRODUCT($C$1:C$1,$C26:C26)),2)/D$1),0),\"\")","v":0},{"$f":"IF(ISNUMBER(E$1),IF(ROUND($B26-SUMPRODUCT($C$1:D$1,INT($C26:D26)),2)>=E$1,INT(ROUND(($B26-SUMPRODUCT($C$1:D$1,$C26:D26)),2)/E$1),0),\"\")","v":0},{"$f":"IF(ISNUMBER(F$1),IF(ROUND($B26-SUMPRODUCT($C$1:E$1,INT($C26:E26)),2)>=F$1,INT(ROUND(($B26-SUMPRODUCT($C$1:E$1,$C26:E26)),2)/F$1),0),\"\")","v":0},{"$f":"IF(ISNUMBER(G$1),IF(ROUND($B26-SUMPRODUCT($C$1:F$1,INT($C26:F26)),2)>=G$1,INT(ROUND(($B26-SUMPRODUCT($C$1:F$1,$C26:F26)),2)/G$1),0),\"\")","v":0},{"$f":"IF(ISNUMBER(H$1),IF(ROUND($B26-SUMPRODUCT($C$1:G$1,INT($C26:G26)),2)>=H$1,INT(ROUND(($B26-SUMPRODUCT($C$1:G$1,$C26:G26)),2)/H$1),0),\"\")","v":0},{"$f":"IF(ISNUMBER(I$1),IF(ROUND($B26-SUMPRODUCT($C$1:H$1,INT($C26:H26)),2)>=I$1,INT(ROUND(($B26-SUMPRODUCT($C$1:H$1,$C26:H26)),2)/I$1),0),\"\")","v":0},{"$f":"IF(ISNUMBER(J$1),IF(ROUND($B26-SUMPRODUCT($C$1:I$1,INT($C26:I26)),2)>=J$1,INT(ROUND(($B26-SUMPRODUCT($C$1:I$1,$C26:I26)),2)/J$1),0),\"\")","v":0},{"$f":"IF(ISNUMBER(K$1),IF(ROUND($B26-SUMPRODUCT($C$1:J$1,INT($C26:J26)),2)>=K$1,INT(ROUND(($B26-SUMPRODUCT($C$1:J$1,$C26:J26)),2)/K$1),0),\"\")","v":0},{"$f":"IF(ISNUMBER(L$1),IF(ROUND($B26-SUMPRODUCT($C$1:K$1,INT($C26:K26)),2)>=L$1,INT(ROUND(($B26-SUMPRODUCT($C$1:K$1,$C26:K26)),2)/L$1),0),\"\")","v":0},{"$f":"IF(ISNUMBER(M$1),IF(ROUND($B26-SUMPRODUCT($C$1:L$1,INT($C26:L26)),2)>=M$1,INT(ROUND(($B26-SUMPRODUCT($C$1:L$1,$C26:L26)),2)/M$1),0),\"\")","v":0},{"$f":"IF(ISNUMBER(N$1),IF(ROUND($B26-SUMPRODUCT($C$1:M$1,INT($C26:M26)),2)>=N$1,INT(ROUND(($B26-SUMPRODUCT($C$1:M$1,$C26:M26)),2)/N$1),0),\"\")","v":0},{"$f":"IF(ISNUMBER(O$1),IF(ROUND($B26-SUMPRODUCT($C$1:N$1,INT($C26:N26)),2)>=O$1,INT(ROUND(($B26-SUMPRODUCT($C$1:N$1,$C26:N26)),2)/O$1),0),\"\")","v":0},{"$f":"IF(ISNUMBER(P$1),IF(ROUND($B26-SUMPRODUCT($C$1:O$1,INT($C26:O26)),2)>=P$1,INT(ROUND(($B26-SUMPRODUCT($C$1:O$1,$C26:O26)),2)/P$1),0),\"\")","v":0}]
[26,{"$f":"Blad2!U31","v":-6},0,{"$f":"IF(ISNUMBER(D$1),IF(ROUND($B27-SUMPRODUCT($C$1:C$1,INT($C27:C27)),2)>=D$1,INT(ROUND(($B27-SUMPRODUCT($C$1:C$1,$C27:C27)),2)/D$1),0),\"\")","v":0},{"$f":"IF(ISNUMBER(E$1),IF(ROUND($B27-SUMPRODUCT($C$1:D$1,INT($C27:D27)),2)>=E$1,INT(ROUND(($B27-SUMPRODUCT($C$1:D$1,$C27:D27)),2)/E$1),0),\"\")","v":0},{"$f":"IF(ISNUMBER(F$1),IF(ROUND($B27-SUMPRODUCT($C$1:E$1,INT($C27:E27)),2)>=F$1,INT(ROUND(($B27-SUMPRODUCT($C$1:E$1,$C27:E27)),2)/F$1),0),\"\")","v":0},{"$f":"IF(ISNUMBER(G$1),IF(ROUND($B27-SUMPRODUCT($C$1:F$1,INT($C27:F27)),2)>=G$1,INT(ROUND(($B27-SUMPRODUCT($C$1:F$1,$C27:F27)),2)/G$1),0),\"\")","v":0},{"$f":"IF(ISNUMBER(H$1),IF(ROUND($B27-SUMPRODUCT($C$1:G$1,INT($C27:G27)),2)>=H$1,INT(ROUND(($B27-SUMPRODUCT($C$1:G$1,$C27:G27)),2)/H$1),0),\"\")","v":0},{"$f":"IF(ISNUMBER(I$1),IF(ROUND($B27-SUMPRODUCT($C$1:H$1,INT($C27:H27)),2)>=I$1,INT(ROUND(($B27-SUMPRODUCT($C$1:H$1,$C27:H27)),2)/I$1),0),\"\")","v":0},{"$f":"IF(ISNUMBER(J$1),IF(ROUND($B27-SUMPRODUCT($C$1:I$1,INT($C27:I27)),2)>=J$1,INT(ROUND(($B27-SUMPRODUCT($C$1:I$1,$C27:I27)),2)/J$1),0),\"\")","v":0},{"$f":"IF(ISNUMBER(K$1),IF(ROUND($B27-SUMPRODUCT($C$1:J$1,INT($C27:J27)),2)>=K$1,INT(ROUND(($B27-SUMPRODUCT($C$1:J$1,$C27:J27)),2)/K$1),0),\"\")","v":0},{"$f":"IF(ISNUMBER(L$1),IF(ROUND($B27-SUMPRODUCT($C$1:K$1,INT($C27:K27)),2)>=L$1,INT(ROUND(($B27-SUMPRODUCT($C$1:K$1,$C27:K27)),2)/L$1),0),\"\")","v":0},{"$f":"IF(ISNUMBER(M$1),IF(ROUND($B27-SUMPRODUCT($C$1:L$1,INT($C27:L27)),2)>=M$1,INT(ROUND(($B27-SUMPRODUCT($C$1:L$1,$C27:L27)),2)/M$1),0),\"\")","v":0},{"$f":"IF(ISNUMBER(N$1),IF(ROUND($B27-SUMPRODUCT($C$1:M$1,INT($C27:M27)),2)>=N$1,INT(ROUND(($B27-SUMPRODUCT($C$1:M$1,$C27:M27)),2)/N$1),0),\"\")","v":0},{"$f":"IF(ISNUMBER(O$1),IF(ROUND($B27-SUMPRODUCT($C$1:N$1,INT($C27:N27)),2)>=O$1,INT(ROUND(($B27-SUMPRODUCT($C$1:N$1,$C27:N27)),2)/O$1),0),\"\")","v":0},{"$f":"IF(ISNUMBER(P$1),IF(ROUND($B27-SUMPRODUCT($C$1:O$1,INT($C27:O27)),2)>=P$1,INT(ROUND(($B27-SUMPRODUCT($C$1:O$1,$C27:O27)),2)/P$1),0),\"\")","v":0}]
[27,{"$f":"Blad2!U32","v":-6},0,{"$f":"IF(ISNUMBER(D$1),IF(ROUND($B28-SUMPRODUCT($C$1:C$1,INT($C28:C28)),2)>=D$1,INT(ROUND(($B28-SUMPRODUCT($C$1:C$1,$C28:C28)),2)/D$1),0),\"\")","v":0},{"$f":"IF(ISNUMBER(E$1),IF(ROUND($B28-SUMPRODUCT($C$1:D$1,INT($C28:D28)),2)>=E$1,INT(ROUND(($B28-SUMPRODUCT($C$1:D$1,$C28:D28)),2)/E$1),0),\"\")","v":0},{"$f":"IF(ISNUMBER(F$1),IF(ROUND($B28-SUMPRODUCT($C$1:E$1,INT($C28:E28)),2)>=F$1,INT(ROUND(($B28-SUMPRODUCT($C$1:E$1,$C28:E28)),2)/F$1),0),\"\")","v":0},{"$f":"IF(ISNUMBER(G$1),IF(ROUND($B28-SUMPRODUCT($C$1:F$1,INT($C28:F28)),2)>=G$1,INT(ROUND(($B28-SUMPRODUCT($C$1:F$1,$C28:F28)),2)/G$1),0),\"\")","v":0},{"$f":"IF(ISNUMBER(H$1),IF(ROUND($B28-SUMPRODUCT($C$1:G$1,INT($C28:G28)),2)>=H$1,INT(ROUND(($B28-SUMPRODUCT($C$1:G$1,$C28:G28)),2)/H$1),0),\"\")","v":0},{"$f":"IF(ISNUMBER(I$1),IF(ROUND($B28-SUMPRODUCT($C$1:H$1,INT($C28:H28)),2)>=I$1,INT(ROUND(($B28-SUMPRODUCT($C$1:H$1,$C28:H28)),2)/I$1),0),\"\")","v":0},{"$f":"IF(ISNUMBER(J$1),IF(ROUND($B28-SUMPRODUCT($C$1:I$1,INT($C28:I28)),2)>=J$1,INT(ROUND(($B28-SUMPRODUCT($C$1:I$1,$C28:I28)),2)/J$1),0),\"\")","v":0},{"$f":"IF(ISNUMBER(K$1),IF(ROUND($B28-SUMPRODUCT($C$1:J$1,INT($C28:J28)),2)>=K$1,INT(ROUND(($B28-SUMPRODUCT($C$1:J$1,$C28:J28)),2)/K$1),0),\"\")","v":0},{"$f":"IF(ISNUMBER(L$1),IF(ROUND($B28-SUMPRODUCT($C$1:K$1,INT($C28:K28)),2)>=L$1,INT(ROUND(($B28-SUMPRODUCT($C$1:K$1,$C28:K28)),2)/L$1),0),\"\")","v":0},{"$f":"IF(ISNUMBER(M$1),IF(ROUND($B28-SUMPRODUCT($C$1:L$1,INT($C28:L28)),2)>=M$1,INT(ROUND(($B28-SUMPRODUCT($C$1:L$1,$C28:L28)),2)/M$1),0),\"\")","v":0},{"$f":"IF(ISNUMBER(N$1),IF(ROUND($B28-SUMPRODUCT($C$1:M$1,INT($C28:M28)),2)>=N$1,INT(ROUND(($B28-SUMPRODUCT($C$1:M$1,$C28:M28)),2)/N$1),0),\"\")","v":0},{"$f":"IF(ISNUMBER(O$1),IF(ROUND($B28-SUMPRODUCT($C$1:N$1,INT($C28:N28)),2)>=O$1,INT(ROUND(($B28-SUMPRODUCT($C$1:N$1,$C28:N28)),2)/O$1),0),\"\")","v":0},{"$f":"IF(ISNUMBER(P$1),IF(ROUND($B28-SUMPRODUCT($C$1:O$1,INT($C28:O28)),2)>=P$1,INT(ROUND(($B28-SUMPRODUCT($C$1:O$1,$C28:O28)),2)/P$1),0),\"\")","v":0}]
[28,{"$f":"Blad2!U33","v":-6},0,{"$f":"IF(ISNUMBER(D$1),IF(ROUND($B29-SUMPRODUCT($C$1:C$1,INT($C29:C29)),2)>=D$1,INT(ROUND(($B29-SUMPRODUCT($C$1:C$1,$C29:C29)),2)/D$1),0),\"\")","v":0},{"$f":"IF(ISNUMBER(E$1),IF(ROUND($B29-SUMPRODUCT($C$1:D$1,INT($C29:D29)),2)>=E$1,INT(ROUND(($B29-SUMPRODUCT($C$1:D$1,$C29:D29)),2)/E$1),0),\"\")","v":0},{"$f":"IF(ISNUMBER(F$1),IF(ROUND($B29-SUMPRODUCT($C$1:E$1,INT($C29:E29)),2)>=F$1,INT(ROUND(($B29-SUMPRODUCT($C$1:E$1,$C29:E29)),2)/F$1),0),\"\")","v":0},{"$f":"IF(ISNUMBER(G$1),IF(ROUND($B29-SUMPRODUCT($C$1:F$1,INT($C29:F29)),2)>=G$1,INT(ROUND(($B29-SUMPRODUCT($C$1:F$1,$C29:F29)),2)/G$1),0),\"\")","v":0},{"$f":"IF(ISNUMBER(H$1),IF(ROUND($B29-SUMPRODUCT($C$1:G$1,INT($C29:G29)),2)>=H$1,INT(ROUND(($B29-SUMPRODUCT($C$1:G$1,$C29:G29)),2)/H$1),0),\"\")","v":0},{"$f":"IF(ISNUMBER(I$1),IF(ROUND($B29-SUMPRODUCT($C$1:H$1,INT($C29:H29)),2)>=I$1,INT(ROUND(($B29-SUMPRODUCT($C$1:H$1,$C29:H29)),2)/I$1),0),\"\")","v":0},{"$f":"IF(ISNUMBER(J$1),IF(ROUND($B29-SUMPRODUCT($C$1:I$1,INT($C29:I29)),2)>=J$1,INT(ROUND(($B29-SUMPRODUCT($C$1:I$1,$C29:I29)),2)/J$1),0),\"\")","v":0},{"$f":"IF(ISNUMBER(K$1),IF(ROUND($B29-SUMPRODUCT($C$1:J$1,INT($C29:J29)),2)>=K$1,INT(ROUND(($B29-SUMPRODUCT($C$1:J$1,$C29:J29)),2)/K$1),0),\"\")","v":0},{"$f":"IF(ISNUMBER(L$1),IF(ROUND($B29-SUMPRODUCT($C$1:K$1,INT($C29:K29)),2)>=L$1,INT(ROUND(($B29-SUMPRODUCT($C$1:K$1,$C29:K29)),2)/L$1),0),\"\")","v":0},{"$f":"IF(ISNUMBER(M$1),IF(ROUND($B29-SUMPRODUCT($C$1:L$1,INT($C29:L29)),2)>=M$1,INT(ROUND(($B29-SUMPRODUCT($C$1:L$1,$C29:L29)),2)/M$1),0),\"\")","v":0},{"$f":"IF(ISNUMBER(N$1),IF(ROUND($B29-SUMPRODUCT($C$1:M$1,INT($C29:M29)),2)>=N$1,INT(ROUND(($B29-SUMPRODUCT($C$1:M$1,$C29:M29)),2)/N$1),0),\"\")","v":0},{"$f":"IF(ISNUMBER(O$1),IF(ROUND($B29-SUMPRODUCT($C$1:N$1,INT($C29:N29)),2)>=O$1,INT(ROUND(($B29-SUMPRODUCT($C$1:N$1,$C29:N29)),2)/O$1),0),\"\")","v":0},{"$f":"IF(ISNUMBER(P$1),IF(ROUND($B29-SUMPRODUCT($C$1:O$1,INT($C29:O29)),2)>=P$1,INT(ROUND(($B29-SUMPRODUCT($C$1:O$1,$C29:O29)),2)/P$1),0),\"\")","v":0}]
[29,{"$f":"Blad2!U34","v":-6},0,{"$f":"IF(ISNUMBER(D$1),IF(ROUND($B30-SUMPRODUCT($C$1:C$1,INT($C30:C30)),2)>=D$1,INT(ROUND(($B30-SUMPRODUCT($C$1:C$1,$C30:C30)),2)/D$1),0),\"\")","v":0},{"$f":"IF(ISNUMBER(E$1),IF(ROUND($B30-SUMPRODUCT($C$1:D$1,INT($C30:D30)),2)>=E$1,INT(ROUND(($B30-SUMPRODUCT($C$1:D$1,$C30:D30)),2)/E$1),0),\"\")","v":0},{"$f":"IF(ISNUMBER(F$1),IF(ROUND($B30-SUMPRODUCT($C$1:E$1,INT($C30:E30)),2)>=F$1,INT(ROUND(($B30-SUMPRODUCT($C$1:E$1,$C30:E30)),2)/F$1),0),\"\")","v":0},{"$f":"IF(ISNUMBER(G$1),IF(ROUND($B30-SUMPRODUCT($C$1:F$1,INT($C30:F30)),2)>=G$1,INT(ROUND(($B30-SUMPRODUCT($C$1:F$1,$C30:F30)),2)/G$1),0),\"\")","v":0},{"$f":"IF(ISNUMBER(H$1),IF(ROUND($B30-SUMPRODUCT($C$1:G$1,INT($C30:G30)),2)>=H$1,INT(ROUND(($B30-SUMPRODUCT($C$1:G$1,$C30:G30)),2)/H$1),0),\"\")","v":0},{"$f":"IF(ISNUMBER(I$1),IF(ROUND($B30-SUMPRODUCT($C$1:H$1,INT($C30:H30)),2)>=I$1,INT(ROUND(($B30-SUMPRODUCT($C$1:H$1,$C30:H30)),2)/I$1),0),\"\")","v":0},{"$f":"IF(ISNUMBER(J$1),IF(ROUND($B30-SUMPRODUCT($C$1:I$1,INT($C30:I30)),2)>=J$1,INT(ROUND(($B30-SUMPRODUCT($C$1:I$1,$C30:I30)),2)/J$1),0),\"\")","v":0},{"$f":"IF(ISNUMBER(K$1),IF(ROUND($B30-SUMPRODUCT($C$1:J$1,INT($C30:J30)),2)>=K$1,INT(ROUND(($B30-SUMPRODUCT($C$1:J$1,$C30:J30)),2)/K$1),0),\"\")","v":0},{"$f":"IF(ISNUMBER(L$1),IF(ROUND($B30-SUMPRODUCT($C$1:K$1,INT($C30:K30)),2)>=L$1,INT(ROUND(($B30-SUMPRODUCT($C$1:K$1,$C30:K30)),2)/L$1),0),\"\")","v":0},{"$f":"IF(ISNUMBER(M$1),IF(ROUND($B30-SUMPRODUCT($C$1:L$1,INT($C30:L30)),2)>=M$1,INT(ROUND(($B30-SUMPRODUCT($C$1:L$1,$C30:L30)),2)/M$1),0),\"\")","v":0},{"$f":"IF(ISNUMBER(N$1),IF(ROUND($B30-SUMPRODUCT($C$1:M$1,INT($C30:M30)),2)>=N$1,INT(ROUND(($B30-SUMPRODUCT($C$1:M$1,$C30:M30)),2)/N$1),0),\"\")","v":0},{"$f":"IF(ISNUMBER(O$1),IF(ROUND($B30-SUMPRODUCT($C$1:N$1,INT($C30:N30)),2)>=O$1,INT(ROUND(($B30-SUMPRODUCT($C$1:N$1,$C30:N30)),2)/O$1),0),\"\")","v":0},{"$f":"IF(ISNUMBER(P$1),IF(ROUND($B30-SUMPRODUCT($C$1:O$1,INT($C30:O30)),2)>=P$1,INT(ROUND(($B30-SUMPRODUCT($C$1:O$1,$C30:O30)),2)/P$1),0),\"\")","v":0}]
[30,{"$f":"Blad2!U35","v":-6},0,{"$f":"IF(ISNUMBER(D$1),IF(ROUND($B31-SUMPRODUCT($C$1:C$1,INT($C31:C31)),2)>=D$1,INT(ROUND(($B31-SUMPRODUCT($C$1:C$1,$C31:C31)),2)/D$1),0),\"\")","v":0},{"$f":"IF(ISNUMBER(E$1),IF(ROUND($B31-SUMPRODUCT($C$1:D$1,INT($C31:D31)),2)>=E$1,INT(ROUND(($B31-SUMPRODUCT($C$1:D$1,$C31:D31)),2)/E$1),0),\"\")","v":0},{"$f":"IF(ISNUMBER(F$1),IF(ROUND($B31-SUMPRODUCT($C$1:E$1,INT($C31:E31)),2)>=F$1,INT(ROUND(($B31-SUMPRODUCT($C$1:E$1,$C31:E31)),2)/F$1),0),\"\")","v":0},{"$f":"IF(ISNUMBER(G$1),IF(ROUND($B31-SUMPRODUCT($C$1:F$1,INT($C31:F31)),2)>=G$1,INT(ROUND(($B31-SUMPRODUCT($C$1:F$1,$C31:F31)),2)/G$1),0),\"\")","v":0},{"$f":"IF(ISNUMBER(H$1),IF(ROUND($B31-SUMPRODUCT($C$1:G$1,INT($C31:G31)),2)>=H$1,INT(ROUND(($B31-SUMPRODUCT($C$1:G$1,$C31:G31)),2)/H$1),0),\"\")","v":0},{"$f":"IF(ISNUMBER(I$1),IF(ROUND($B31-SUMPRODUCT($C$1:H$1,INT($C31:H31)),2)>=I$1,INT(ROUND(($B31-SUMPRODUCT($C$1:H$1,$C31:H31)),2)/I$1),0),\"\")","v":0},{"$f":"IF(ISNUMBER(J$1),IF(ROUND($B31-SUMPRODUCT($C$1:I$1,INT($C31:I31)),2)>=J$1,INT(ROUND(($B31-SUMPRODUCT($C$1:I$1,$C31:I31)),2)/J$1),0),\"\")","v":0},{"$f":"IF(ISNUMBER(K$1),IF(ROUND($B31-SUMPRODUCT($C$1:J$1,INT($C31:J31)),2)>=K$1,INT(ROUND(($B31-SUMPRODUCT($C$1:J$1,$C31:J31)),2)/K$1),0),\"\")","v":0},{"$f":"IF(ISNUMBER(L$1),IF(ROUND($B31-SUMPRODUCT($C$1:K$1,INT($C31:K31)),2)>=L$1,INT(ROUND(($B31-SUMPRODUCT($C$1:K$1,$C31:K31)),2)/L$1),0),\"\")","v":0},{"$f":"IF(ISNUMBER(M$1),IF(ROUND($B31-SUMPRODUCT($C$1:L$1,INT($C31:L31)),2)>=M$1,INT(ROUND(($B31-SUMPRODUCT($C$1:L$1,$C31:L31)),2)/M$1),0),\"\")","v":0},{"$f":"IF(ISNUMBER(N$1),IF(ROUND($B31-SUMPRODUCT($C$1:M$1,INT($C31:M31)),2)>=N$1,INT(ROUND(($B31-SUMPRODUCT($C$1:M$1,$C31:M31)),2)/N$1),0),\"\")","v":0},{"$f":"IF(ISNUMBER(O$1),IF(ROUND($B31-SUMPRODUCT($C$1:N$1,INT($C31:N31)),2)>=O$1,INT(ROUND(($B31-SUMPRODUCT($C$1:N$1,$C31:N31)),2)/O$1),0),\"\")","v":0},{"$f":"IF(ISNUMBER(P$1),IF(ROUND($B31-SUMPRODUCT($C$1:O$1,INT($C31:O31)),2)>=P$1,INT(ROUND(($B31-SUMPRODUCT($C$1:O$1,$C31:O31)),2)/P$1),0),\"\")","v":0}]
[null,{"$f":"SUM(B2:B31)","v":-180},{"$f":"SUM(C2:C31)","v":0},0,0,0,0,0,0,0,0,0,0,0,0,0]

{"sheet":"Blad4","index":6,"n_rows":215,"n_cols":20,"rows_kept":215,"cut":false,"hidden":false,"merged":[]}
["NAAM SPAARKAS:",null,null,null,null,null,null,"NAAM SPAARKAS:",null,null,null,null,null,null,"NAAM SPAARKAS:"]
[]
["OVERZICHT SPAREN PER KAS:",null,null,null,null,null,null,"OVERZICHT SPAREN PER KAS:",null,null,null,null,null,null,"OVERZICHT SPAREN PER KAS:"]
[]
["KAS:",1,null,null,null,null,null,"KAS:",2,null,null,null,null,null,"KAS:",3]
["Totaal bedrag:",null,null,{"$f":"Blad2!P6","v":0},null,null,null,"Totaal bedrag:",null,null,{"$f":"Blad2!P7","v":0},null,null,null,"Totaal bedrag:",null,null,{"$f":"Blad2!P8","v":0}]
["Boete:",null,null,{"$f":"Blad2!S6","v":6},null,null,null,"Boete:",null,null,{"$f":"Blad2!S7","v":6},null,null,null,"Boete:",null,null,{"$f":"Blad2!S8","v":6}]
["Onkosten:",null,null,{"$f":"Blad2!T6","v":0},null,null,null,"Onkosten:",null,null,{"$f":"Blad2!T7","v":0},null,null,null,"Onkosten:",null,null,{"$f":"Blad2!T8","v":0}]
["Eindtotaal:",null,null,{"$f":"Blad2!U6","v":-6},null,null,null,"Eindtotaal:",null,null,{"$f":"Blad2!U7","v":-6},null,null,null,"Eindtotaal:",null,null,{"$f":"Blad2!U8","v":-6}]
["Reden onkosten:",null,null,null,null,null,null,"Reden onkosten:",null,null,null,null,null,null,"Reden onkosten:"]
[]
[]
[]
[]
[]
[]
[]
[]
[]
[]
[null,null,null,null,"Totaal:",{"$f":"SUM(F11:F20)","v":0},null,null,null,null,null,"Totaal:",{"$f":"SUM(M11:M20)","v":0},null,null,null,null,null,"Totaal:",{"$f":"SUM(T11:T20)","v":0}]
[]
["NAAM SPAARKAS:",null,null,null,null,null,null,"NAAM SPAARKAS:",null,null,null,null,null,null,"NAAM SPAARKAS:"]
[]
["OVERZICHT SPAREN PER KAS:",null,null,null,null,null,null,"OVERZICHT SPAREN PER KAS:",null,null,null,null,null,null,"OVERZICHT SPAREN PER KAS:"]
[]
["KAS:",4,null,null,null,null,null,"KAS:",5,null,null,null,null,null,"KAS:",6]
["Totaal bedrag:",null,null,{"$f":"Blad2!P9","v":0},null,null,null,"Totaal bedrag:",null,null,{"$f":"Blad2!P10","v":0},null,null,null,"Totaal bedrag:",null,null,{"$f":"Blad2!P11","v":0}]
["Boete:",null,null,{"$f":"Blad2!S9","v":6},null,null,null,"Boete:",null,null,{"$f":"Blad2!S10","v":6},null,null,null,"Boete:",null,null,{"$f":"Blad2!S11","v":6}]
["Onkosten:",null,null,{"$f":"Blad2!T9","v":0},null,null,null,"Onkosten:",null,null,{"$f":"Blad2!T10","v":0},null,null,null,"Onkosten:",null,null,{"$f":"Blad2!T11","v":0}]
["Eindtotaal:",null,null,{"$f":"Blad2!U9","v":-6},null,null,null,"Eindtotaal:",null,null,{"$f":"Blad2!U10","v":-6},null,null,null,"Eindtotaal:",null,null,{"$f":"Blad2!U11","v":-6}]
["Reden onkosten:",null,null,null,null,null,null,"Reden onkosten:",null,null,null,null,null,null,"Reden onkosten:"]
[]
[]
[]
[]
[]
[]
[]
[]
[]
[]
[null,null,null,null,"Totaal:",{"$f":"SUM(F33:F42)","v":0},null,null,null,null,null,"Totaal:",{"$f":"SUM(M33:M42)","v":0},null,null,null,null,null,"Totaal:",{"$f":"SUM(T33:T42)","v":0}]
["NAAM SPAARKAS:",null,null,null,null,null,null,"NAAM SPAARKAS:",null,null,null,null,null,null,"NAAM SPAARKAS:"]
[]
["OVERZICHT SPAREN PER KAS:",null,null,null,null,null,null,"OVERZICHT SPAREN PER KAS:",null,null,null,null,null,null,"OVERZICHT SPAREN PER KAS:"]
[]
["KAS:",7,null,null,null,null,null,"KAS:",8,null,null,null,null,null,"KAS:",9]
["Totaal bedrag:",null,null,{"$f":"Blad2!P12","v":0},null,null,null,"Totaal bedrag:",null,null,{"$f":"Blad2!P13","v":0},null,null,null,"Totaal bedrag:",null,null,{"$f":"Blad2!P14","v":0}]
["Boete:",null,null,{"$f":"Blad2!S12","v":6},null,null,null,"Boete:",null,null,{"$f":"Blad2!S13","v":6},null,null,null,"Boete:",null,null,{"$f":"Blad2!S14","v":6}]
["Onkosten:",null,null,{"$f":"Blad2!T12","v":0},null,null,null,"Onkosten:",null,null,{"$f":"Blad2!T13","v":0},null,null,null,"Onkosten:",null,null,{"$f":"Blad2!T14","v":0}]
["Eindtotaal:",null,null,{"$f":"Blad2!U12","v":-6},null,null,null,"Eindtotaal:",null,null,{"$f":"Blad2!U13","v":-6},null,null,null,"Eindtotaal:",null,null,{"$f":"Blad2!U14","v":-6}]
["Reden onkosten:",null,null,null,null,null,null,"Reden onkosten:",null,null,null,null,null,null,"Reden onkosten:"]
[]
[]
[]
[]
[]
[]
[]
[]
[]
[]
[null,null,null,null,"Totaal:",{"$f":"SUM(F54:F63)","v":0},null,null,null,null,null,"Totaal:",{"$f":"SUM(M54:M63)","v":0},null,null,null,null,null,"Totaal:",{"$f":"SUM(T54:T63)","v":0}]
[]
["NAAM SPAARKAS:",null,null,null,null,null,null,"NAAM SPAARKAS:",null,null,null,null,null,null,"NAAM SPAARKAS:"]
[]
["OVERZICHT SPAREN PER KAS:",null,null,null,null,null,null,"OVERZICHT SPAREN PER KAS:",null,null,null,null,null,null,"OVERZICHT SPAREN PER KAS:"]
[]
["KAS:",10,null,null,null,null,null,"KAS:",11,null,null,null,null,null,"KAS:",12]
["Totaal bedrag:",null,null,{"$f":"Blad2!P15","v":0},null,null,null,"Totaal bedrag:",null,null,{"$f":"Blad2!P16","v":0},null,null,null,"Totaal bedrag:",null,null,{"$f":"Blad2!P17","v":0}]
["Boete:",null,null,{"$f":"Blad2!S15","v":6},null,null,null,"Boete:",null,null,{"$f":"Blad2!S16","v":6},null,null,null,"Boete:",null,null,{"$f":"Blad2!S17","v":6}]
["Onkosten:",null,null,{"$f":"Blad2!T15","v":0},null,null,null,"Onkosten:",null,null,{"$f":"Blad2!T16","v":0},null,null,null,"Onkosten:",null,null,{"$f":"Blad2!T17","v":0}]
["Eindtotaal:",null,null,{"$f":"Blad2!U15","v":-6},null,null,null,"Eindtotaal:",null,null,{"$f":"Blad2!U16","v":-6},null,null,null,"Eindtotaal:",null,null,{"$f":"Blad2!U17","v":-6}]
["Reden onkosten:",null,null,null,null,null,null,"Reden onkosten:",null,null,null,null,null,null,"Reden onkosten:"]
[]
[]
[]
[]
[]
[]
[]
[]
[]
[]
[null,null,null,null,"Totaal:",{"$f":"SUM(F76:F85)","v":0},null,null,null,null,null,"Totaal:",{"$f":"SUM(M76:M85)","v":0},null,null,null,null,null,"Totaal:",{"$f":"SUM(T76:T85)","v":0}]
["NAAM SPAARKAS:",null,null,null,null,null,null,"NAAM SPAARKAS:",null,null,null,null,null,null,"NAAM SPAARKAS:"]
[]
["OVERZICHT SPAREN PER KAS:",null,null,null,null,null,null,"OVERZICHT SPAREN PER KAS:",null,null,null,null,null,null,"OVERZICHT SPAREN PER KAS:"]
[]
["KAS:",13,null,null,null,null,null,"KAS:",14,null,null,null,null,null,"KAS:",15]
["Totaal bedrag:",null,null,{"$f":"Blad2!P18","v":0},null,null,null,"Totaal bedrag:",null,null,{"$f":"Blad2!P19","v":0},null,null,null,"Totaal bedrag:",null,null,{"$f":"Blad2!P20","v":0}]
["Boete:",null,null,{"$f":"Blad2!S18","v":6},null,null,null,"Boete:",null,null,{"$f":"Blad2!S19","v":6},null,null,null,"Boete:",null,null,{"$f":"Blad2!S20","v":6}]
["Onkosten:",null,null,{"$f":"Blad2!T18","v":0},null,null,null,"Onkosten:",null,null,{"$f":"Blad2!T19","v":0},null,null,null,"Onkosten:",null,null,{"$f":"Blad2!T20","v":0}]
["Eindtotaal:",null,null,{"$f":"Blad2!U18","v":-6},null,null,null,"Eindtotaal:",null,null,{"$f":"Blad2!U19","v":-6},null,null,null,"Eindtotaal:",null,null,{"$f":"Blad2!U20","v":-6}]
["Reden onkosten:",null,null,null,null,null,null,"Reden onkosten:",null,null,null,null,null,null,"Reden onkosten:"]
[]
[]
[]
[]
[]
[]
[]
[]
[]
[]
[null,null,null,null,"Totaal:",{"$f":"SUM(F97:F106)","v":0},null,null,null,null,null,"Totaal:",{"$f":"SUM(M97:M106)","v":0},null,null,null,null,null,"Totaal:",{"$f":"SUM(T97:T106)","v":0}]
[]
["NAAM SPAARKAS:",null,null,null,null,null,null,"NAAM SPAARKAS:",null,null,null,null,null,null,"NAAM SPAARKAS:"]
[]
["OVERZICHT SPAREN PER KAS:",null,null,null,null,null,null,"OVERZICHT SPAREN PER KAS:",null,null,null,null,null,null,"OVERZICHT SPAREN PER KAS:"]
[]
["KAS:",16,null,null,null,null,null,"KAS:",17,null,null,null,null,null,"KAS:",18]
["Totaal bedrag:",null,null,{"$f":"Blad2!P21","v":0},null,null,null,"Totaal bedrag:",null,null,{"$f":"Blad2!P22","v":0},null,null,null,"Totaal bedrag:",null,null,{"$f":"Blad2!P23","v":0}]
["Boete:",null,null,{"$f":"Blad2!S21","v":6},null,null,null,"Boete:",null,null,{"$f":"Blad2!S22","v":6},null,null,null,"Boete:",null,null,{"$f":"Blad2!S23","v":6}]
["Onkosten:",null,null,{"$f":"Blad2!T21","v":0},null,null,null,"Onkosten:",null,null,{"$f":"Blad2!T22","v":0},null,null,null,"Onkosten:",null,null,{"$f":"Blad2!T23","v":0}]
["Eindtotaal:",null,null,{"$f":"Blad2!U21","v":-6},null,null,null,"Eindtotaal:",null,null,{"$f":"Blad2!U22","v":-6},null,null,null,"Eindtotaal:",null,null,{"$f":"Blad2!U23","v":-6}]
["Reden onkosten:",null,null,null,null,null,null,"Reden onkosten:",null,null,null,null,null,null,"Reden onkosten:"]
[]
[]
[]
[]
[]
[]
[]
[]
[]
[]
[null,null,null,null,"Totaal:",{"$f":"SUM(F119:F128)","v":0},null,null,null,null,null,"Totaal:",{"$f":"SUM(M119:M128)","v":0},null,null,null,null,null,"Totaal:",{"$f":"SUM(T119:T128)","v":0}]
["NAAM SPAARKAS:",null,null,null,null,null,null,"NAAM SPAARKAS:",null,null,null,null,null,null,"NAAM SPAARKAS:"]
[]
["OVERZICHT SPAREN PER KAS:",null,null,null,null,null,null,"OVERZICHT SPAREN PER KAS:",null,null,null,null,null,null,"OVERZICHT SPAREN PER KAS:"]
[]
["KAS:",19,null,null,null,null,null,"KAS:",20,null,null,null,null,null,"KAS:",21]
["Totaal bedrag:",null,null,{"$f":"Blad2!P24","v":0},null,null,null,"Totaal bedrag:",null,null,{"$f":"Blad2!P25","v":0},null,null,null,"Totaal bedrag:",null,null,{"$f":"Blad2!P26","v":0}]
["Boete:",null,null,{"$f":"Blad2!S24","v":6},null,null,null,"Boete:",null,null,{"$f":"Blad2!S25","v":6},null,null,null,"Boete:",null,null,{"$f":"Blad2!S26","v":6}]
["Onkosten:",null,null,{"$f":"Blad2!T24","v":0},null,null,null,"Onkosten:",null,null,{"$f":"Blad2!T25","v":0},null,null,null,"Onkosten:",null,null,{"$f":"Blad2!T26","v":0}]
["Eindtotaal:",null,null,{"$f":"Blad2!U24","v":-6},null,null,null,"Eindtotaal:",null,null,{"$f":"Blad2!U25","v":-6},null,null,null,"Eindtotaal:",null,null,{"$f":"Blad2!U26","v":-6}]
["Reden onkosten:",null,null,null,null,null,null,"Reden onkosten:",null,null,null,null,null,null,"Reden onkosten:"]
[]
[]
[]
[]
[]
[]
[]
[]
[]
[]
[null,null,null,null,"Totaal:",{"$f":"SUM(F140:F149)","v":0},null,null,null,null,null,"Totaal:",{"$f":"SUM(M140:M149)","v":0},null,null,null,null,null,"Totaal:",{"$f":"SUM(T140:T149)","v":0}]
[]
["NAAM SPAARKAS:",null,null,null,null,null,null,"NAAM SPAARKAS:",null,null,null,null,null,null,"NAAM SPAARKAS:"]
[]
["OVERZICHT SPAREN PER KAS:",null,null,null,null,null,null,"OVERZICHT SPAREN PER KAS:",null,null,null,null,null,null,"OVERZICHT SPAREN PER KAS:"]
[]
["KAS:",22,null,null,null,null,null,"KAS:",23,null,null,null,null,null,"KAS:",24]
["Totaal bedrag:",null,null,{"$f":"Blad2!P27","v":0},null,null,null,"Totaal bedrag:",null,null,{"$f":"Blad2!P28","v":0},null,null,null,"Totaal bedrag:",null,null,{"$f":"Blad2!P29","v":0}]
["Boete:",null,null,{"$f":"Blad2!S27","v":6},null,null,null,"Boete:",null,null,{"$f":"Blad2!S28","v":6},null,null,null,"Boete:",null,null,{"$f":"Blad2!S29","v":6}]
["Onkosten:",null,null,{"$f":"Blad2!T27","v":0},null,null,null,"Onkosten:",null,null,{"$f":"Blad2!T28","v":0},null,null,null,"Onkosten:",null,null,{"$f":"Blad2!T29","v":0}]
["Eindtotaal:",null,null,{"$f":"Blad2!U27","v":-6},null,null,null,"Eindtotaal:",null,null,{"$f":"Blad2!U28","v":-6},null,null,null,"Eindtotaal:",null,null,{"$f":"Blad2!U29","v":-6}]
["Reden onkosten:",null,null,null,null,null,null,"Reden onkosten:",null,null,null,null,null,null,"Reden onkosten:"]
[]
[]
[]
[]
[]
[]
[]
[]
[]
[]
[null,null,null,null,"Totaal:",{"$f":"SUM(F162:F171)","v":0},null,null,null,null,null,"Totaal:",{"$f":"SUM(M162:M171)","v":0},null,null,null,null,null,"Totaal:",{"$f":"SUM(T162:T171)","v":0}]
["NAAM SPAARKAS:",null,null,null,null,null,null,"NAAM SPAARKAS:",null,null,null,null,null,null,"NAAM SPAARKAS:"]
[]
["OVERZICHT SPAREN PER KAS:",null,null,null,null,null,null,"OVERZICHT SPAREN PER KAS:",null,null,null,null,null,null,"OVERZICHT SPAREN PER KAS:"]
[]
["KAS:",25,null,null,null,null,null,"KAS:",26,null,null,null,null,null,"KAS:",27]
["Totaal bedrag:",null,null,{"$f":"Blad2!P30","v":0},null,null,null,"Totaal bedrag:",null,null,{"$f":"Blad2!P31","v":0},null,null,null,"Totaal bedrag:",null,null,{"$f":"Blad2!P32","v":0}]
["Boete:",null,null,{"$f":"Blad2!S30","v":6},null,null,null,"Boete:",null,null,{"$f":"Blad2!S31","v":6},null,null,null,"Boete:",null,null,{"$f":"Blad2!S32","v":6}]
["Onkosten:",null,null,{"$f":"Blad2!T30","v":0},null,null,null,"Onkosten:",null,null,{"$f":"Blad2!T31","v":0},null,null,null,"Onkosten:",null,null,{"$f":"Blad2!T32","v":0}]
["Eindtotaal:",null,null,{"$f":"Blad2!U30","v":-6},null,null,null,"Eindtotaal:",null,null,{"$f":"Blad2!U31","v":-6},null,null,null,"Eindtotaal:",null,null,{"$f":"Blad2!U32","v":-6}]
["Reden onkosten:",null,null,null,null,null,null,"Reden onkosten:",null,null,null,null,null,null,"Reden onkosten:"]
[]
[]
[]
[]
[]
[]
[]
[]
[]
[]
[null,null,null,null,"Totaal:",{"$f":"SUM(F183:F192)","v":0},null,null,null,null,null,"Totaal:",{"$f":"SUM(M183:M192)","v":0},null,null,null,null,null,"Totaal:",{"$f":"SUM(T183:T192)","v":0}]
[]
["NAAM SPAARKAS:",null,null,null,null,null,null,"NAAM SPAARKAS:",null,null,null,null,null,null,"NAAM SPAARKAS:"]
[]
["OVERZICHT SPAREN PER KAS:",null,null,null,null,null,null,"OVERZICHT SPAREN PER KAS:",null,null,null,null,null,null,"OVERZICHT SPAREN PER KAS:"]
[]
["KAS:",28,null,null,null,null,null,"KAS:",29,null,null,null,null,null,"KAS:",30]
["Totaal bedrag:",null,null,{"$f":"Blad2!P33","v":0},null,null,null,"Totaal bedrag:",null,null,{"$f":"Blad2!P34","v":0},null,null,null,"Totaal bedrag:",null,null,{"$f":"Blad2!P35","v":0}]
["Boete:",null,null,{"$f":"Blad2!S33","v":6},null,null,null,"Boete:",null,null,{"$f":"Blad2!S34","v":6},null,null,null,"Boete:",null,null,{"$f":"Blad2!S35","v":6}]
["Onkosten:",null,null,{"$f":"Blad2!T33","v":0},null,null,null,"Onkosten:",null,null,{"$f":"Blad2!T34","v":0},null,null,null,"Onkosten:",null,null,{"$f":"Blad2!T35","v":0}]
["Eindtotaal:",null,null,{"$f":"Blad2!U33","v":-6},null,null,null,"Eindtotaal:",null,null,{"$f":"Blad2!U34","v":-6},null,null,null,"Eindtotaal:",null,null,{"$f":"Blad2!U35","v":-6}]
["Reden onkosten:",null,null,null,null,null,null,"Reden onkosten:",null,null,null,null,null,null,"Reden onkosten:"]
[]
[]
[]
[]
[]
[]
[]
[]
[]
[]
[null,null,null,null,"Totaal:",{"$f":"SUM(F205:F214)","v":0},null,null,null,null,null,"Totaal:",{"$f":"SUM(M205:M214)","v":0},null,null,null,null,null,"Totaal:",{"$f":"SUM(T205:T214)","v":0}]

{"sheet":"Blad5","index":7,"n_rows":32,"n_cols":14,"rows_kept":32,"cut":false,"hidden":false,"merged":[]}
["Naam spaarkas:"]
[]
["KASBOEK VAN DE PENNINGMEESTER:",null,null,null,null,null,2011,null,"  Maand:","Januari"]
[null,null,null,null,null,"Inkomsten:",null,null,null,null,null,"Uitgaven:"]
["KAS:","PENNINGMEESTER",null,null,null,"   Datum","  Bedrag","Reden",null,null,null,"  Datum"," Bedrag","Reden"]
[null,"  x",50,{"$f":"(A6*C6)","v":0}]
[null,"  x",20,{"$f":"(A7*C7)","v":0}]
[null,"  x",10,0]
[null,"  x",5,0]
[null,"  x",2,0]
[null,"  x",1,0]
[null,"  x",0.5,0]
[null,"  x",0.2,0]
[null,"  x",0.1,0]
[null,"  x",0.05,0]
[null,"  x",0.02,0]
[null,"  x",0.01,0]
[null,"Totaal:",null,{"$f":"SUM(D6:D17)","v":0}]
[]
["Allerlei:",null,null,0]
["Lichting:",null,null,0]
["Lidgeld:",null,null,0]
["Storting:",null,null,0]
["Onkosten:",null,null,0]
["Vorig saldo:",null,null,0]
["Nieuw saldo:",null,null,{"$f":"D20+D21+D22-D23-D24+D25","v":0}]
[]
[]
[]
["Spaarboekje:",null,null,0]
[]
["Totaal:",null,null,{"$f":"D26+D30","v":0}]

{"sheet":"Blad6","index":8,"n_rows":65,"n_cols":8,"rows_kept":65,"cut":false,"hidden":false,"merged":[]}
["Naam Spaarkas:"]
[]
["Tekenlijst:",null,2011]
[]
["KAS","          NAAM",null,"     VOORNAAM",null,"  GAAT VOLGEND",null,"               HANDTEKENING"]
[null,null,null,null,null,"    JAAR DOOR"]
[1,null,null,null,null,"      Ja","    Nee"]
[]
[2,null,null,null,null,"      Ja","    Nee"]
[]
[3,null,null,null,null,"      Ja","    Nee"]
[]
[4,null,null,null,null,"      Ja","    Nee"]
[]
[5,null,null,null,null,"      Ja","    Nee"]
[]
[6,null,null,null,null,"      Ja","    Nee"]
[]
[7,null,null,null,null,"      Ja","    Nee"]
[]
[8,null,null,null,null,"      Ja","    Nee"]
[]
[9,null,null,null,null,"      Ja","    Nee"]
[]
[10,null,null,null,null,"      Ja","    Nee"]
[]
[11,null,null,null,null,"      Ja","    Nee"]
[]
[12,null,null,null,null,"      Ja","    Nee"]
[]
[13,null,null,null,null,"      Ja","    Nee"]
[]
[14,null,null,null,null,"      Ja","    Nee"]
[]
[15,null,null,null,null,"      Ja","    Nee"]
[]
[16,null,null,null,null,"      Ja","    Nee"]
[]
[17,null,null,null,null,"      Ja","    Nee"]
[]
[18,null,null,null,null,"      Ja","    Nee"]
[]
[19,null,null,null,null,"      Ja","    Nee"]
[]
[20,null,null,null,null,"      Ja","    Nee"]
[]
[21,null,null,null,null,"      Ja","    Nee"]
[]
[22,null,null,null,null,"      Ja","    Nee"]
[]
[23,null,null,null,null,"      Ja","    Nee"]
[]
[24,null,null,null,null,"      Ja","    Nee"]
[]
[25,null,null,null,null,"      Ja","    Nee"]
[]
[26,null,null,null,null,"      Ja","    Nee"]
[]
[27,null,null,null,null,"      Ja","    Nee"]
[]
[28,null,null,null,null,"      Ja","    Nee"]
[]
[29,null,null,null,null,"      Ja","    Nee"]
[]
[30,null,null,null,null,"      Ja","    Nee"]

{"sheet":"Blad7","index":9,"n_rows":56,"n_cols":10,"rows_kept":56,"cut":false,"hidden":false,"merged":[]}
["Naam Spaarkas:"]
[]
["Deelname Activiteit:"]
[]
["Leden:"]
[null,null,null,null,"  Aantal","  Aantal","  Aantal","    Prijs","    Prijs"]
["Kas","       Naam","       Voornaam",null,"Personen","   Volw","   Kind","    Volw","    Kind","  Totaal"]
[1,null,null,null,null,null,null,null,null,{"$f":"F8*H8+G8*I8","v":0}]
[2,null,null,null,null,null,null,null,null,{"$f":"F9*H9+G9*I9","v":0}]
[3,null,null,null,null,null,null,null,null,0]
[4,null,null,null,null,null,null,null,null,0]
[5,null,null,null,null,null,null,null,null,0]
[6,null,null,null,null,null,null,null,null,0]
[7,null,null,null,null,null,null,null,null,0]
[8,null,null,null,null,null,null,null,null,0]
[9,null,null,null,null,null,null,null,null,0]
[10,null,null,null,null,null,null,null,null,0]
[11,null,null,null,null,null,null,null,null,0]
[12,null,null,null,null,null,null,null,null,0]
[13,null,null,null,null,null,null,null,null,0]
[14,null,null,null,null,null,null,null,null,0]
[15,null,null,null,null,null,null,null,null,0]
[16,null,null,null,null,null,null,null,null,0]
[17,null,null,null,null,null,null,null,null,0]
[18,null,null,null,null,null,null,null,null,0]
[19,null,null,null,null,null,null,null,null,0]
[20,null,null,null,null,null,null,null,null,0]
[21,null,null,null,null,null,null,null,null,0]
[22,null,null,null,null,null,null,null,null,0]
[23,null,null,null,null,null,null,null,null,0]
[24,null,null,null,null,null,null,null,null,0]
[25,null,null,null,null,null,null,null,null,0]
[26,null,null,null,null,null,null,null,null,0]
[27,null,null,null,null,null,null,null,null,0]
[28,null,null,null,null,null,null,null,null,0]
[29,null,null,null,null,null,null,null,null,0]
[30,null,null,null,null,null,null,null,null,0]
[null,null,null,null,null,null,null,null,"SubTotaal:",{"$f":"SUM(J8:J37)","v":0}]
[null,null,null,null,null,null,null,null," Totaal nl:",{"$f":"J56","v":0}]
[null,null,null,null,null,null,null,null,"     Totaal:",{"$f":"SUM(J38:J39)","v":0}]
[]
[]
[]
[]
["Niet leden:"]
[1,null,null,null,null,null,null,null,null,{"$f":"F46*H46+G46*I46","v":0}]
[2,null,null,null,null,null,null,null,null,{"$f":"F47*H47+G47*I47","v":0}]
[3,null,null,null,null,null,null,null,null,0]
[4,null,null,null,null,null,null,null,null,0]
[5,null,null,null,null,null,null,null,null,0]
[6,null,null,null,null,null,null,null,null,0]
[7,null,null,null,null,null,null,null,null,0]
[8,null,null,null,null,null,null,null,null,0]
[9,null,null,null,null,null,null,null,null,0]
[10,null,null,null,null,null,null,null,null,0]
[null,null,null,null,null,null,null,null,"     Totaal:",{"$f":"SUM(J46:J55)","v":0}]

{"sheet":"Blad8","index":10,"n_rows":55,"n_cols":11,"rows_kept":55,"cut":false,"hidden":false,"merged":[]}
["Naam Spaarkas:"]
[]
["Deelname activiteit:"]
[]
["Leden:"]
[null,null,null,null,"    Doet","    Doet","   Gaat","   Gaat","  Aantal","  Aantal"]
["Kas","       Naam","       Voornaam",null,"    Mee"," Niet mee","    Mee"," Niet mee","Personen","  V","  K"]
[1]
[2]
[3]
[4]
[5]
[6]
[7]
[8]
[9]
[10]
[11]
[12]
[13]
[14]
[15]
[16]
[17]
[18]
[19]
[20]
[21]
[22]
[23]
[24]
[25]
[26]
[27]
[28]
[29]
[30]
[]
[]
[]
[]
[]
[]
[]
["Niet leden:"]
[1]
[2]
[3]
[4]
[5]
[6]
[7]
[8]
[9]
[10]