{"text_format":"1","workbook":"xlsx","n_sheets":9,"sheets":["Uitleg","Blad1","Blad2","Kienen","Blad4","Kasboek","Blad5","Blad6","Controle"],"not_rendered":{"charts":0,"images":0,"macros":1,"external_links":0,"defined_names":0,"comments":0,"pivot_tables":0},"unopened":[],"bounds":{"document_bytes":16777216,"sheet_cells":100000,"rows_first":2000,"rows_last":500,"rows_between":2000,"halvings":0,"cell_chars":16384,"cell_head_chars":4096},"cells_cut":0,"cells_raw":0,"read":"whole","date_system":"1900"}

{"sheet":"Uitleg","index":0,"n_rows":43,"n_cols":2,"rows_kept":43,"cut":false,"hidden":false,"merged":[]}
["In het gewone Bingo spel,speelt men voor mooie prijzen."]
["Hier is het bedoeld voor thuis gebruik."]
["Het reglement is heel eenvoudig.(personen die deelnemen dienen hiermee akkoord te gaan)."]
["De bankier zorgt voor voldoende rolletjes van 0,01€(post of bank),ook een aantal lege capsules(om later eventuele winst in op te bergen)."]
["3 strookjes per kaart van dikker materiaal(legt men op die delen die niet van toepassing zijn).een elastiekje kan helpen of iets anders."]
["Men spreekt af welke delen meedoen(voorbeeld 1-3-5)"]
["De personen die deelnemen geven aan de bankier(organisator) 0,50€."]
["Men kiest een kaart."]
["Men bekomt een rolletje van 0,01€(dus 0,50€)."]
["De drie strookjes(elastiekjes of iets anders)."]
["De persoon die wint roept Kien en het kaartnummer."]
["Om te winnen heeft men 0,45€ nodig."]
["Hoogste verlies dus 0,44€."]
["De persoon die wint ontvangt de inzet van de andere deelnemers."]
["Dit komt in een bakje of kommetje."]
["Hierna is er voldoende tijd voor een eventuele koffie.(of iets anders)."]
["De persoon die gewonnen heeft,heeft dan ook de tijd om op te ruimen."]
["Men kan weer aan een nieuw spel beginnen.(zie begin spel)"]
["Op het einde van het spel,geeft men de rolletjes weer terug aan de bankier(men bekomt het nodige geld terug)."]
["Voorbeeld:2 rolletjes=2x0,50€=1€"]
[]
["Werkwijze:"]
["Blad 1:","Druk op de knop F9"]
[null,"overal komen nieuwe cijfers(getallen)."]
[null,"selecteer de gegevens en plak speciaal als waarden de gegevens op Blad 2."]
["Blad 2:","In de kolom J staat nu overal 9,dient 5 te worden;"]
[null,"Druk op Maken(op sommige plaatsen zal 5 staan of minder dan 5 of meer dan 5)."]
[null,"Dient men aan te passen."]
[null,"Indien gedaan selecteer de gegevens,maak een kopie en plak de gegevens speciaal als waarden op Blad 4."]
["Kienen:","Hier speelt men het spel."]
[null,"Aanpassingen doen naargelang gebruik van de kaarten."]
[null,"druk op volgende in cel A1 komt een nieuw cijfer(getal)."]
[null,"Dat cijfer(getal) bekomt op alle kaarten een rode achtergrond."]
[null,"Door Opnieuw te drukken is de achtergrondkleur overal weg en kan een nieuw spel beginnen."]
["Blad4:","Hier komen de gegevens van Blad 2,kaartnummer rechtsonder niet vergeten aan te passen,dan afdrukken."]
["Kasboek:","Kan de bankier(ster) de kas bijhouden."]
["Blad 5:","Vul de kaartnummer in,men bekomt een nieuwe kaart en druk op Printen."]
[null,"De getallen komen op dezelfde plaats te staan,doch andere"]
["Blad 6:","Indien iets mis gaat met Printen,vul de getallen in en zeker het kaartnummer."]
[]
["Tabblad Controle: Hier kan men zien welke getallen getrokken zijn.kaartnummer en naam invullen."]
["De datum staat er met een formule."]
["Tabblad Kienen: In de kolommen F:O kan men zien welke getallen er getrokken zijn."]

{"sheet":"Blad1","index":1,"n_rows":18,"n_cols":19,"rows_kept":18,"cut":false,"hidden":false,"merged":[]}
[{"$f":"RANDBETWEEN(1,9)","v":8},{"$f":"RANDBETWEEN(10,19)","v":18},{"$f":"RANDBETWEEN(20,29)","v":24},{"$f":"RANDBETWEEN(30,39)","v":39},{"$f":"RANDBETWEEN(40,49)","v":47},{"$f":"RANDBETWEEN(50,59)","v":51},{"$f":"RANDBETWEEN(60,69)","v":62},{"$f":"RANDBETWEEN(70,79)","v":79},{"$f":"RANDBETWEEN(80,90)","v":84},null,"1 tot 9","10 tot 19","20 tot 29","30 tot 39","40 tot 49","50 tot 59","60 tot 69","70 tot 79","80 tot 90"]
[{"$f":"RANDBETWEEN(1,9)","v":6},16,26,33,45,51,64,78,83,null,"A","B","C","D","E","F","G","H","I"]
[7,17,29,34,40,51,64,78,89]
[{"$f":"RANDBETWEEN(1,9)","v":6},11,20,37,46,51,66,71,89]
[8,11,26,36,45,59,60,73,86]
[6,11,22,36,49,52,61,74,84]
[6,10,27,39,44,55,61,74,86]
[1,17,28,36,41,51,67,78,81]
[8,16,28,35,44,57,68,79,85]
[4,14,20,33,47,59,62,75,89]
[7,15,24,37,42,54,68,76,89]
[1,14,24,34,48,57,67,74,80]
[5,12,20,35,42,52,61,78,81]
[3,14,28,33,46,54,65,79,82]
[1,11,21,32,41,57,68,79,87]
[1,18,23,32,44,56,67,71,88]
[5,18,20,30,41,53,64,70,83]
[5,13,22,38,44,53,63,78,89]

{"sheet":"Blad2","index":2,"n_rows":18,"n_cols":11,"rows_kept":18,"cut":false,"hidden":false,"merged":[]}
[null,14,null,null,null,58,68,74,90,{"$f":"COUNT(A1:I1)","v":5},"Ik selecteer de opgave van Blad1"]
[null,null,null,32,42,57,60,73,null,{"$f":"COUNT(A2:I2)","v":5},"Maak een kopie en plak deze speciaal als waarde op Blad2"]
[5,18,null,37,49,null,69,null,null,5,"De bedoeling is:"]
[9,null,21,null,null,56,null,70,88,5,"Dat op elke rij slechts 5 getallen staan."]
[null,null,25,null,43,51,66,null,82,5,"In elke kolom mag het getal slechts 1 keer voorkomen."]
[null,16,null,35,null,null,64,71,80,5]
[3,13,null,30,null,null,62,78,null,5]
[8,17,null,38,45,53,null,null,null,5,"Klik op de knop maken"]
[null,15,23,null,47,50,61,null,null,5,"In kolom J staat de formule aantal"]
[6,null,29,null,null,54,null,75,87,5,"Pas nu alles aan,zodat hier overal 5 staat. "]
[null,12,24,39,null,52,null,79,null,5,"Selecteer de gegevens,maak een kopie en plak"]
[2,null,22,null,46,59,null,null,89,5,"deze op Blad4(plak speciaal als waarden)"]
[7,null,null,34,null,55,65,null,81,5,"Niet vergeten rechtsonder kaartnummer aan te brengen"]
[null,null,26,31,48,null,null,76,86,5]
[4,11,28,null,41,null,null,null,85,5]
[null,19,27,null,44,null,63,null,84,5]
[1,null,20,33,null,null,67,77,null,5]
[null,10,null,36,40,null,null,72,83,5]

{"sheet":"Kienen","index":3,"n_rows":90,"n_cols":114,"rows_kept":90,"cut":false,"hidden":false,"merged":[]}
[1,1,{"$f":"IF(B1=\"\",\"\",RAND())","v":0.75507585323051374},{"$f":"IF(B1=\"\",\"\",IF(RANK(C1,$C$1:$C90)>1,\"\",ROW(B1)))","v":""},{"$f":"SMALL(D1:D90,1)","v":29},{"$f":"IF(B1=\"\",A1,\"\")","v":""},{"$f":"IF(B2=\"\",A2,\"\")","v":""},{"$f":"IF(B3=\"\",A3,\"\")","v":""},{"$f":"IF(B4=\"\",A4,\"\")","v":""},{"$f":"IF(B5=\"\",A5,\"\")","v":""},{"$f":"IF(B6=\"\",A6,\"\")","v":""},{"$f":"IF(B7=\"\",A7,\"\")","v":""},{"$f":"IF(B8=\"\",A8,\"\")","v":""},{"$f":"IF(B9=\"\",A9,\"\")","v":""},{"$f":"IF(B10=\"\",A10,\"\")","v":""},null,null,null,null,1,null,null,null,null,null,null,null,null,null,2,null,null,null,null,null,null,null,null,null,3,null,null,null,null,null,null,null,null,null,4,null,null,null,null,null,null,null,null,null,5,null,null,null,null,null,null,null,null,null,6,null,null,null,null,null,null,null,null,null,7,null,null,null,null,null,null,null,null,null,8,null,null,null,null,null,null,null,null,null,9,null,null,null,null,null,null,null,null,null,19]
[2,2,{"$f":"IF(B2=\"\",\"\",RAND())","v":0.95343304491078495},{"$f":"IF(B2=\"\",\"\",IF(RANK(C2,$C$1:$C91)>1,\"\",ROW(B2)))","v":""},{"$f":"INDEX($B$1:$B$90,E1)","v":29},{"$f":"IF(B11=\"\",A11,\"\")","v":""},{"$f":"IF(B12=\"\",A12,\"\")","v":""},{"$f":"IF(B13=\"\",A13,\"\")","v":""},{"$f":"IF(B14=\"\",A14,\"\")","v":""},{"$f":"IF(B15=\"\",A15,\"\")","v":""},{"$f":"IF(B16=\"\",A16,\"\")","v":""},{"$f":"IF(B17=\"\",A17,\"\")","v":""},{"$f":"IF(B18=\"\",A18,\"\")","v":""},{"$f":"IF(B19=\"\",A19,\"\")","v":""},{"$f":"IF(B20=\"\",A20,\"\")","v":""},6,null,null,31,null,50,null,75,84,null,null,12,20,null,null,50,60,null,86,null,6,null,22,null,null,50,null,74,90,null,8,11,null,30,null,null,64,null,90,null,2,11,null,30,null,null,null,79,87,null,3,13,null,36,42,null,null,null,80,null,null,null,26,36,46,55,68,null,null,null,2,14,20,null,null,52,null,null,82,null,null,19,null,35,null,null,63,75,90,null,9,10,null,34,45,null,null,null,90]
[3,3,0.80912783973985525,{"$f":"IF(B3=\"\",\"\",IF(RANK(C3,$C$1:$C92)>1,\"\",ROW(B3)))","v":""},null,{"$f":"IF(B21=\"\",A21,\"\")","v":""},{"$f":"IF(B22=\"\",A22,\"\")","v":""},{"$f":"IF(B23=\"\",A23,\"\")","v":""},{"$f":"IF(B24=\"\",A24,\"\")","v":""},{"$f":"IF(B25=\"\",A25,\"\")","v":""},{"$f":"IF(B26=\"\",A26,\"\")","v":""},{"$f":"IF(B27=\"\",A27,\"\")","v":""},{"$f":"IF(B28=\"\",A28,\"\")","v":""},{"$f":"IF(B29=\"\",A29,\"\")","v":""},{"$f":"IF(B30=\"\",A30,\"\")","v":""},null,11,24,null,43,null,null,71,88,null,9,13,23,null,48,null,null,77,null,null,null,19,null,32,46,58,null,79,null,null,null,null,null,null,43,50,63,78,84,null,1,18,23,null,null,null,63,null,80,null,null,null,24,null,null,52,64,79,88,null,null,15,28,null,49,null,64,74,null,null,null,null,23,null,49,null,61,79,85,null,2,null,null,null,45,58,60,76,null,null,null,12,28,39,null,null,67,null,89]
[4,4,0.18363200498942467,{"$f":"IF(B4=\"\",\"\",IF(RANK(C4,$C$1:$C93)>1,\"\",ROW(B4)))","v":""},null,{"$f":"IF(B31=\"\",A31,\"\")","v":""},{"$f":"IF(B32=\"\",A32,\"\")","v":""},{"$f":"IF(B33=\"\",A33,\"\")","v":""},{"$f":"IF(B34=\"\",A34,\"\")","v":""},{"$f":"IF(B35=\"\",A35,\"\")","v":""},{"$f":"IF(B36=\"\",A36,\"\")","v":""},{"$f":"IF(B37=\"\",A37,\"\")","v":""},{"$f":"IF(B38=\"\",A38,\"\")","v":""},{"$f":"IF(B39=\"\",A39,\"\")","v":""},{"$f":"IF(B40=\"\",A40,\"\")","v":""},2,15,27,null,null,51,null,null,86,null,null,null,null,39,49,54,null,79,90,null,8,15,null,34,null,null,63,null,81,null,2,15,21,null,40,null,61,null,null,null,null,null,null,35,44,59,66,null,84,null,5,16,null,37,null,58,null,73,null,null,5,null,null,34,null,54,null,73,88,null,null,12,null,37,42,55,65,null,null,null,null,10,null,37,42,null,65,null,81,null,4,null,27,null,40,null,69,77]
[5,5,0.94851029951325871,{"$f":"IF(B5=\"\",\"\",IF(RANK(C5,$C$1:$C94)>1,\"\",ROW(B5)))","v":""},null,{"$f":"IF(B41=\"\",A41,\"\")","v":""},{"$f":"IF(B42=\"\",A42,\"\")","v":""},{"$f":"IF(B43=\"\",A43,\"\")","v":""},{"$f":"IF(B44=\"\",A44,\"\")","v":""},{"$f":"IF(B45=\"\",A45,\"\")","v":""},{"$f":"IF(B46=\"\",A46,\"\")","v":""},{"$f":"IF(B47=\"\",A47,\"\")","v":""},{"$f":"IF(B48=\"\",A48,\"\")","v":""},{"$f":"IF(B49=\"\",A49,\"\")","v":""},{"$f":"IF(B50=\"\",A50,\"\")","v":""},null,null,20,39,null,54,60,77,null,null,7,null,null,31,41,52,null,73,null,null,null,14,null,31,44,54,null,null,85,null,null,12,23,null,null,56,null,73,80,null,7,17,29,null,48,null,69,null,null,null,6,17,20,null,45,null,null,78,null,null,null,null,21,39,null,53,null,72,82,null,6,null,26,null,null,57,null,78,87,null,1,null,29,33,null,53,null,71,null,null,null,null,20,35,null,50,68,null,83]
[6,6,0.11289566136902751,{"$f":"IF(B6=\"\",\"\",IF(RANK(C6,$C$1:$C95)>1,\"\",ROW(B6)))","v":""},null,{"$f":"IF(B51=\"\",A51,\"\")","v":""},{"$f":"IF(B52=\"\",A52,\"\")","v":""},{"$f":"IF(B53=\"\",A53,\"\")","v":""},{"$f":"IF(B54=\"\",A54,\"\")","v":""},{"$f":"IF(B55=\"\",A55,\"\")","v":""},{"$f":"IF(B56=\"\",A56,\"\")","v":""},{"$f":"IF(B57=\"\",A57,\"\")","v":""},{"$f":"IF(B58=\"\",A58,\"\")","v":""},{"$f":"IF(B59=\"\",A59,\"\")","v":""},{"$f":"IF(B60=\"\",A60,\"\")","v":""},5,null,26,null,40,null,64,null,85,null,8,18,null,null,null,53,65,null,84,null,7,null,21,null,42,55,60,null,null,null,6,null,24,31,46,51,null,null,null,null,null,10,20,32,null,null,null,76,86,null,null,null,null,32,41,51,61,null,85,null,2,17,27,null,null,null,66,75,null,null,null,null,28,null,46,null,68,70,89,null,null,18,22,null,49,null,66,77,null,null,5,null,null,30,43,54,null,78]
[7,7,0.28093817566066182,{"$f":"IF(B7=\"\",\"\",IF(RANK(C7,$C$1:$C96)>1,\"\",ROW(B7)))","v":""},null,{"$f":"IF(B61=\"\",A61,\"\")","v":""},{"$f":"IF(B62=\"\",A62,\"\")","v":""},{"$f":"IF(B63=\"\",A63,\"\")","v":""},{"$f":"IF(B64=\"\",A64,\"\")","v":""},{"$f":"IF(B65=\"\",A65,\"\")","v":""},{"$f":"IF(B66=\"\",A66,\"\")","v":""},{"$f":"IF(B67=\"\",A67,\"\")","v":""},{"$f":"IF(B68=\"\",A68,\"\")","v":""},{"$f":"IF(B69=\"\",A69,\"\")","v":""},{"$f":"IF(B70=\"\",A70,\"\")","v":""},7,null,null,37,48,55,null,null,82,null,null,null,29,38,null,null,69,76,87,null,4,null,null,null,47,51,null,77,89,null,null,17,null,34,42,null,67,71,null,null,null,null,22,38,null,57,null,75,83,null,null,18,25,null,null,54,62,75,null,null,7,19,null,38,null,57,null,null,89,null,3,16,21,null,48,null,66,null,null,null,7,12,21,null,43,null,null,null,89,null,null,13,29,null,42,58,60]
[8,8,0.91092227182575747,{"$f":"IF(B8=\"\",\"\",IF(RANK(C8,$C$1:$C97)>1,\"\",ROW(B8)))","v":""},null,{"$f":"IF(B71=\"\",A71,\"\")","v":""},{"$f":"IF(B72=\"\",A72,\"\")","v":""},{"$f":"IF(B73=\"\",A73,\"\")","v":""},{"$f":"IF(B74=\"\",A74,\"\")","v":""},{"$f":"IF(B75=\"\",A75,\"\")","v":""},{"$f":"IF(B76=\"\",A76,\"\")","v":""},{"$f":"IF(B77=\"\",A77,\"\")","v":""},{"$f":"IF(B78=\"\",A78,\"\")","v":""},{"$f":"IF(B79=\"\",A79,\"\")","v":""},{"$f":"IF(B80=\"\",A80,\"\")","v":""},null,16,null,null,45,59,66,null,83,null,null,15,null,34,null,null,64,71,80,null,9,null,20,33,43,null,null,null,87,null,9,null,20,35,49,55,null,null,null,null,4,null,null,33,43,null,61,null,85,null,null,14,28,null,48,null,null,71,81,null,9,14,null,31,41,null,null,78,null,null,null,13,27,33,null,54,63,null,null,null,4,17,null,31,null,null,67,null,85,null,1,null,22,null,46,57,null,74]
[9,9,0.6062271286896882,{"$f":"IF(B9=\"\",\"\",IF(RANK(C9,$C$1:$C98)>1,\"\",ROW(B9)))","v":""},null,{"$f":"IF(B81=\"\",A81,\"\")","v":""},{"$f":"IF(B82=\"\",A82,\"\")","v":""},{"$f":"IF(B83=\"\",A83,\"\")","v":""},{"$f":"IF(B84=\"\",A84,\"\")","v":""},{"$f":"IF(B85=\"\",A85,\"\")","v":""},{"$f":"IF(B86=\"\",A86,\"\")","v":""},{"$f":"IF(B87=\"\",A87,\"\")","v":""},{"$f":"IF(B88=\"\",A88,\"\")","v":""},{"$f":"IF(B89=\"\",A89,\"\")","v":""},{"$f":"IF(B90=\"\",A90,\"\")","v":""},null,12,28,null,null,56,68,78,null,null,2,19,26,null,null,null,68,null,81,null,null,10,23,null,null,52,64,73,null,null,null,13,26,null,45,null,null,74,86,null,null,15,27,null,40,53,null,73,null,null,9,null,null,35,46,50,null,null,90,null,null,10,null,33,48,null,65,null,80,null,5,null,29,null,null,53,null,74,86,null,null,13,23,null,null,50,null,70,80,null,8,11,null,36,null,null,61,null,81]
[10,10,0.50476804598731939,{"$f":"IF(B10=\"\",\"\",IF(RANK(C10,$C$1:$C99)>1,\"\",ROW(B10)))","v":""},null,null,null,null,null,null,null,null,null,null,null,null,null,23,32,47,52,null,74,null,null,3,null,null,35,42,55,null,74,null,null,1,null,null,37,null,null,69,70,82,null,3,10,null,38,47,57,null,null,null,null,null,14,26,null,49,54,null,null,81,null,1,10,21,null,null,null,65,null,86,null,4,null,22,null,43,null,null,77,83,null,null,19,null,39,40,null,69,77,null,null,null,15,null,null,46,52,61,null,86,null,null,18,null,null,null,59,64,75,84]
[11,11,1.4521206542356446E-2,{"$f":"IF(B11=\"\",\"\",IF(RANK(C11,$C$1:$C100)>1,\"\",ROW(B11)))","v":""},null,null,null,null,null,null,null,null,null,null,null,9,null,null,34,42,null,67,null,89,null,1,null,null,32,40,56,null,null,82,null,3,13,null,39,45,null,null,75,null,null,null,19,null,37,41,null,68,null,82,null,5,null,null,31,null,52,65,null,82,null,7,null,22,null,null,57,66,null,84,null,null,null,25,null,40,56,62,null,86,null,null,10,null,38,43,null,null,75,90,null,3,14,28,36,null,null,null,74,null,null,null,17,25,31,null,56,null,null,82]
[12,12,0.24236123577730284,{"$f":"IF(B12=\"\",\"\",IF(RANK(C12,$C$1:$C101)>1,\"\",ROW(B12)))","v":""},null,null,null,null,null,null,null,null,null,null,null,null,18,29,30,null,null,69,72,null,null,null,16,21,33,null,null,67,70,null,null,null,12,28,null,41,null,62,null,84,null,null,null,29,39,null,52,null,75,81,null,3,19,24,null,null,null,67,78,null,null,null,null,null,38,49,53,63,70,null,null,1,11,null,32,null,null,60,79,null,null,null,17,22,null,44,51,null,null,83,null,5,null,20,32,null,56,null,null,82,null,6,null,24,null,41,null,62,null,85]
[13,13,0.93512558549943947,{"$f":"IF(B13=\"\",\"\",IF(RANK(C13,$C$1:$C102)>1,\"\",ROW(B13)))","v":""},null,null,null,null,null,null,null,null,null,null,null,null,13,null,33,46,53,63,null,null,null,null,17,24,null,46,null,null,78,83,null,null,null,25,35,null,57,67,72,null,null,1,null,null,36,44,null,60,79,null,null,null,null,21,null,46,51,60,null,89,null,null,15,29,34,44,null,null,76,null,null,null,12,29,null,42,null,67,null,84,null,8,null,null,35,null,58,null,72,80,null,null,null,26,null,47,54,null,72,87,null,null,14,23,38,null,53,null,70]
[14,14,0.85894305604984111,{"$f":"IF(B14=\"\",\"\",IF(RANK(C14,$C$1:$C103)>1,\"\",ROW(B14)))","v":""},null,null,null,null,null,null,null,null,null,null,null,null,null,21,null,41,57,61,null,80,null,null,11,null,30,43,null,61,null,85,null,null,17,24,null,48,null,68,71,null,null,null,14,27,null,null,58,null,70,83,null,null,null,25,34,null,55,64,77,null,null,8,null,26,null,null,56,68,null,89,null,3,13,null,37,null,59,63,null,null,null,null,18,null,34,41,50,67,null,null,null,6,null,24,null,40,55,null,null,88,null,2,null,null,null,47,null,63,71,88]
[15,15,1.1935740067478995E-2,{"$f":"IF(B15=\"\",\"\",IF(RANK(C15,$C$1:$C104)>1,\"\",ROW(B15)))","v":""},null,null,null,null,null,null,null,null,null,null,null,8,17,null,38,null,null,65,null,87,null,6,null,22,null,47,51,null,null,89,null,2,null,26,null,null,56,null,78,88,null,5,null,25,null,48,53,null,null,89,null,6,12,null,null,45,null,68,72,null,null,null,11,23,39,null,55,69,null,null,null,null,16,23,null,44,null,null,71,87,null,9,null,null,null,47,56,null,73,88,null,null,11,null,34,null,59,68,78,null,null,null,19,null,33,null,51,null,76,86]
[16,16,0.42699694653503184,{"$f":"IF(B16=\"\",\"\",IF(RANK(C16,$C$1:$C105)>1,\"\",ROW(B16)))","v":""},null,null,null,null,null,null,null,null,null,null,null,null,14,22,null,49,null,62,79,null,null,null,null,28,37,null,57,62,75,null,null,null,18,null,38,null,53,61,null,80,null,null,null,null,32,null,54,65,76,85,null,null,13,null,36,47,null,null,70,90,null,4,null,null,30,47,null,null,72,87,null,6,null,null,35,47,51,null,null,85,null,1,null,24,30,null,null,60,null,81,null,null,null,25,30,41,null,64,null,84,null,7,16,null,32,48,null,null,79]
[17,17,9.8450565420338587E-2,{"$f":"IF(B17=\"\",\"\",IF(RANK(C17,$C$1:$C106)>1,\"\",ROW(B17)))","v":""},null,null,null,null,null,null,null,null,null,null,null,1,10,null,36,null,58,null,76,null,null,5,10,25,null,null,58,null,72,null,null,null,16,29,30,40,null,null,null,83,null,7,null,22,33,null,null,62,null,88,null,9,null,null,37,41,58,62,null,null,null,2,19,null,33,null,null,60,74,null,null,8,null,20,null,null,58,69,70,null,null,4,null,25,32,null,null,64,76,null,null,null,null,27,39,44,57,null,79,null,null,null,null,null,37,44,52,66,72]
[18,18,0.8310278426751152,{"$f":"IF(B18=\"\",\"\",IF(RANK(C18,$C$1:$C107)>1,\"\",ROW(B18)))","v":""},null,null,null,null,null,null,null,null,null,null,null,3,null,25,null,44,null,null,73,81,null,4,null,27,36,44,null,63,null,null,null,null,null,27,36,49,null,66,null,86,null,null,18,null,null,null,59,66,77,87,null,null,16,28,null,42,50,null,71,null,null,null,null,27,null,40,null,67,77,82,null,null,null,null,30,45,52,null,76,81,null,null,11,null,31,null,59,null,71,84,null,9,16,null,38,null,51,62,null,null,null,null,15,21,null,49,55,null,null,87]
[19,19,0.7154968945480753,{"$f":"IF(B19=\"\",\"\",IF(RANK(C19,$C$1:$C108)>1,\"\",ROW(B19)))","v":""},null,null,null,null,null,null,null,null,null,null,null,4,19,null,35,null,null,null,70,90,null,null,14,null,null,45,59,66,null,88,null,5,11,null,null,null,59,65,76,null,null,4,16,28,null,null,null,69,72,null,null,8,null,null,39,null,56,null,74,88,null,null,12,null,31,43,59,null,null,83,null,null,18,24,null,null,50,61,null,90,null,7,15,null,36,45,null,62,null,null,null,8,null,null,null,48,null,69,73,83,null,3,null,26,null,null,null,65,73,80]
[20,20,0.72643442325627428,{"$f":"IF(B20=\"\",\"\",IF(RANK(C20,$C$1:$C109)>1,\"\",ROW(B20)))","v":""}]
[21,21,0.13705771535828848,{"$f":"IF(B21=\"\",\"\",IF(RANK(C21,$C$1:$C110)>1,\"\",ROW(B21)))","v":""},null,null,null,null,null,null,null,null,null,null,null,null,null,null,null,10,null,null,null,null,null,null,null,null,null,11,null,null,null,null,null,null,null,null,null,12,null,null,null,null,null,null,null,null,null,13,null,null,null,null,null,null,null,null,null,14,null,null,null,null,null,null,null,null,null,15,null,null,null,null,null,null,null,null,null,16,null,null,null,null,null,null,null,null,null,17,null,null,null,null,null,null,null,null,null,18,null,null,null,null,null,null,null,null,null,20]
[22,22,0.28520314276828707,{"$f":"IF(B22=\"\",\"\",IF(RANK(C22,$C$1:$C111)>1,\"\",ROW(B22)))","v":""},null,null,null,null,null,null,null,null,null,null,null,3,14,null,36,null,51,null,null,89,null,5,18,null,null,42,null,66,null,88,null,3,14,null,null,null,57,67,75,null,null,5,11,null,null,44,null,61,null,85,null,4,null,26,38,null,51,null,77,null,null,7,12,20,null,44,null,null,null,89,null,6,13,24,null,null,56,65,null,null,null,null,null,29,31,42,59,null,null,88,null,null,15,28,37,null,null,66,71,null,null,null,12,29,31,null,null,68,null,88]
[23,23,0.78394783568333504,{"$f":"IF(B23=\"\",\"\",IF(RANK(C23,$C$1:$C112)>1,\"\",ROW(B23)))","v":""},null,null,null,null,null,null,null,null,null,null,null,null,null,25,null,46,54,null,72,88,null,null,null,28,32,null,52,69,null,80,null,1,null,20,33,null,null,68,null,81,null,7,16,20,null,null,52,66,null,null,null,null,10,21,null,47,50,null,null,87,null,3,null,28,null,null,53,63,72,null,null,null,10,21,null,47,null,66,70,null,null,null,16,null,39,null,53,63,72,null,null,null,null,21,null,null,50,64,75,89,null,8,null,null,30,49,57,null,75]
[24,24,0.91792097388622551,{"$f":"IF(B24=\"\",\"\",IF(RANK(C24,$C$1:$C113)>1,\"\",ROW(B24)))","v":""},null,null,null,null,null,null,null,null,null,null,null,5,null,27,null,47,58,null,76,null,null,8,15,null,null,46,null,null,73,82,null,null,13,null,null,44,55,63,null,90,null,null,null,25,33,42,null,null,78,90,null,null,17,null,null,49,null,66,70,90,null,null,17,null,32,42,null,60,76,null,null,null,14,null,35,null,50,null,76,80,null,1,18,null,null,48,null,null,78,83,null,1,null,26,31,null,55,null,null,83,null,9,11,null,39,48,null,65]
[25,25,0.88610464787556131,{"$f":"IF(B25=\"\",\"\",IF(RANK(C25,$C$1:$C114)>1,\"\",ROW(B25)))","v":""},null,null,null,null,null,null,null,null,null,null,null,6,11,null,34,49,null,null,79,null,null,null,10,26,39,45,null,63,null,null,null,null,null,27,32,null,null,66,71,80,null,9,10,null,null,45,null,null,71,88,null,null,null,23,32,null,59,69,79,null,null,2,19,23,null,null,50,null,null,90,null,7,null,29,null,45,null,60,73,null,null,null,12,null,35,47,null,61,null,90,null,2,16,23,null,null,null,null,72,81,null,4,null,21,null,46,null,null,76,80]
[26,26,0.56357058774311675,{"$f":"IF(B26=\"\",\"\",IF(RANK(C26,$C$1:$C115)>1,\"\",ROW(B26)))","v":""},null,null,null,null,null,null,null,null,null,null,null,null,18,22,null,null,null,61,77,82,null,1,null,null,null,40,58,60,null,83,null,5,11,null,null,45,51,null,null,85,null,null,null,27,37,null,55,67,70,null,null,9,null,29,null,42,53,null,null,85,null,null,null,24,36,45,null,66,73,null,null,null,15,null,null,49,53,null,74,84,null,null,null,20,38,43,58,null,77,null,null,null,null,29,null,46,52,67,73,null,null,null,null,25,null,41,55,69,79]
[27,27,0.40426186616124404,{"$f":"IF(B27=\"\",\"\",IF(RANK(C27,$C$1:$C116)>1,\"\",ROW(B27)))","v":""},null,null,null,null,null,null,null,null,null,null,null,null,null,21,33,42,null,60,null,90,null,3,13,null,34,null,55,null,79,null,null,null,null,24,37,46,56,null,76,null,null,2,19,26,null,null,54,65,null,null,null,null,11,null,34,null,58,65,null,83,null,null,16,null,null,null,55,68,78,88,null,5,null,28,34,null,null,63,null,83,null,2,19,null,30,null,52,null,null,82,null,null,11,null,32,42,54,null,null,87,null,null,18,null,37,null,54,null,71,90]
[28,28,0.5923359503520671,{"$f":"IF(B28=\"\",\"\",IF(RANK(C28,$C$1:$C117)>1,\"\",ROW(B28)))","v":""},null,null,null,null,null,null,null,null,null,null,null,8,null,23,38,null,52,62,null,null,null,null,16,null,38,43,null,null,77,89,null,2,null,29,null,47,null,null,73,84,null,null,13,null,31,43,null,null,75,82,null,null,null,27,null,43,null,61,74,82,null,null,13,27,35,null,null,null,79,84,null,2,null,23,33,40,54,null,null,null,null,9,null,23,null,44,null,64,null,84,null,null,13,24,30,null,null,65,null,90,null,6,19,27,null,null,null,null,77,85]
[29,29,0.97220787804800635,{"$f":"IF(B29=\"\",\"\",IF(RANK(C29,$C$1:$C118)>1,\"\",ROW(B29)))","v":29},null,null,null,null,null,null,null,null,null,null,null,9,null,28,null,null,56,64,null,85,null,9,17,null,null,48,50,64,null,null,null,null,null,null,36,43,53,65,null,88,null,6,null,22,36,null,null,60,null,80,null,1,19,22,35,null,null,null,null,86,null,8,11,null,37,null,58,null,74,null,null,null,19,null,38,null,59,null,77,86,null,null,null,28,34,41,null,65,70,null,null,7,null,25,33,48,null,68,null,null,null,null,null,24,36,45,50,60]
[30,30,0.57039240785384571,{"$f":"IF(B30=\"\",\"\",IF(RANK(C30,$C$1:$C119)>1,\"\",ROW(B30)))","v":""},null,null,null,null,null,null,null,null,null,null,null,null,12,26,null,43,55,66,null,null,null,7,null,null,35,null,56,61,null,86,null,null,null,25,38,null,58,62,72,null,null,null,null,28,35,null,51,64,76,null,null,null,16,28,null,40,52,67,null,null,null,null,null,22,null,49,52,65,null,86,null,9,null,22,null,43,null,null,78,85,null,4,14,null,37,null,null,69,null,89,null,5,null,null,36,49,null,62,null,82,null,null,null,null,38,42,56,null,74,89]
[31,31,0.28019422477967526,{"$f":"IF(B31=\"\",\"\",IF(RANK(C31,$C$1:$C120)>1,\"\",ROW(B31)))","v":""},null,null,null,null,null,null,null,null,null,null,null,1,10,null,35,null,null,null,73,87,null,2,null,29,null,47,null,67,71,null,null,null,19,null,null,null,54,60,70,83,null,4,null,29,null,46,56,null,79,null,null,7,null,null,36,41,null,60,76,null,null,null,null,null,33,46,59,67,70,null,null,null,null,26,36,null,55,69,null,90,null,6,17,null,32,null,56,null,null,85,null,null,14,null,null,47,56,null,76,84,null,3,17,null,32,null,53,61]
[32,32,0.6485894344490839,{"$f":"IF(B32=\"\",\"\",IF(RANK(C32,$C$1:$C121)>1,\"\",ROW(B32)))","v":""},null,null,null,null,null,null,null,null,null,null,null,null,15,null,null,48,null,67,78,80,null,null,11,null,33,null,53,null,78,87,null,null,16,23,30,40,null,61,null,null,null,null,17,null,39,null,53,68,null,81,null,2,12,null,null,null,null,68,73,88,null,4,14,null,34,null,null,61,71,null,null,3,null,null,39,null,null,62,75,87,null,null,15,22,null,46,null,67,null,80,null,null,null,22,39,44,null,63,74,null,null,null,null,23,35,null,null,63,70,87]
[33,33,0.52222719700856668,{"$f":"IF(B33=\"\",\"\",IF(RANK(C33,$C$1:$C122)>1,\"\",ROW(B33)))","v":""},null,null,null,null,null,null,null,null,null,null,null,null,null,29,37,45,null,65,70,null,null,6,19,20,null,null,57,null,70,null,null,7,15,26,null,null,null,64,78,null,null,8,14,null,null,49,null,62,73,null,null,null,15,null,39,44,56,63,null,null,null,null,null,29,null,43,56,64,null,82,null,null,12,27,null,42,58,null,null,82,null,8,null,24,null,null,57,66,74,null,null,8,null,null,null,40,51,null,77,85,null,5,15,null,34,44,null,null,null,86]
[34,34,0.58584011865725139,{"$f":"IF(B34=\"\",\"\",IF(RANK(C34,$C$1:$C123)>1,\"\",ROW(B34)))","v":""},null,null,null,null,null,null,null,null,null,null,null,null,16,null,30,null,null,63,71,81,null,null,null,24,30,41,null,65,null,84,null,6,null,null,31,49,null,null,77,82,null,null,15,21,34,null,59,null,null,87,null,3,13,null,null,45,57,62,null,null,null,5,null,21,null,40,null,69,null,85,null,4,null,null,null,46,null,67,72,89,null,null,13,26,null,45,null,null,79,87,null,6,18,20,null,null,57,null,70,null,null,1,14,null,null,47,51,64]
[35,35,0.76277766138759673,{"$f":"IF(B35=\"\",\"\",IF(RANK(C35,$C$1:$C124)>1,\"\",ROW(B35)))","v":""},null,null,null,null,null,null,null,null,null,null,null,2,null,20,null,null,50,null,74,84,null,null,14,22,49,null,68,72,null,null,null,null,10,null,39,48,52,null,null,86,null,3,12,null,null,48,null,63,null,89,null,null,18,null,31,46,55,null,71,null,null,9,18,null,31,41,null,null,null,83,null,null,18,null,32,null,null,61,79,81,null,null,null,27,33,null,54,60,71,null,null,null,null,null,34,41,53,69,null,88,null,null,null,22,33,null,52,null,72,84]
[36,36,0.44159231611491001,{"$f":"IF(B36=\"\",\"\",IF(RANK(C36,$C$1:$C125)>1,\"\",ROW(B36)))","v":""},null,null,null,null,null,null,null,null,null,null,null,null,19,null,null,41,53,69,null,83,null,null,null,23,31,null,51,null,76,81,null,8,12,22,null,42,null,null,null,89,null,null,null,24,null,41,57,null,72,86,null,6,null,20,37,null,null,null,78,80,null,1,null,null,null,47,51,null,77,87,null,8,11,25,null,null,57,68,null,null,null,5,10,21,null,null,50,null,76,null,null,9,12,null,null,45,null,null,78,80,null,2,13,null,null,40,null,62,null,83]
[37,37,0.94297755242154779,{"$f":"IF(B37=\"\",\"\",IF(RANK(C37,$C$1:$C126)>1,\"\",ROW(B37)))","v":""},null,null,null,null,null,null,null,null,null,null,null,7,null,24,31,40,59,null,null,null,null,null,12,27,37,null,null,62,null,85,null,null,null,21,35,41,50,null,74,null,null,1,null,null,32,null,58,null,77,83,null,null,14,null,33,48,null,null,72,84,null,null,15,25,30,null,57,null,null,80,null,null,16,null,37,44,52,null,null,88,null,7,null,null,null,49,null,62,75,81,null,3,19,27,null,null,58,60,null,null,null,7,10,28,null,null,58,null,null,81]
[38,38,0.47877443982754986,{"$f":"IF(B38=\"\",\"\",IF(RANK(C38,$C$1:$C127)>1,\"\",ROW(B38)))","v":""},null,null,null,null,null,null,null,null,null,null,null,null,17,null,39,44,null,68,null,86,null,null,null,21,null,44,54,null,75,90,null,9,17,28,null,null,59,null,79,null,null,null,18,null,30,40,50,null,74,null,null,8,null,24,30,null,null,64,null,81,null,null,null,26,38,null,54,62,75,null,null,null,null,20,30,48,null,64,71,null,null,null,11,null,null,null,51,68,73,86,null,4,17,null,35,null,null,null,79,86,null,null,16,20,null,43,null,66,73]
[39,39,0.7354769605318805,{"$f":"IF(B39=\"\",\"\",IF(RANK(C39,$C$1:$C128)>1,\"\",ROW(B39)))","v":""},null,null,null,null,null,null,null,null,null,null,null,4,13,null,32,null,57,null,75,null,null,4,null,25,36,null,59,null,74,null,null,4,18,null,34,null,null,69,null,87,null,null,null,23,38,47,null,69,null,84,null,5,null,25,null,null,54,null,75,89,null,6,10,null,39,48,null,null,null,81,null,1,17,null,31,41,51,null,null,null,null,3,null,25,36,40,55,null,null,null,null,null,10,null,38,43,59,61,null,null,null,null,null,26,null,null,59,67,78,82]
[40,40,0.70272693561373123,{"$f":"IF(B40=\"\",\"\",IF(RANK(C40,$C$1:$C129)>1,\"\",ROW(B40)))","v":""}]
[41,41,0.88223159644591409,{"$f":"IF(B41=\"\",\"\",IF(RANK(C41,$C$1:$C130)>1,\"\",ROW(B41)))","v":""}]
[42,42,0.41030438179404072,{"$f":"IF(B42=\"\",\"\",IF(RANK(C42,$C$1:$C131)>1,\"\",ROW(B42)))","v":""}]
[43,43,0.15504843646739541,{"$f":"IF(B43=\"\",\"\",IF(RANK(C43,$C$1:$C132)>1,\"\",ROW(B43)))","v":""}]
[44,44,0.54506486971439072,{"$f":"IF(B44=\"\",\"\",IF(RANK(C44,$C$1:$C133)>1,\"\",ROW(B44)))","v":""}]
[45,45,0.73286399776198907,{"$f":"IF(B45=\"\",\"\",IF(RANK(C45,$C$1:$C134)>1,\"\",ROW(B45)))","v":""}]
[46,46,0.82285646089491782,{"$f":"IF(B46=\"\",\"\",IF(RANK(C46,$C$1:$C135)>1,\"\",ROW(B46)))","v":""}]
[47,47,0.11248482341259081,{"$f":"IF(B47=\"\",\"\",IF(RANK(C47,$C$1:$C136)>1,\"\",ROW(B47)))","v":""}]
[48,48,8.0893971844994472E-2,{"$f":"IF(B48=\"\",\"\",IF(RANK(C48,$C$1:$C137)>1,\"\",ROW(B48)))","v":""}]
[49,49,0.59220839683830728,{"$f":"IF(B49=\"\",\"\",IF(RANK(C49,$C$1:$C138)>1,\"\",ROW(B49)))","v":""}]
[50,50,0.46749093426660704,{"$f":"IF(B50=\"\",\"\",IF(RANK(C50,$C$1:$C139)>1,\"\",ROW(B50)))","v":""}]
[51,51,0.63384357145638714,{"$f":"IF(B51=\"\",\"\",IF(RANK(C51,$C$1:$C140)>1,\"\",ROW(B51)))","v":""}]
[52,52,0.49041825480683032,{"$f":"IF(B52=\"\",\"\",IF(RANK(C52,$C$1:$C141)>1,\"\",ROW(B52)))","v":""}]
[53,53,0.15030291984291089,{"$f":"IF(B53=\"\",\"\",IF(RANK(C53,$C$1:$C142)>1,\"\",ROW(B53)))","v":""}]
[54,54,0.1829247835640182,{"$f":"IF(B54=\"\",\"\",IF(RANK(C54,$C$1:$C143)>1,\"\",ROW(B54)))","v":""}]
[55,55,0.35924881287226607,{"$f":"IF(B55=\"\",\"\",IF(RANK(C55,$C$1:$C144)>1,\"\",ROW(B55)))","v":""}]
[56,56,0.49505503729801503,{"$f":"IF(B56=\"\",\"\",IF(RANK(C56,$C$1:$C145)>1,\"\",ROW(B56)))","v":""}]
[57,57,0.38058806683498181,{"$f":"IF(B57=\"\",\"\",IF(RANK(C57,$C$1:$C146)>1,\"\",ROW(B57)))","v":""}]
[58,58,0.7275023903421356,{"$f":"IF(B58=\"\",\"\",IF(RANK(C58,$C$1:$C147)>1,\"\",ROW(B58)))","v":""}]
[59,59,0.75753927986767255,{"$f":"IF(B59=\"\",\"\",IF(RANK(C59,$C$1:$C148)>1,\"\",ROW(B59)))","v":""}]
[60,60,0.3567639830244973,{"$f":"IF(B60=\"\",\"\",IF(RANK(C60,$C$1:$C149)>1,\"\",ROW(B60)))","v":""}]
[61,61,0.49092579154846983,{"$f":"IF(B61=\"\",\"\",IF(RANK(C61,$C$1:$C150)>1,\"\",ROW(B61)))","v":""}]
[62,62,0.34741395888546578,{"$f":"IF(B62=\"\",\"\",IF(RANK(C62,$C$1:$C151)>1,\"\",ROW(B62)))","v":""}]
[63,63,0.2167326011954448,{"$f":"IF(B63=\"\",\"\",IF(RANK(C63,$C$1:$C152)>1,\"\",ROW(B63)))","v":""}]
[64,64,0.13377611740919726,{"$f":"IF(B64=\"\",\"\",IF(RANK(C64,$C$1:$C153)>1,\"\",ROW(B64)))","v":""}]
[65,65,0.59297282356266068,{"$f":"IF(B65=\"\",\"\",IF(RANK(C65,$C$1:$C154)>1,\"\",ROW(B65)))","v":""}]
[66,66,{"$f":"IF(B66=\"\",\"\",RAND())","v":0.86154254164613364},{"$f":"IF(B66=\"\",\"\",IF(RANK(C66,$C$1:$C155)>1,\"\",ROW(B66)))","v":""}]
[67,67,0.15240172440925559,{"$f":"IF(B67=\"\",\"\",IF(RANK(C67,$C$1:$C156)>1,\"\",ROW(B67)))","v":""}]
[68,68,0.13074924983884972,{"$f":"IF(B68=\"\",\"\",IF(RANK(C68,$C$1:$C157)>1,\"\",ROW(B68)))","v":""}]
[69,69,0.65956488787244405,{"$f":"IF(B69=\"\",\"\",IF(RANK(C69,$C$1:$C158)>1,\"\",ROW(B69)))","v":""}]
[70,70,0.83672502617101019,{"$f":"IF(B70=\"\",\"\",IF(RANK(C70,$C$1:$C159)>1,\"\",ROW(B70)))","v":""}]
[71,71,0.85347265534396333,{"$f":"IF(B71=\"\",\"\",IF(RANK(C71,$C$1:$C160)>1,\"\",ROW(B71)))","v":""}]
[72,72,0.81701108170719416,{"$f":"IF(B72=\"\",\"\",IF(RANK(C72,$C$1:$C161)>1,\"\",ROW(B72)))","v":""}]
[73,73,0.29748926473901138,{"$f":"IF(B73=\"\",\"\",IF(RANK(C73,$C$1:$C162)>1,\"\",ROW(B73)))","v":""}]
[74,74,0.78181448130322839,{"$f":"IF(B74=\"\",\"\",IF(RANK(C74,$C$1:$C163)>1,\"\",ROW(B74)))","v":""}]
[75,75,0.66654603408204804,{"$f":"IF(B75=\"\",\"\",IF(RANK(C75,$C$1:$C164)>1,\"\",ROW(B75)))","v":""}]
[76,76,0.71001137251725865,{"$f":"IF(B76=\"\",\"\",IF(RANK(C76,$C$1:$C165)>1,\"\",ROW(B76)))","v":""}]
[77,77,0.60287056156630547,{"$f":"IF(B77=\"\",\"\",IF(RANK(C77,$C$1:$C166)>1,\"\",ROW(B77)))","v":""}]
[78,78,0.25870333500121734,{"$f":"IF(B78=\"\",\"\",IF(RANK(C78,$C$1:$C167)>1,\"\",ROW(B78)))","v":""}]
[79,79,3.7402289881631301E-2,{"$f":"IF(B79=\"\",\"\",IF(RANK(C79,$C$1:$C168)>1,\"\",ROW(B79)))","v":""}]
[80,80,0.23988479901850168,{"$f":"IF(B80=\"\",\"\",IF(RANK(C80,$C$1:$C169)>1,\"\",ROW(B80)))","v":""}]
[81,81,0.87734307033552172,{"$f":"IF(B81=\"\",\"\",IF(RANK(C81,$C$1:$C170)>1,\"\",ROW(B81)))","v":""}]
[82,82,0.59751066713226819,{"$f":"IF(B82=\"\",\"\",IF(RANK(C82,$C$1:$C171)>1,\"\",ROW(B82)))","v":""}]
[83,83,0.75922254045401094,{"$f":"IF(B83=\"\",\"\",IF(RANK(C83,$C$1:$C172)>1,\"\",ROW(B83)))","v":""}]
[84,84,0.60824149222081814,{"$f":"IF(B84=\"\",\"\",IF(RANK(C84,$C$1:$C173)>1,\"\",ROW(B84)))","v":""}]
[85,85,0.7372204012779312,{"$f":"IF(B85=\"\",\"\",IF(RANK(C85,$C$1:$C174)>1,\"\",ROW(B85)))","v":""}]
[86,86,0.22515152208741951,{"$f":"IF(B86=\"\",\"\",IF(RANK(C86,$C$1:$C175)>1,\"\",ROW(B86)))","v":""}]
[87,87,0.25072517671889138,{"$f":"IF(B87=\"\",\"\",IF(RANK(C87,$C$1:$C176)>1,\"\",ROW(B87)))","v":""}]
[88,88,0.81204931693045834,{"$f":"IF(B88=\"\",\"\",IF(RANK(C88,$C$1:$C177)>1,\"\",ROW(B88)))","v":""}]
[89,89,0.2725688247571979,{"$f":"IF(B89=\"\",\"\",IF(RANK(C89,$C$1:$C178)>1,\"\",ROW(B89)))","v":""}]
[90,90,0.30903971166736455,{"$f":"IF(B90=\"\",\"\",IF(RANK(C90,$C$1:$C179)>1,\"\",ROW(B90)))","v":""}]

{"sheet":"Blad4","index":4,"n_rows":18,"n_cols":12,"rows_kept":18,"cut":false,"hidden":false,"merged":[]}
[null,19,null,35,null,null,63,75,90]
[2,null,null,null,45,58,60,76]
[null,10,null,37,42,null,65,null,81]
[1,null,29,33,null,53,null,71]
[null,18,22,null,49,null,66,77]
[7,12,21,null,43,null,null,null,89]
[4,17,null,31,null,null,67,null,85]
[null,13,23,null,null,50,null,70,80]
[null,15,null,null,46,52,61,null,86]
[3,14,28,36,null,null,null,74]
[5,null,20,32,null,56,null,null,82]
[null,null,26,null,47,54,null,72,87]
[6,null,24,null,40,55,null,null,88]
[null,11,null,34,null,59,68,78]
[null,null,25,30,41,null,64,null,84]
[null,null,27,39,44,57,null,79]
[9,16,null,38,null,51,62]
[8,null,null,null,48,null,69,73,83,null,9,"Zet het kaartnummer in het vakje en verwijder daarna deze tekst."]

{"sheet":"Kasboek","index":5,"n_rows":10,"n_cols":4,"rows_kept":10,"cut":false,"hidden":false,"merged":[]}
["Kasboek:"]
[null,"x",2,{"$f":"A2*C2","v":0}]
[null,"x",1,{"$f":"A3*C3","v":0}]
[null,"x",0.5,0]
[null,"x",0.2,0]
[null,"x",0.1,0]
[null,"x",0.05,0]
[null,"x",0.02,0]
[null,"x",0.01,{"$f":"A9*C9","v":0}]
[null,null,"Totaal:",{"$f":"SUM(D2:D9)","v":0}]

{"sheet":"Blad5","index":6,"n_rows":90,"n_cols":12,"rows_kept":90,"cut":false,"hidden":false,"merged":[]}
[null,null,null,null,null,null,null,null,null,null,{"$f":"RAND()","v":0.29725142415593719}]
[null,null,{"$f":"RANK($K$10,$K$10:$K$19)+9","v":19},{"$f":"RANK($K$20,$K$20:$K$29)+19","v":26},null,{"$f":"RANK($K$40,$K$40:$K$49)+39","v":48},null,{"$f":"RANK($K$60,$K$60:$K$69)+59","v":68},{"$f":"RANK($K$70,$K$70:$K$79)+69","v":71},null,{"$f":"RAND()","v":4.4007585163145513E-2}]
[null,{"$f":"RANK($K$1,$K$1:$K$9)","v":4},null,{"$f":"RANK($K$21,$K$20:$K$29)+19","v":28},{"$f":"RANK($K$30,$K$30:$K$39)+29","v":36},null,{"$f":"RANK($K$50,$K$50:$K$59)+49","v":59},null,null,{"$f":"RANK($K$80,$K$80:$K$90)+79","v":83},0.60683819165640474]
[null,{"$f":"RANK($K$2,$K$1:$K$9)","v":7},{"$f":"RANK($K$11,$K$10:$K$19)+9","v":12},null,null,{"$f":"RANK($K$41,$K$40:$K$49)+39","v":43},null,{"$f":"RANK($K$61,$K$60:$K$69)+59","v":67},null,{"$f":"RANK($K$81,$K$80:$K$90)+79","v":81},3.8167288256627074E-2]
[null,null,null,null,null,null,null,null,null,null,{"$f":"RAND()","v":0.47519687563780755}]
[null,null,null,{"$f":"RANK($K$22,$K$20:$K$29)+19","v":24},null,{"$f":"RANK($K$42,$K$40:$K$49)+39","v":46},{"$f":"RANK($K$51,$K$50:$K$59)+49","v":58},null,{"$f":"RANK($K$71,$K$70:$K$79)+69","v":73},{"$f":"RANK($K$82,$K$80:$K$90)+79","v":86},3.407801867436655E-2]
[null,{"$f":"RANK($K$3,$K$1:$K$9)","v":1},{"$f":"RANK($K$12,$K$10:$K$19)+9","v":14},null,{"$f":"RANK($K$31,$K$30:$K$39)+29","v":37},null,{"$f":"RANK($K$52,$K$50:$K$59)+49","v":54},{"$f":"RANK($K$62,$K$60:$K$69)+59","v":61},null,null,0.1061072592670117]
[null,{"$f":"RANK($K$4,$K$1:$K$9)","v":8},null,{"$f":"RANK($K$23,$K$20:$K$29)+19","v":27},{"$f":"RANK($K$32,$K$30:$K$39)+29","v":30},null,null,null,{"$f":"RANK($K$72,$K$70:$K$79)+69","v":76},{"$f":"RANK($K$83,$K$80:$K$90)+79","v":82},0.51784979829582234]
[null,null,null,null,null,null,null,null,null,null,0.17268982360036844]
[null,{"$f":"RANK($K$5,$K$1:$K$9)","v":3},null,{"$f":"RANK($K$24,$K$20:$K$29)+19","v":21},{"$f":"RANK($K$33,$K$30:$K$39)+29","v":38},null,{"$f":"RANK($K$53,$K$50:$K$59)+49","v":53},{"$f":"RANK($K$63,$K$60:$K$69)+59","v":66},null,null,3.015018624742305E-2]
[null,{"$f":"RANK($K$6,$K$1:$K$9)","v":9},null,{"$f":"RANK($K$25,$K$20:$K$29)+19","v":25},null,{"$f":"RANK($K$43,$K$40:$K$49)+39","v":41},null,{"$f":"RANK($K$64,$K$60:$K$69)+59","v":69},null,{"$f":"RANK($K$84,$K$80:$K$90)+79","v":90},0.80074657720785258]
[null,null,{"$f":"RANK($K$13,$K$10:$K$19)+9","v":11},null,null,{"$f":"RANK($K$44,$K$40:$K$49)+39","v":47},{"$f":"RANK($K$54,$K$50:$K$59)+49","v":55},null,{"$f":"RANK($K$73,$K$70:$K$79)+69","v":78},{"$f":"RANK($K$85,$K$80:$K$90)+79","v":84},0.62372411068009481]
[null,null,null,null,null,null,null,null,null,null,0.9106938423280293]
[null,null,{"$f":"RANK($K$14,$K$10:$K$19)+9","v":15},{"$f":"RANK($K$26,$K$20:$K$29)+19","v":29},null,{"$f":"RANK($K$45,$K$40:$K$49)+39","v":45},{"$f":"RANK($K$55,$K$50:$K$59)+49","v":51},null,{"$f":"RANK($K$74,$K$70:$K$79)+69","v":72},null,0.55316335989593546]
[null,null,null,{"$f":"RANK($K$27,$K$20:$K$29)+19","v":22},{"$f":"RANK($K$34,$K$30:$K$39)+29","v":35},null,{"$f":"RANK($K$56,$K$50:$K$59)+49","v":57},null,{"$f":"RANK($K$75,$K$70:$K$79)+69","v":77},{"$f":"RANK($K$86,$K$80:$K$90)+79","v":87},0.4202374972313746]
[null,{"$f":"RANK($K$7,$K$1:$K$9)","v":6},{"$f":"RANK($K$15,$K$10:$K$19)+9","v":16},null,{"$f":"RANK($K$35,$K$30:$K$39)+29","v":32},{"$f":"RANK($K$46,$K$40:$K$49)+39","v":40},null,{"$f":"RANK($K$65,$K$60:$K$69)+59","v":60},null,null,7.3046205953484766E-2]
[null,null,null,null,null,null,null,null,null,null,0.29134455291355721]
[null,null,{"$f":"RANK($K$16,$K$10:$K$19)+9","v":18},null,{"$f":"RANK($K$36,$K$30:$K$39)+29","v":33},null,{"$f":"RANK($K$57,$K$50:$K$59)+49","v":52},{"$f":"RANK($K$66,$K$60:$K$69)+59","v":63},null,{"$f":"RANK($K$87,$K$80:$K$90)+79","v":80},0.6784058623903152]
[null,null,{"$f":"RANK($K$17,$K$10:$K$19)+9","v":17},null,{"$f":"RANK($K$37,$K$30:$K$39)+29","v":39},{"$f":"RANK($K$47,$K$40:$K$49)+39","v":44},null,{"$f":"RANK($K$67,$K$60:$K$69)+59","v":64},{"$f":"RANK($K$76,$K$70:$K$79)+69","v":79},null,0.92918684891113246]
[null,{"$f":"RANK($K$8,$K$1:$K$9)","v":2},null,{"$f":"RANK($K$28,$K$20:$K$29)+19","v":20},null,{"$f":"RANK($K$48,$K$40:$K$49)+39","v":49},null,null,{"$f":"RANK($K$77,$K$70:$K$79)+69","v":75},{"$f":"RANK($K$88,$K$80:$K$90)+79","v":88},0.26062205951067796]
[null,null,null,null,null,null,null,null,null,null,0.10817511473383901]
[null,null,null,{"$f":"RANK($K$29,$K$20:$K$29)+19","v":23},{"$f":"RANK($K$38,$K$30:$K$39)+29","v":31},null,{"$f":"RANK($K$58,$K$50:$K$59)+49","v":50},{"$f":"RANK($K$68,$K$60:$K$69)+59","v":62},null,{"$f":"RANK($K$89,$K$80:$K$90)+79","v":85},0.70464179750903022]
[null,null,{"$f":"RANK($K$18,$K$10:$K$19)+9","v":13},null,{"$f":"RANK($K$39,$K$30:$K$39)+29","v":34},null,{"$f":"RANK($K$59,$K$50:$K$59)+49","v":56},null,{"$f":"RANK($K$78,$K$70:$K$79)+69","v":74},{"$f":"RANK($K$90,$K$80:$K$90)+79","v":89},0.18729342683839556]
[null,{"$f":"RANK($K$9,$K$1:$K$9)","v":5},{"$f":"RANK($K$19,$K$10:$K$19)+9","v":10},null,null,{"$f":"RANK($K$49,$K$40:$K$49)+39","v":42},null,{"$f":"RANK($K$69,$K$60:$K$69)+59","v":65},{"$f":"RANK($K$79,$K$70:$K$79)+69","v":70},null,0.89490829493340374,20]
[null,null,null,null,null,null,null,null,null,null,{"$f":"RAND()","v":0.38660783175777858}]
[null,null,null,null,null,null,null,null,null,null,{"$f":"RAND()","v":6.7098015899597518E-2}]
[null,null,null,null,null,null,null,null,null,null,{"$f":"RAND()","v":0.81214678153521525}]
[null,null,null,null,null,null,null,null,null,null,0.92921435076239123]
[null,null,null,null,null,null,null,null,null,null,0.71035992106377177]
[null,null,null,null,null,null,null,null,null,null,0.41844607940055378]
[null,null,null,null,null,null,null,null,null,null,0.21436228512422173]
[null,null,null,null,null,null,null,null,null,null,0.9358834692240845]
[null,null,null,null,null,null,null,null,null,null,6.0970805019158303E-2]
[null,null,null,null,null,null,null,null,null,null,0.49756460949872627]
[null,null,null,null,null,null,null,null,null,null,0.57319171990039841]
[null,null,null,null,null,null,null,null,null,null,0.54763046838137763]
[null,null,null,null,null,null,null,null,null,null,4.111275729262176E-3]
[null,null,null,null,null,null,null,null,null,null,0.85398709619626667]
[null,null,null,null,null,null,null,null,null,null,0.52601738628835848]
[null,null,null,null,null,null,null,null,null,null,8.7015498187378415E-2]
[null,null,null,null,null,null,null,null,null,null,{"$f":"RAND()","v":0.64241685960214034}]
[null,null,null,null,null,null,null,null,null,null,{"$f":"RAND()","v":0.17828847248612267}]
[null,null,null,null,null,null,null,null,null,null,{"$f":"RAND()","v":0.75904484536354599}]
[null,null,null,null,null,null,null,null,null,null,{"$f":"RAND()","v":9.0489479458037758E-2}]
[null,null,null,null,null,null,null,null,null,null,0.43083991838418245]
[null,null,null,null,null,null,null,null,null,null,0.99810643847437597]
[null,null,null,null,null,null,null,null,null,null,0.52962641564884805]
[null,null,null,null,null,null,null,null,null,null,2.6961652508592837E-2]
[null,null,null,null,null,null,null,null,null,null,0.68058758957683785]
[null,null,null,null,null,null,null,null,null,null,1.2577764206910813E-2]
[null,null,null,null,null,null,null,null,null,null,0.21402736568736314]
[null,null,null,null,null,null,null,null,null,null,0.66519040470010671]
[null,null,null,null,null,null,null,null,null,null,0.69433304161248555]
[null,null,null,null,null,null,null,null,null,null,0.51271921206166859]
[null,null,null,null,null,null,null,null,null,null,0.80737855646353895]
[null,null,null,null,null,null,null,null,null,null,0.32040835241177956]
[null,null,null,null,null,null,null,null,null,null,0.76567514393327119]
[null,null,null,null,null,null,null,null,null,null,0.86952365251834174]
[null,null,null,null,null,null,null,null,null,null,0.36173770907798197]
[null,null,null,null,null,null,null,null,null,null,0.33819609846394993]
[null,null,null,null,null,null,null,null,null,null,0.36716486006931803]
[null,null,null,null,null,null,null,null,null,null,0.7999397406253721]
[null,null,null,null,null,null,null,null,null,null,0.45271404512305058]
[null,null,null,null,null,null,null,null,null,null,0.2163414256886006]
[null,null,null,null,null,null,null,null,null,null,0.93266677553948407]
[null,null,null,null,null,null,null,null,null,null,0.75619038172164299]
[null,null,null,null,null,null,null,null,null,null,0.74459314527549858]
[null,null,null,null,null,null,null,null,null,null,0.79187398766232164]
[null,null,null,null,null,null,null,null,null,null,0.47518131648535655]
[null,null,null,null,null,null,null,null,null,null,0.73771269457743927]
[null,null,null,null,null,null,null,null,null,null,0.57591888594842255]
[null,null,null,null,null,null,null,null,null,null,0.38547647805450302]
[null,null,null,null,null,null,null,null,null,null,0.18009665459487678]
[null,null,null,null,null,null,null,null,null,null,0.63614018013979601]
[null,null,null,null,null,null,null,null,null,null,0.38418993674621493]
[null,null,null,null,null,null,null,null,null,null,2.2170592572560821E-2]
[null,null,null,null,null,null,null,null,null,null,0.51511949325863582]
[null,null,null,null,null,null,null,null,null,null,0.55704712126357481]
[null,null,null,null,null,null,null,null,null,null,0.9966636421116376]
[null,null,null,null,null,null,null,null,null,null,0.68987190925693864]
[null,null,null,null,null,null,null,null,null,null,0.86051625815759381]
[null,null,null,null,null,null,null,null,null,null,0.44874460244318382]
[null,null,null,null,null,null,null,null,null,null,0.83934018125634346]
[null,null,null,null,null,null,null,null,null,null,4.0585146758834734E-2]
[null,null,null,null,null,null,null,null,null,null,0.68969845282728559]
[null,null,null,null,null,null,null,null,null,null,0.39588809745973086]
[null,null,null,null,null,null,null,null,null,null,0.97254034390180899]
[null,null,null,null,null,null,null,null,null,null,0.2184227971127034]
[null,null,null,null,null,null,null,null,null,null,0.58198505398096378]
[null,null,null,null,null,null,null,null,null,null,0.19847385087926794]

{"sheet":"Blad6","index":7,"n_rows":1,"n_cols":11,"rows_kept":1,"cut":false,"hidden":false,"merged":[]}
[null,null,null,null,null,null,null,null,null,null,{"$f":"RAND()","v":0.2309700252987622}]

{"sheet":"Controle","index":8,"n_rows":38,"n_cols":13,"rows_kept":38,"cut":false,"hidden":false,"merged":[]}
["                                                                                                                     Getrokken getallen:"]
[]
[null,1,{"$f":"Kienen!F1","v":""},null,null,null,31,{"$f":"Kienen!F4","v":""},null,null,null,61,{"$f":"Kienen!F7","v":""}]
[null,2,{"$f":"Kienen!G1","v":""},null,null,null,32,{"$f":"Kienen!G4","v":""},null,null,null,62,{"$f":"Kienen!G7","v":""}]
[null,3,{"$f":"Kienen!H1","v":""},null,null,null,33,{"$f":"Kienen!H4","v":""},null,null,null,63,{"$f":"Kienen!H7","v":""}]
[null,4,{"$f":"Kienen!I1","v":""},null,null,null,34,{"$f":"Kienen!I4","v":""},null,null,null,64,{"$f":"Kienen!I7","v":""}]
[null,5,{"$f":"Kienen!J1","v":""},null,null,null,35,{"$f":"Kienen!J4","v":""},null,null,null,65,{"$f":"Kienen!J7","v":""}]
[null,6,{"$f":"Kienen!K1","v":""},null,null,null,36,{"$f":"Kienen!K4","v":""},null,null,null,66,{"$f":"Kienen!K7","v":""}]
[null,7,{"$f":"Kienen!L1","v":""},null,null,null,37,{"$f":"Kienen!L4","v":""},null,null,null,67,{"$f":"Kienen!L7","v":""}]
[null,8,{"$f":"Kienen!M1","v":""},null,null,null,38,{"$f":"Kienen!M4","v":""},null,null,null,68,{"$f":"Kienen!M7","v":""}]
[null,9,{"$f":"Kienen!N1","v":""},null,null,null,39,{"$f":"Kienen!N4","v":""},null,null,null,69,{"$f":"Kienen!N7","v":""}]
[null,10,{"$f":"Kienen!O1","v":""},null,null,null,40,{"$f":"Kienen!O4","v":""},null,null,null,70,{"$f":"Kienen!O7","v":""}]
[null,11,{"$f":"Kienen!F2","v":""},null,null,null,41,{"$f":"Kienen!F5","v":""},null,null,null,71,{"$f":"Kienen!F8","v":""}]
[null,12,{"$f":"Kienen!G2","v":""},null,null,null,42,{"$f":"Kienen!G5","v":""},null,null,null,72,{"$f":"Kienen!G8","v":""}]
[null,13,{"$f":"Kienen!H2","v":""},null,null,null,43,{"$f":"Kienen!H5","v":""},null,null,null,73,{"$f":"Kienen!H8","v":""}]
[null,14,{"$f":"Kienen!I2","v":""},null,null,null,44,{"$f":"Kienen!I5","v":""},null,null,null,74,{"$f":"Kienen!I8","v":""}]
[null,15,{"$f":"Kienen!J2","v":""},null,null,null,45,{"$f":"Kienen!J5","v":""},null,null,null,75,{"$f":"Kienen!J8","v":""}]
[null,16,{"$f":"Kienen!K2","v":""},null,null,null,46,{"$f":"Kienen!K5","v":""},null,null,null,76,{"$f":"Kienen!K8","v":""}]
[null,17,{"$f":"Kienen!L2","v":""},null,null,null,47,{"$f":"Kienen!L5","v":""},null,null,null,77,{"$f":"Kienen!L8","v":""}]
[null,18,{"$f":"Kienen!M2","v":""},null,null,null,48,{"$f":"Kienen!M5","v":""},null,null,null,78,{"$f":"Kienen!M8","v":""}]
[null,19,{"$f":"Kienen!N2","v":""},null,null,null,49,{"$f":"Kienen!N5","v":""},null,null,null,79,{"$f":"Kienen!N8","v":""}]
[null,20,{"$f":"Kienen!O2","v":""},null,null,null,50,{"$f":"Kienen!O5","v":""},null,null,null,80,{"$f":"Kienen!O8","v":""}]
[null,21,{"$f":"Kienen!F3","v":""},null,null,null,51,{"$f":"Kienen!F6","v":""},null,null,null,81,{"$f":"Kienen!F9","v":""}]
[null,22,{"$f":"Kienen!G3","v":""},null,null,null,52,{"$f":"Kienen!G6","v":""},null,null,null,82,{"$f":"Kienen!G9","v":""}]
[null,23,{"$f":"Kienen!H3","v":""},null,null,null,53,{"$f":"Kienen!H6","v":""},null,null,null,83,{"$f":"Kienen!H9","v":""}]
[null,24,{"$f":"Kienen!I3","v":""},null,null,null,54,{"$f":"Kienen!I6","v":""},null,null,null,84,{"$f":"Kienen!I9","v":""}]
[null,25,{"$f":"Kienen!J3","v":""},null,null,null,55,{"$f":"Kienen!J6","v":""},null,null,null,85,{"$f":"Kienen!J9","v":""}]
[null,26,{"$f":"Kienen!K3","v":""},null,null,null,56,{"$f":"Kienen!K6","v":""},null,null,null,86,{"$f":"Kienen!K9","v":""}]
[null,27,{"$f":"Kienen!L3","v":""},null,null,null,57,{"$f":"Kienen!L6","v":""},null,null,null,87,{"$f":"Kienen!L9","v":""}]
[null,28,{"$f":"Kienen!M3","v":""},null,null,null,58,{"$f":"Kienen!M6","v":""},null,null,null,88,{"$f":"Kienen!M9","v":""}]
[null,29,{"$f":"Kienen!N3","v":""},null,null,null,59,{"$f":"Kienen!N6","v":""},null,null,null,89,{"$f":"Kienen!N9","v":""}]
[null,30,{"$f":"Kienen!O3","v":""},null,null,null,60,{"$f":"Kienen!O6","v":""},null,null,null,90,{"$f":"Kienen!O9","v":""}]
[]
[null,"Kaartnummer:"]
[]
[null,"Naam:"]
[]
[null,"Datum:",{"$f":"TODAY()","v":"2021-02-24"}]