{"text_format":"1","workbook":"xlsx","n_sheets":7,"sheets":["Uitleg","Blad1","Blad2","Bingo","Controle","Voorbeelden","Andere Bingo"],"not_rendered":{"charts":0,"images":43,"macros":1,"external_links":0,"defined_names":0,"comments":0,"pivot_tables":0},"unopened":[],"bounds":{"document_bytes":16777216,"sheet_cells":100000,"rows_first":2000,"rows_last":500,"rows_between":2000,"halvings":0,"cell_chars":16384,"cell_head_chars":4096},"cells_cut":0,"cells_raw":0,"read":"whole","date_system":"1900"}

{"sheet":"Uitleg","index":0,"n_rows":17,"n_cols":1,"rows_kept":17,"cut":false,"hidden":false,"merged":[]}
["Op Blad1 bekomt men met de formule aselecttussen de nodige getallen per kolom."]
["Zie hiervoor de uitleg rechts."]
["Selecteer  de cellen A2:E6 van Blad1 en plak deze speciaal als waarden op Blad2"]
["Indien dubbele waarden(aanpassingen doen)."]
["Volgens uitleg rechts Blad 1."]
["Op het tabblad Bingo gebeurd het eigenlijke spel."]
["Op het tabblad Controle kan men na elk spel zien welke getallen er getrokken zijn.(kaartnummer en naam invullen)"]
["Datum staat er met een formule."]
["Eventueel printen en voor archief bewaren."]
["Wanneer men andere kaarten maakt,deze wijzigen op tabblad Bingo."]
[]
["Enkele voorbeelden op dat tabblad.(figuren,cijfers en letters)"]
["Achteraan een andere Bingo."]
["Ook enkele blanco kaarten aangebracht."]
["Natuurlijk kan men ook voor een rij of kolom kiezen."]
[]
["In de kolommen F:O op het tabblad Bingo ziet U welke getallen er getrokken zijn."]

{"sheet":"Blad1","index":1,"n_rows":6,"n_cols":13,"rows_kept":6,"cut":false,"hidden":false,"merged":[]}
["B","I","N","G","O",null,null,"B","5 getallen 1/15",null,null,null,"het gelijkteken aselecttussen(1;15)"]
[{"$f":"RANDBETWEEN(1,15)","v":9},{"$f":"RANDBETWEEN(16,30)","v":20},{"$f":"RANDBETWEEN(31,45)","v":32},{"$f":"RANDBETWEEN(46,60)","v":54},{"$f":"RANDBETWEEN(61,75)","v":69},null,null,"I","5getallen 16/30",null,null,null,"het gelijkteken aselecttussen(16;30)"]
[{"$f":"RANDBETWEEN(1,15)","v":3},{"$f":"RANDBETWEEN(16,30)","v":29},{"$f":"RANDBETWEEN(31,45)","v":41},{"$f":"RANDBETWEEN(46,60)","v":50},{"$f":"RANDBETWEEN(61,75)","v":72},null,null,"N","4 getallen 31/45 midden vrij of iets anders",null,null,null,"het gelijkteken aselecttussen(31;45)"]
[9,30,"X",57,72,null,null,"G","5 getallen 46/60",null,null,null,"het gelijkteken aselecttussen(46;60)"]
[14,17,{"$f":"RANDBETWEEN(31,45)","v":34},50,68,null,null,"O","5 getallen 61/75",null,null,null,"het gelijkteken aselecttussen(61;75)"]
[11,21,{"$f":"RANDBETWEEN(31,45)","v":43},57,{"$f":"RANDBETWEEN(61,75)","v":72},null,null,"Er mogen geen dubbele waarden staan in elke kolom"]

{"sheet":"Blad2","index":2,"n_rows":25,"n_cols":13,"rows_kept":25,"cut":false,"hidden":false,"merged":[]}
["B","I","N","G","O",null,"B","I","N","G","O"]
[]
[]
[null,null,"X",null,null,null,null,null,"X",null,null,null,"X laten staan of iets anders aanbrengen."]
[null,null,null,null,null,null,null,null,null,null,null,null,"Printen 1-1"]
[]
[]
["B","I","N","G","O",null,"B","I","N","G","O"]
[]
[]
[null,null,"X",null,null,null,null,null,"X"]
[]
[]
[]
["B","I","N","G","O",null,"B","I","N","G","O"]
[]
[]
[null,null,"X",null,null,null,null,null,"X"]
[]
[]
[]
["B","I","N","G","O",null,"B","I","N","G","O"]
[]
[]
[null,null,"X",null,null,null,null,null,"X"]

{"sheet":"Bingo","index":3,"n_rows":75,"n_cols":38,"rows_kept":75,"cut":false,"hidden":false,"merged":[]}
[1,1,{"$f":"IF(B1=\"\",\"\",RAND())","v":0.4674685727654414},{"$f":"IF(B1=\"\",\"\",IF(RANK(C1,$C$1:$C90)>1,\"\",ROW(B1)))","v":""},{"$f":"SMALL(D1:D90,1)","v":4},{"$f":"IF(B1=\"\",A1,\"\")","v":""},{"$f":"IF(B2=\"\",A2,\"\")","v":""},{"$f":"IF(B3=\"\",A3,\"\")","v":""},{"$f":"IF(B4=\"\",A4,\"\")","v":""},{"$f":"IF(B5=\"\",A5,\"\")","v":""},{"$f":"IF(B6=\"\",A6,\"\")","v":""},{"$f":"IF(B7=\"\",A7,\"\")","v":""},{"$f":"IF(B8=\"\",A8,\"\")","v":""},{"$f":"IF(B9=\"\",A9,\"\")","v":""},{"$f":"IF(B10=\"\",A10,\"\")","v":""},null,null,{"$f":"1","v":1},null,null,null,null,null,{"$f":"2","v":2},null,null,null,null,null,{"$f":"3","v":3},null,null,null,null,null,{"$f":"4","v":4}]
[2,2,{"$f":"IF(B2=\"\",\"\",RAND())","v":0.87288526483487783},{"$f":"IF(B2=\"\",\"\",IF(RANK(C2,$C$1:$C91)>1,\"\",ROW(B2)))","v":""},{"$f":"INDEX($B$1:$B$90,E1)","v":4},{"$f":"IF(B11=\"\",A11,\"\")","v":""},{"$f":"IF(B12=\"\",A12,\"\")","v":""},{"$f":"IF(B13=\"\",A13,\"\")","v":""},{"$f":"IF(B14=\"\",A14,\"\")","v":""},{"$f":"IF(B15=\"\",A15,\"\")","v":""},{"$f":"IF(B16=\"\",A16,\"\")","v":""},{"$f":"IF(B17=\"\",A17,\"\")","v":""},{"$f":"IF(B18=\"\",A18,\"\")","v":""},{"$f":"IF(B19=\"\",A19,\"\")","v":""},{"$f":"IF(B20=\"\",A20,\"\")","v":""},"B","I","N","G","O",null,"B","I","N","G","O",null,"B","I","N","G","O",null,"B","I","N","G","O"]
[3,3,0.76092860192109069,{"$f":"IF(B3=\"\",\"\",IF(RANK(C3,$C$1:$C92)>1,\"\",ROW(B3)))","v":""},null,{"$f":"IF(B21=\"\",A21,\"\")","v":""},{"$f":"IF(B22=\"\",A22,\"\")","v":""},{"$f":"IF(B23=\"\",A23,\"\")","v":""},{"$f":"IF(B24=\"\",A24,\"\")","v":""},{"$f":"IF(B25=\"\",A25,\"\")","v":""},{"$f":"IF(B26=\"\",A26,\"\")","v":""},{"$f":"IF(B27=\"\",A27,\"\")","v":""},{"$f":"IF(B28=\"\",A28,\"\")","v":""},{"$f":"IF(B29=\"\",A29,\"\")","v":""},{"$f":"IF(B30=\"\",A30,\"\")","v":""},2,16,31,46,61,null,10,18,36,51,64,null,2,25,41,46,70,null,9,23,35,48,65]
[4,4,0.99798818620734497,{"$f":"IF(B4=\"\",\"\",IF(RANK(C4,$C$1:$C93)>1,\"\",ROW(B4)))","v":4},null,{"$f":"IF(B31=\"\",A31,\"\")","v":""},{"$f":"IF(B32=\"\",A32,\"\")","v":""},{"$f":"IF(B33=\"\",A33,\"\")","v":""},{"$f":"IF(B34=\"\",A34,\"\")","v":""},{"$f":"IF(B35=\"\",A35,\"\")","v":""},{"$f":"IF(B36=\"\",A36,\"\")","v":""},{"$f":"IF(B37=\"\",A37,\"\")","v":""},{"$f":"IF(B38=\"\",A38,\"\")","v":""},{"$f":"IF(B39=\"\",A39,\"\")","v":""},{"$f":"IF(B40=\"\",A40,\"\")","v":""},8,19,34,51,71,null,13,20,33,48,68,null,6,22,34,57,74,null,6,28,39,52,71]
[5,5,0.58656174254881865,{"$f":"IF(B5=\"\",\"\",IF(RANK(C5,$C$1:$C94)>1,\"\",ROW(B5)))","v":""},null,{"$f":"IF(B41=\"\",A41,\"\")","v":""},{"$f":"IF(B42=\"\",A42,\"\")","v":""},{"$f":"IF(B43=\"\",A43,\"\")","v":""},{"$f":"IF(B44=\"\",A44,\"\")","v":""},{"$f":"IF(B45=\"\",A45,\"\")","v":""},{"$f":"IF(B46=\"\",A46,\"\")","v":""},{"$f":"IF(B47=\"\",A47,\"\")","v":""},{"$f":"IF(B48=\"\",A48,\"\")","v":""},{"$f":"IF(B49=\"\",A49,\"\")","v":""},{"$f":"IF(B50=\"\",A50,\"\")","v":""},4,25,null,55,69,null,3,28,null,49,65,null,14,18,null,58,75,null,13,17,null,58,68]
[6,6,0.59438954380353015,{"$f":"IF(B6=\"\",\"\",IF(RANK(C6,$C$1:$C95)>1,\"\",ROW(B6)))","v":""},null,{"$f":"IF(B51=\"\",A51,\"\")","v":""},{"$f":"IF(B52=\"\",A52,\"\")","v":""},{"$f":"IF(B53=\"\",A53,\"\")","v":""},{"$f":"IF(B54=\"\",A54,\"\")","v":""},{"$f":"IF(B55=\"\",A55,\"\")","v":""},{"$f":"IF(B56=\"\",A56,\"\")","v":""},{"$f":"IF(B57=\"\",A57,\"\")","v":""},{"$f":"IF(B58=\"\",A58,\"\")","v":""},{"$f":"IF(B59=\"\",A59,\"\")","v":""},{"$f":"IF(B60=\"\",A60,\"\")","v":""},13,27,41,57,74,null,15,23,45,52,70,null,5,27,44,52,71,null,7,19,38,50,69]
[7,7,0.50997695160903989,{"$f":"IF(B7=\"\",\"\",IF(RANK(C7,$C$1:$C96)>1,\"\",ROW(B7)))","v":""},null,{"$f":"IF(B61=\"\",A61,\"\")","v":""},{"$f":"IF(B62=\"\",A62,\"\")","v":""},{"$f":"IF(B63=\"\",A63,\"\")","v":""},{"$f":"IF(B64=\"\",A64,\"\")","v":""},{"$f":"IF(B65=\"\",A65,\"\")","v":""},{"$f":"IF(B66=\"\",A66,\"\")","v":""},{"$f":"IF(B67=\"\",A67,\"\")","v":""},{"$f":"IF(B68=\"\",A68,\"\")","v":""},{"$f":"IF(B69=\"\",A69,\"\")","v":""},{"$f":"IF(B70=\"\",A70,\"\")","v":""},15,30,45,48,65,null,9,19,39,53,66,null,7,26,40,49,67,null,1,20,32,51,66]
[8,8,0.4181444173490465,{"$f":"IF(B8=\"\",\"\",IF(RANK(C8,$C$1:$C97)>1,\"\",ROW(B8)))","v":""},null,{"$f":"IF(B71=\"\",A71,\"\")","v":""},{"$f":"IF(B72=\"\",A72,\"\")","v":""},{"$f":"IF(B73=\"\",A73,\"\")","v":""},{"$f":"IF(B74=\"\",A74,\"\")","v":""},{"$f":"IF(B75=\"\",A75,\"\")","v":""},"X","X","X","X","X"]
[9,9,0.39710178137112939,{"$f":"IF(B9=\"\",\"\",IF(RANK(C9,$C$1:$C98)>1,\"\",ROW(B9)))","v":""}]
[10,10,0.3851697568631488,{"$f":"IF(B10=\"\",\"\",IF(RANK(C10,$C$1:$C99)>1,\"\",ROW(B10)))","v":""},null,null,null,null,null,null,null,null,null,null,null,null,null,{"$f":"5","v":5},null,null,null,null,null,{"$f":"6","v":6},null,null,null,null,null,{"$f":"7","v":7},null,null,null,null,null,{"$f":"8","v":8}]
[11,11,0.89491606732207063,{"$f":"IF(B11=\"\",\"\",IF(RANK(C11,$C$1:$C100)>1,\"\",ROW(B11)))","v":""},null,null,null,null,null,null,null,null,null,null,null,"B","I","N","G","O",null,"B","I","N","G","O",null,"B","I","N","G","O",null,"B","I","N","G","O"]
[12,12,0.60152665531611094,{"$f":"IF(B12=\"\",\"\",IF(RANK(C12,$C$1:$C101)>1,\"\",ROW(B12)))","v":""},null,null,null,null,null,null,null,null,null,null,null,8,23,39,47,71,null,12,23,43,56,62,null,4,19,40,56,70,null,15,28,45,58,72]
[13,13,0.28103133366886324,{"$f":"IF(B13=\"\",\"\",IF(RANK(C13,$C$1:$C102)>1,\"\",ROW(B13)))","v":""},null,null,null,null,null,null,null,null,null,null,null,10,26,43,58,70,null,8,25,37,57,69,null,3,21,31,58,64,null,3,21,33,49,64]
[14,14,0.46120212899555069,{"$f":"IF(B14=\"\",\"\",IF(RANK(C14,$C$1:$C103)>1,\"\",ROW(B14)))","v":""},null,null,null,null,null,null,null,null,null,null,null,5,17,null,54,75,null,11,24,null,51,70,null,14,25,null,51,68,null,11,16,null,59,61]
[15,15,0.65581002778320852,{"$f":"IF(B15=\"\",\"\",IF(RANK(C15,$C$1:$C104)>1,\"\",ROW(B15)))","v":""},null,null,null,null,null,null,null,null,null,null,null,11,29,42,53,72,null,6,28,33,47,63,null,2,18,39,54,74,null,4,24,42,48,75]
[16,16,0.24455707017989659,{"$f":"IF(B16=\"\",\"\",IF(RANK(C16,$C$1:$C105)>1,\"\",ROW(B16)))","v":""},null,null,null,null,null,null,null,null,null,null,null,13,27,32,59,65,null,1,29,31,49,64,null,7,20,36,49,73,null,6,18,44,53,67]
[17,17,0.58546439270014794,{"$f":"IF(B17=\"\",\"\",IF(RANK(C17,$C$1:$C106)>1,\"\",ROW(B17)))","v":""}]
[18,18,0.21383419128468095,{"$f":"IF(B18=\"\",\"\",IF(RANK(C18,$C$1:$C107)>1,\"\",ROW(B18)))","v":""}]
[19,19,0.90947290407773007,{"$f":"IF(B19=\"\",\"\",IF(RANK(C19,$C$1:$C108)>1,\"\",ROW(B19)))","v":""},null,null,null,null,null,null,null,null,null,null,null,null,null,{"$f":"9","v":9},null,null,null,null,null,{"$f":"10","v":10},null,null,null,null,null,{"$f":"11","v":11},null,null,null,null,null,{"$f":"12","v":12}]
[20,20,0.30677500412346304,{"$f":"IF(B20=\"\",\"\",IF(RANK(C20,$C$1:$C109)>1,\"\",ROW(B20)))","v":""},null,null,null,null,null,null,null,null,null,null,null,"B","I","N","G","O",null,"B","I","N","G","O",null,"B","I","N","G","O",null,"B","I","N","G","O"]
[21,21,0.16304429478497662,{"$f":"IF(B21=\"\",\"\",IF(RANK(C21,$C$1:$C110)>1,\"\",ROW(B21)))","v":""},null,null,null,null,null,null,null,null,null,null,null,7,19,32,49,65,null,12,22,33,46,75,null,5,19,44,55,67,null,1,24,43,51,68]
[22,22,0.71279442387717384,{"$f":"IF(B22=\"\",\"\",IF(RANK(C22,$C$1:$C111)>1,\"\",ROW(B22)))","v":""},null,null,null,null,null,null,null,null,null,null,null,5,25,37,54,66,null,2,18,37,47,71,null,2,17,36,51,63,null,11,30,41,49,63]
[23,23,0.11959389114747376,{"$f":"IF(B23=\"\",\"\",IF(RANK(C23,$C$1:$C112)>1,\"\",ROW(B23)))","v":""},null,null,null,null,null,null,null,null,null,null,null,2,20,null,56,71,null,8,17,null,53,67,null,11,21,null,53,73,null,10,29,null,57,67]
[24,24,0.89709169655409848,{"$f":"IF(B24=\"\",\"\",IF(RANK(C24,$C$1:$C113)>1,\"\",ROW(B24)))","v":""},null,null,null,null,null,null,null,null,null,null,null,14,16,33,51,61,null,14,27,42,52,64,null,9,24,34,49,74,null,6,20,36,55,70]
[25,25,0.60210731339475343,{"$f":"IF(B25=\"\",\"\",IF(RANK(C25,$C$1:$C114)>1,\"\",ROW(B25)))","v":""},null,null,null,null,null,null,null,null,null,null,null,1,28,45,57,70,null,5,16,38,48,73,null,7,22,41,54,62,null,7,26,40,53,64]
[26,26,0.81221901224273663,{"$f":"IF(B26=\"\",\"\",IF(RANK(C26,$C$1:$C115)>1,\"\",ROW(B26)))","v":""}]
[27,27,0.38331114791575571,{"$f":"IF(B27=\"\",\"\",IF(RANK(C27,$C$1:$C116)>1,\"\",ROW(B27)))","v":""}]
[28,28,0.78969262600112988,{"$f":"IF(B28=\"\",\"\",IF(RANK(C28,$C$1:$C117)>1,\"\",ROW(B28)))","v":""},null,null,null,null,null,null,null,null,null,null,null,null,null,{"$f":"13","v":13},null,null,null,null,null,{"$f":"14","v":14},null,null,null,null,null,{"$f":"15","v":15},null,null,null,null,null,{"$f":"16","v":16}]
[29,29,0.99215521471940515,{"$f":"IF(B29=\"\",\"\",IF(RANK(C29,$C$1:$C118)>1,\"\",ROW(B29)))","v":""},null,null,null,null,null,null,null,null,null,null,null,"B","I","N","G","O",null,"B","I","N","G","O",null,"B","I","N","G","O",null,"B","I","N","G","O"]
[30,30,0.21377091935871961,{"$f":"IF(B30=\"\",\"\",IF(RANK(C30,$C$1:$C119)>1,\"\",ROW(B30)))","v":""},null,null,null,null,null,null,null,null,null,null,null,10,19,31,46,71,null,6,28,43,58,62,null,7,20,36,46,72,null,2,30,35,50,66]
[31,31,0.73807142338906517,{"$f":"IF(B31=\"\",\"\",IF(RANK(C31,$C$1:$C120)>1,\"\",ROW(B31)))","v":""},null,null,null,null,null,null,null,null,null,null,null,13,24,42,49,74,null,14,26,31,46,67,null,1,17,44,58,71,null,7,24,36,48,70]
[32,32,4.0006398713828051E-2,{"$f":"IF(B32=\"\",\"\",IF(RANK(C32,$C$1:$C121)>1,\"\",ROW(B32)))","v":""},null,null,null,null,null,null,null,null,null,null,null,14,27,null,51,65,null,3,29,null,54,61,null,6,25,null,52,74,null,4,18,null,49,62]
[33,33,0.22788860974654712,{"$f":"IF(B33=\"\",\"\",IF(RANK(C33,$C$1:$C122)>1,\"\",ROW(B33)))","v":""},null,null,null,null,null,null,null,null,null,null,null,8,29,44,58,73,null,9,24,35,57,70,null,5,16,43,50,67,null,5,20,37,59,72]
[34,34,0.82768446110034855,{"$f":"IF(B34=\"\",\"\",IF(RANK(C34,$C$1:$C123)>1,\"\",ROW(B34)))","v":""},null,null,null,null,null,null,null,null,null,null,null,2,25,43,48,66,null,8,27,34,53,65,null,12,27,33,47,62,null,10,23,42,47,65]
[35,35,0.88852441137730975,{"$f":"IF(B35=\"\",\"\",IF(RANK(C35,$C$1:$C124)>1,\"\",ROW(B35)))","v":""}]
[36,36,0.44178580601023865,{"$f":"IF(B36=\"\",\"\",IF(RANK(C36,$C$1:$C125)>1,\"\",ROW(B36)))","v":""}]
[37,37,0.432509692773004,{"$f":"IF(B37=\"\",\"\",IF(RANK(C37,$C$1:$C126)>1,\"\",ROW(B37)))","v":""}]
[38,38,0.91563266154729794,{"$f":"IF(B38=\"\",\"\",IF(RANK(C38,$C$1:$C127)>1,\"\",ROW(B38)))","v":""}]
[39,39,4.9575129406158269E-2,{"$f":"IF(B39=\"\",\"\",IF(RANK(C39,$C$1:$C128)>1,\"\",ROW(B39)))","v":""}]
[40,40,0.47485735281265506,{"$f":"IF(B40=\"\",\"\",IF(RANK(C40,$C$1:$C129)>1,\"\",ROW(B40)))","v":""}]
[41,41,0.87744253137290451,{"$f":"IF(B41=\"\",\"\",IF(RANK(C41,$C$1:$C130)>1,\"\",ROW(B41)))","v":""}]
[42,42,0.33083245554502161,{"$f":"IF(B42=\"\",\"\",IF(RANK(C42,$C$1:$C131)>1,\"\",ROW(B42)))","v":""}]
[43,43,5.6034952913862957E-2,{"$f":"IF(B43=\"\",\"\",IF(RANK(C43,$C$1:$C132)>1,\"\",ROW(B43)))","v":""}]
[44,44,0.49482334526277816,{"$f":"IF(B44=\"\",\"\",IF(RANK(C44,$C$1:$C133)>1,\"\",ROW(B44)))","v":""}]
[45,45,0.44775034785306278,{"$f":"IF(B45=\"\",\"\",IF(RANK(C45,$C$1:$C134)>1,\"\",ROW(B45)))","v":""}]
[46,46,0.42667153622642939,{"$f":"IF(B46=\"\",\"\",IF(RANK(C46,$C$1:$C135)>1,\"\",ROW(B46)))","v":""}]
[47,47,0.60919654000481926,{"$f":"IF(B47=\"\",\"\",IF(RANK(C47,$C$1:$C136)>1,\"\",ROW(B47)))","v":""}]
[48,48,0.66006130790302697,{"$f":"IF(B48=\"\",\"\",IF(RANK(C48,$C$1:$C137)>1,\"\",ROW(B48)))","v":""}]
[49,49,0.85493635112577604,{"$f":"IF(B49=\"\",\"\",IF(RANK(C49,$C$1:$C138)>1,\"\",ROW(B49)))","v":""}]
[50,50,0.57578660259616643,{"$f":"IF(B50=\"\",\"\",IF(RANK(C50,$C$1:$C139)>1,\"\",ROW(B50)))","v":""}]
[51,51,0.41789690410406999,{"$f":"IF(B51=\"\",\"\",IF(RANK(C51,$C$1:$C140)>1,\"\",ROW(B51)))","v":""}]
[52,52,3.1122705885680668E-2,{"$f":"IF(B52=\"\",\"\",IF(RANK(C52,$C$1:$C141)>1,\"\",ROW(B52)))","v":""}]
[53,53,0.30754495439943075,{"$f":"IF(B53=\"\",\"\",IF(RANK(C53,$C$1:$C142)>1,\"\",ROW(B53)))","v":""}]
[54,54,1.0065345335488751E-2,{"$f":"IF(B54=\"\",\"\",IF(RANK(C54,$C$1:$C143)>1,\"\",ROW(B54)))","v":""}]
[55,55,0.80150630404165157,{"$f":"IF(B55=\"\",\"\",IF(RANK(C55,$C$1:$C144)>1,\"\",ROW(B55)))","v":""}]
[56,56,0.87552281367375695,{"$f":"IF(B56=\"\",\"\",IF(RANK(C56,$C$1:$C145)>1,\"\",ROW(B56)))","v":""}]
[57,57,0.56561795544595217,{"$f":"IF(B57=\"\",\"\",IF(RANK(C57,$C$1:$C146)>1,\"\",ROW(B57)))","v":""}]
[58,58,3.2965209104768967E-2,{"$f":"IF(B58=\"\",\"\",IF(RANK(C58,$C$1:$C147)>1,\"\",ROW(B58)))","v":""}]
[59,59,0.47384806687967862,{"$f":"IF(B59=\"\",\"\",IF(RANK(C59,$C$1:$C148)>1,\"\",ROW(B59)))","v":""}]
[60,60,0.78325593456436571,{"$f":"IF(B60=\"\",\"\",IF(RANK(C60,$C$1:$C149)>1,\"\",ROW(B60)))","v":""}]
[61,61,0.19013867871261425,{"$f":"IF(B61=\"\",\"\",IF(RANK(C61,$C$1:$C150)>1,\"\",ROW(B61)))","v":""}]
[62,62,0.53049051092034394,{"$f":"IF(B62=\"\",\"\",IF(RANK(C62,$C$1:$C151)>1,\"\",ROW(B62)))","v":""}]
[63,63,0.27906632319905877,{"$f":"IF(B63=\"\",\"\",IF(RANK(C63,$C$1:$C152)>1,\"\",ROW(B63)))","v":""}]
[64,64,0.4137842769685578,{"$f":"IF(B64=\"\",\"\",IF(RANK(C64,$C$1:$C153)>1,\"\",ROW(B64)))","v":""}]
[65,65,0.89215888374651631,{"$f":"IF(B65=\"\",\"\",IF(RANK(C65,$C$1:$C154)>1,\"\",ROW(B65)))","v":""}]
[66,66,{"$f":"IF(B66=\"\",\"\",RAND())","v":0.98356997332054208},{"$f":"IF(B66=\"\",\"\",IF(RANK(C66,$C$1:$C155)>1,\"\",ROW(B66)))","v":""}]
[67,67,0.67031500227294594,{"$f":"IF(B67=\"\",\"\",IF(RANK(C67,$C$1:$C156)>1,\"\",ROW(B67)))","v":""}]
[68,68,0.4312379401210461,{"$f":"IF(B68=\"\",\"\",IF(RANK(C68,$C$1:$C157)>1,\"\",ROW(B68)))","v":""}]
[69,69,0.27881792718943854,{"$f":"IF(B69=\"\",\"\",IF(RANK(C69,$C$1:$C158)>1,\"\",ROW(B69)))","v":""}]
[70,70,0.17617540071273796,{"$f":"IF(B70=\"\",\"\",IF(RANK(C70,$C$1:$C159)>1,\"\",ROW(B70)))","v":""}]
[71,71,0.34899250713757035,{"$f":"IF(B71=\"\",\"\",IF(RANK(C71,$C$1:$C160)>1,\"\",ROW(B71)))","v":""}]
[72,72,5.6973415787589965E-2,{"$f":"IF(B72=\"\",\"\",IF(RANK(C72,$C$1:$C161)>1,\"\",ROW(B72)))","v":""}]
[73,73,0.78008460435418137,{"$f":"IF(B73=\"\",\"\",IF(RANK(C73,$C$1:$C162)>1,\"\",ROW(B73)))","v":""}]
[74,74,0.30474637463796805,{"$f":"IF(B74=\"\",\"\",IF(RANK(C74,$C$1:$C163)>1,\"\",ROW(B74)))","v":""}]
[75,75,0.30350751531276077,{"$f":"IF(B75=\"\",\"\",IF(RANK(C75,$C$1:$C164)>1,\"\",ROW(B75)))","v":""}]

{"sheet":"Controle","index":4,"n_rows":32,"n_cols":13,"rows_kept":32,"cut":false,"hidden":false,"merged":[]}
["                                                 ",null,"        ",null,null,"Getrokken getallen"]
[null,1,{"$f":"Bingo!F1","v":""},null,null,null,26,{"$f":"Bingo!K3","v":""},null,null,null,51,{"$f":"Bingo!F6","v":""}]
[null,2,{"$f":"Bingo!G1","v":""},null,null,null,27,{"$f":"Bingo!L3","v":""},null,null,null,52,{"$f":"Bingo!G6","v":""}]
[null,3,{"$f":"Bingo!H1","v":""},null,null,null,28,{"$f":"Bingo!M3","v":""},null,null,null,53,{"$f":"Bingo!H6","v":""}]
[null,4,{"$f":"Bingo!I1","v":""},null,null,null,29,{"$f":"Bingo!N3","v":""},null,null,null,54,{"$f":"Bingo!I6","v":""}]
[null,5,{"$f":"Bingo!J1","v":""},null,null,null,30,{"$f":"Bingo!O3","v":""},null,null,null,55,{"$f":"Bingo!J6","v":""}]
[null,6,{"$f":"Bingo!K1","v":""},null,null,null,31,{"$f":"Bingo!F4","v":""},null,null,null,56,{"$f":"Bingo!K6","v":""}]
[null,7,{"$f":"Bingo!L1","v":""},null,null,null,32,{"$f":"Bingo!G4","v":""},null,null,null,57,{"$f":"Bingo!L6","v":""}]
[null,8,{"$f":"Bingo!M1","v":""},null,null,null,33,{"$f":"Bingo!H4","v":""},null,null,null,58,{"$f":"Bingo!M6","v":""}]
[null,9,{"$f":"Bingo!N1","v":""},null,null,null,34,{"$f":"Bingo!I4","v":""},null,null,null,59,{"$f":"Bingo!N6","v":""}]
[null,10,{"$f":"Bingo!O1","v":""},null,null,null,35,{"$f":"Bingo!J4","v":""},null,null,null,60,{"$f":"Bingo!O6","v":""}]
[null,11,{"$f":"Bingo!F2","v":""},null,null,null,36,{"$f":"Bingo!K4","v":""},null,null,null,61,{"$f":"Bingo!F7","v":""}]
[null,12,{"$f":"Bingo!G2","v":""},null,null,null,37,{"$f":"Bingo!L4","v":""},null,null,null,62,{"$f":"Bingo!G7","v":""}]
[null,13,{"$f":"Bingo!H2","v":""},null,null,null,38,{"$f":"Bingo!M4","v":""},null,null,null,63,{"$f":"Bingo!H7","v":""}]
[null,14,{"$f":"Bingo!I2","v":""},null,null,null,39,{"$f":"Bingo!N4","v":""},null,null,null,64,{"$f":"Bingo!I7","v":""}]
[null,15,{"$f":"Bingo!J2","v":""},null,null,null,40,{"$f":"Bingo!O4","v":""},null,null,null,65,{"$f":"Bingo!J7","v":""}]
[null,16,{"$f":"Bingo!K2","v":""},null,null,null,41,{"$f":"Bingo!F5","v":""},null,null,null,66,{"$f":"Bingo!K7","v":""}]
[null,17,{"$f":"Bingo!L2","v":""},null,null,null,42,{"$f":"Bingo!G5","v":""},null,null,null,67,{"$f":"Bingo!L7","v":""}]
[null,18,{"$f":"Bingo!M2","v":""},null,null,null,43,{"$f":"Bingo!H5","v":""},null,null,null,68,{"$f":"Bingo!M7","v":""}]
[null,19,{"$f":"Bingo!N2","v":""},null,null,null,44,{"$f":"Bingo!I5","v":""},null,null,null,69,{"$f":"Bingo!N7","v":""}]
[null,20,{"$f":"Bingo!O2","v":""},null,null,null,45,{"$f":"Bingo!J5","v":""},null,null,null,70,{"$f":"Bingo!O7","v":""}]
[null,21,{"$f":"Bingo!F3","v":""},null,null,null,46,{"$f":"Bingo!K5","v":""},null,null,null,71,{"$f":"Bingo!F8","v":""}]
[null,22,{"$f":"Bingo!G3","v":""},null,null,null,47,{"$f":"Bingo!L5","v":""},null,null,null,72,{"$f":"Bingo!G8","v":""}]
[null,23,{"$f":"Bingo!H3","v":""},null,null,null,48,{"$f":"Bingo!M5","v":""},null,null,null,73,{"$f":"Bingo!H8","v":""}]
[null,24,{"$f":"Bingo!I3","v":""},null,null,null,49,{"$f":"Bingo!N5","v":""},null,null,null,74,{"$f":"Bingo!I8","v":""}]
[null,25,{"$f":"Bingo!J3","v":""},null,null,null,50,{"$f":"Bingo!O5","v":""},null,null,null,75,{"$f":"Bingo!J8","v":""}]
[]
[null,"Kaartnummer:"]
[]
[null,"Naam:"]
[]
[null,"Datum:",{"$f":"TODAY()","v":"2021-02-24"}]

{"sheet":"Voorbeelden","index":5,"n_rows":36,"n_cols":30,"rows_kept":36,"cut":false,"hidden":false,"merged":[]}
[null,null,null,null,null,null,null,null,null,null,null,null,null,null,null,null,null,null,null,"B","I","N","G","O",null,"B","I","N","G","O"]
[]
[]
[]
[]
[]
["Anker",null,"Boom",null,"Glas Martini",null,"Leeg glas",null,"Grote diamant",null,"Kleine diamant",null,"Grote vlieger",null,"Kleine vlieger",null,"Letter X"]
[null,null,null,null,null,null,null,null,null,null,null,null,null,null,null,null,null,null,null,"B","I","N","G","O",null,"B","I","N","G","O"]
[]
[]
[]
[]
[]
[]
["Hart",null,"Huis",null,"Klaverblad",null,"Lucky Seven",null,"Lucky Dertien",null,"Paraplu",null,"Pijl",null,"Plusteken",null,"Letter Y"]
[null,null,null,null,null,null,null,null,null,null,null,null,null,null,null,null,null,null,null,"B","I","N","G","O",null,"B","I","N","G","O"]
[]
[]
[]
[]
[]
["Vis",null,"Letter A",null,"Letter B",null,"Letter C",null,"Letter D",null,"Letter E",null,"Letter F",null,"Letter G",null,"Letter Z"]
[null,null,null,null,null,null,null,null,null,null,null,null,null,null,null,null,null,null,null,"B","I","N","G","O",null,"B","I","N","G","O"]
[]
[]
[]
[]
[]
["Letter H",null,"Letter I",null,"Letter J",null,"Letter K",null,"Letter L",null,"Letter M",null,"Letter N",null,"Letter O"]
[null,null,null,null,null,null,null,null,null,null,null,null,null,null,null,null,null,null,null,"B","I","N","G","O",null,"B","I","N","G","O"]
[]
[]
[]
[]
[]
["Letter P",null,"Letter Q",null,"Letter R",null,"Letter S",null,"Letter T",null,"Letter U",null,"Letter V",null,"Letter W"]

{"sheet":"Andere Bingo","index":6,"n_rows":30,"n_cols":46,"rows_kept":30,"cut":false,"hidden":false,"merged":[]}
["Getrokken getal(len)",null,null,null,null,{"$f":"RANDBETWEEN(1,74)","v":1}]
[44,null,null,null,null,"B","I","N","G","O",null,"B","I","N","G","O",null,"B","I","N","G","O",null,"B","I","N","G","O",null,"B","I","N","G","O",null,"B","I","N","G","O",null,"B","I","N","G","O"]
[null,null,null,null,null,4,23,31,58,67,null,11,29,42,53,68,null,10,25,36,56,66,null,12,18,34,55,72,null,3,17,35,50,63,null,7,29,40,47,62,null,13,18,34,47,70]
[null,null,null,null,null,14,19,33,59,71,null,8,19,37,55,74,null,3,20,33,50,73,null,10,27,45,56,71,null,14,19,44,60,70,null,9,23,33,59,74,null,4,27,31,50,68]
[null,null,null,null,null,5,26,null,46,73,null,9,17,null,59,75,null,4,23,null,53,68,null,6,24,null,53,68,null,7,21,null,5,74,null,10,26,null,48,75,null,10,17,null,46,62]
[null,null,null,null,null,12,16,41,48,65,null,12,24,43,57,62,null,2,19,39,59,70,null,4,16,44,54,69,null,1,22,45,51,65,null,5,24,32,53,66,null,8,19,45,51,66]
[null,null,null,null,null,15,22,42,49,64,null,2,28,39,49,70,null,7,16,45,55,64,null,3,23,33,51,64,null,12,27,34,56,72,null,11,30,41,60,71,null,14,24,37,55,69]
[]
[]
[]
[null,null,null,null,null,"B","I","N","G","O",null,"B","I","N","G","O",null,"B","I","N","G","O",null,"B","I","N","G","O",null,"B","I","N","G","O",null,"B","I","N","G","O",null,"B","I","N","G","O"]
[null,null,null,null,null,1,19,40,58,69,null,3,24,33,51,72,null,9,21,42,48,74,null,14,29,40,58,64,null,2,19,43,55,62,null,8,19,35,58,63]
[null,null,null,null,null,15,16,42,49,70,null,8,17,34,59,62,null,2,27,35,55,70,null,3,21,39,55,63,null,7,27,39,54,1,null,12,20,41,60,61]
[null,null,null,null,null,14,25,null,59,65,null,13,28,null,50,67,null,11,28,null,57,72,null,15,28,null,54,73,null,5,16,null,51,73,null,9,25,null,48,70]
[null,null,null,null,null,13,27,36,57,62,null,6,30,43,55,61,null,5,24,34,59,63,null,8,16,32,60,74,null,13,29,31,47,65,null,6,17,40,59,74]
[null,null,null,null,null,12,24,31,48,63,null,15,16,36,58,73,null,13,29,43,46,68,null,11,22,37,52,61,null,10,28,35,49,75,null,10,18,31,53,69]
[]
[]
[]
[null,null,null,null,null,1,2,3,4,5,6,7,8,9,10,null,null,"B","I","N","G","O",null,"B","I","N","G","O",null,"B","I","N","G","O",null,"B","I","N","G","O",null,"B","I","N","G","O"]
["Maakt A2:E16 leeg",null,null,null,null,11,12,13,14,15,16,17,18,19,20]
[null,null,null,null,null,21,22,23,24,25,26,27,28,29,30]
[null,null,null,null,null,31,32,33,34,35,36,37,38,39,40]
[null,null,null,null,null,41,42,43,44,45,46,47,48,49,50]
[null,null,null,null,null,51,52,53,54,55,56,57,58,59,60]
[null,null,null,null,null,61,62,63,64,65,66,67,68,69,70]
[null,null,null,null,null,71,72,73,74,75]
[]
["Typ in de cellen A2:E16 het getrokken getal(F1)"]
["Onder elkaar of naast elkaar"]